BEGIN:VCALENDAR
VERSION:2.0
PRODID:-//La Voz De Ibiza - ECPv6.15.20//NONSGML v1.0//EN
CALSCALE:GREGORIAN
METHOD:PUBLISH
X-WR-CALNAME:La Voz De Ibiza
X-ORIGINAL-URL:https://lavozdeibiza.com
X-WR-CALDESC:Eventos para La Voz De Ibiza
REFRESH-INTERVAL;VALUE=DURATION:PT1H
X-Robots-Tag:noindex
X-PUBLISHED-TTL:PT1H
BEGIN:VTIMEZONE
TZID:Europe/Madrid
BEGIN:DAYLIGHT
TZOFFSETFROM:+0100
TZOFFSETTO:+0200
TZNAME:CEST
DTSTART:20250330T010000
END:DAYLIGHT
BEGIN:STANDARD
TZOFFSETFROM:+0200
TZOFFSETTO:+0100
TZNAME:CET
DTSTART:20251026T010000
END:STANDARD
BEGIN:DAYLIGHT
TZOFFSETFROM:+0100
TZOFFSETTO:+0200
TZNAME:CEST
DTSTART:20260329T010000
END:DAYLIGHT
BEGIN:STANDARD
TZOFFSETFROM:+0200
TZOFFSETTO:+0100
TZNAME:CET
DTSTART:20261025T010000
END:STANDARD
BEGIN:DAYLIGHT
TZOFFSETFROM:+0100
TZOFFSETTO:+0200
TZNAME:CEST
DTSTART:20270328T010000
END:DAYLIGHT
BEGIN:STANDARD
TZOFFSETFROM:+0200
TZOFFSETTO:+0100
TZNAME:CET
DTSTART:20271031T010000
END:STANDARD
END:VTIMEZONE
BEGIN:VEVENT
DTSTART;TZID=Europe/Madrid:20260502T091500
DTEND;TZID=Europe/Madrid:20260502T091500
DTSTAMP:20260422T065840
CREATED:20260417T121645Z
LAST-MODIFIED:20260417T121645Z
UID:10026183-1777713300-1777713300@lavozdeibiza.com
SUMMARY:The After Workout Club en Ibiza: fitness\, desayuno y DJ en The Unexpected Ibiza Hotel
DESCRIPTION:The Unexpected Ibiza Hotel lanza The After Workout Club\, una nueva propuesta mensual que combina deporte\, desayuno\, música y comunidad en un entorno exclusivo. \nEl evento se celebrará el primer sábado de cada mes durante la temporada de verano 2026. \nLa experiencia arranca con una sesión de entrenamiento de aproximadamente una hora\, a elegir entre mat pilates\, running o walking & stretching\, guiadas por el equipo de OWN Fitness y adaptadas a todos los niveles. \nTras la actividad\, el lobby del hotel se transforma en un espacio social con desayuno completo\, bebidas y DJ set en directo\, creando un ambiente relajado y cuidado al detalle. \nLa cita inaugural tendrá lugar el sábado 2 de mayo\, y continuará el 6 de junio\, 4 de julio\, 1 de agosto\, 5 de septiembre y 3 de octubre. \nLa inscripción cuesta 24 € (incluye actividad\, desayuno y donación solidaria) y requiere reserva previa. \nUna propuesta diferente para empezar el fin de semana en Ibiza con bienestar\, música y buena energía.
URL:https://lavozdeibiza.com/event/the-after-workout-club-en-ibiza-fitness-desayuno-y-dj-en-the-unexpected-ibiza-hotel/2026-05-02/
LOCATION:The Unexpected Ibiza Hotel\, Carretera Playa D'en Bossa\, 10\, Playa d'en Bossa\,\, Sant Josep de sa Talaia\, Islas Baleares\, Spain
CATEGORIES:BIENESTAR Y DEPORTE
ATTACH;FMTTYPE=image/jpeg:https://lavozdeibiza.com/wp-content/uploads/2026/04/the-after.jpg
END:VEVENT
BEGIN:VEVENT
DTSTART;TZID=Europe/Madrid:20260606T091500
DTEND;TZID=Europe/Madrid:20260606T091500
DTSTAMP:20260422T065840
CREATED:20260417T121645Z
LAST-MODIFIED:20260417T121645Z
UID:10026184-1780737300-1780737300@lavozdeibiza.com
SUMMARY:The After Workout Club en Ibiza: fitness\, desayuno y DJ en The Unexpected Ibiza Hotel
DESCRIPTION:The Unexpected Ibiza Hotel lanza The After Workout Club\, una nueva propuesta mensual que combina deporte\, desayuno\, música y comunidad en un entorno exclusivo. \nEl evento se celebrará el primer sábado de cada mes durante la temporada de verano 2026. \nLa experiencia arranca con una sesión de entrenamiento de aproximadamente una hora\, a elegir entre mat pilates\, running o walking & stretching\, guiadas por el equipo de OWN Fitness y adaptadas a todos los niveles. \nTras la actividad\, el lobby del hotel se transforma en un espacio social con desayuno completo\, bebidas y DJ set en directo\, creando un ambiente relajado y cuidado al detalle. \nLa cita inaugural tendrá lugar el sábado 2 de mayo\, y continuará el 6 de junio\, 4 de julio\, 1 de agosto\, 5 de septiembre y 3 de octubre. \nLa inscripción cuesta 24 € (incluye actividad\, desayuno y donación solidaria) y requiere reserva previa. \nUna propuesta diferente para empezar el fin de semana en Ibiza con bienestar\, música y buena energía.
URL:https://lavozdeibiza.com/event/the-after-workout-club-en-ibiza-fitness-desayuno-y-dj-en-the-unexpected-ibiza-hotel/2026-06-06/
LOCATION:The Unexpected Ibiza Hotel\, Carretera Playa D'en Bossa\, 10\, Playa d'en Bossa\,\, Sant Josep de sa Talaia\, Islas Baleares\, Spain
CATEGORIES:BIENESTAR Y DEPORTE
ATTACH;FMTTYPE=image/jpeg:https://lavozdeibiza.com/wp-content/uploads/2026/04/the-after.jpg
END:VEVENT
BEGIN:VEVENT
DTSTART;TZID=Europe/Madrid:20260704T091500
DTEND;TZID=Europe/Madrid:20260704T091500
DTSTAMP:20260422T065840
CREATED:20260417T121645Z
LAST-MODIFIED:20260417T121645Z
UID:10026185-1783156500-1783156500@lavozdeibiza.com
SUMMARY:The After Workout Club en Ibiza: fitness\, desayuno y DJ en The Unexpected Ibiza Hotel
DESCRIPTION:The Unexpected Ibiza Hotel lanza The After Workout Club\, una nueva propuesta mensual que combina deporte\, desayuno\, música y comunidad en un entorno exclusivo. \nEl evento se celebrará el primer sábado de cada mes durante la temporada de verano 2026. \nLa experiencia arranca con una sesión de entrenamiento de aproximadamente una hora\, a elegir entre mat pilates\, running o walking & stretching\, guiadas por el equipo de OWN Fitness y adaptadas a todos los niveles. \nTras la actividad\, el lobby del hotel se transforma en un espacio social con desayuno completo\, bebidas y DJ set en directo\, creando un ambiente relajado y cuidado al detalle. \nLa cita inaugural tendrá lugar el sábado 2 de mayo\, y continuará el 6 de junio\, 4 de julio\, 1 de agosto\, 5 de septiembre y 3 de octubre. \nLa inscripción cuesta 24 € (incluye actividad\, desayuno y donación solidaria) y requiere reserva previa. \nUna propuesta diferente para empezar el fin de semana en Ibiza con bienestar\, música y buena energía.
URL:https://lavozdeibiza.com/event/the-after-workout-club-en-ibiza-fitness-desayuno-y-dj-en-the-unexpected-ibiza-hotel/2026-07-04/
LOCATION:The Unexpected Ibiza Hotel\, Carretera Playa D'en Bossa\, 10\, Playa d'en Bossa\,\, Sant Josep de sa Talaia\, Islas Baleares\, Spain
CATEGORIES:BIENESTAR Y DEPORTE
ATTACH;FMTTYPE=image/jpeg:https://lavozdeibiza.com/wp-content/uploads/2026/04/the-after.jpg
END:VEVENT
BEGIN:VEVENT
DTSTART;TZID=Europe/Madrid:20260801T091500
DTEND;TZID=Europe/Madrid:20260801T091500
DTSTAMP:20260422T065840
CREATED:20260417T121645Z
LAST-MODIFIED:20260417T121645Z
UID:10026186-1785575700-1785575700@lavozdeibiza.com
SUMMARY:The After Workout Club en Ibiza: fitness\, desayuno y DJ en The Unexpected Ibiza Hotel
DESCRIPTION:The Unexpected Ibiza Hotel lanza The After Workout Club\, una nueva propuesta mensual que combina deporte\, desayuno\, música y comunidad en un entorno exclusivo. \nEl evento se celebrará el primer sábado de cada mes durante la temporada de verano 2026. \nLa experiencia arranca con una sesión de entrenamiento de aproximadamente una hora\, a elegir entre mat pilates\, running o walking & stretching\, guiadas por el equipo de OWN Fitness y adaptadas a todos los niveles. \nTras la actividad\, el lobby del hotel se transforma en un espacio social con desayuno completo\, bebidas y DJ set en directo\, creando un ambiente relajado y cuidado al detalle. \nLa cita inaugural tendrá lugar el sábado 2 de mayo\, y continuará el 6 de junio\, 4 de julio\, 1 de agosto\, 5 de septiembre y 3 de octubre. \nLa inscripción cuesta 24 € (incluye actividad\, desayuno y donación solidaria) y requiere reserva previa. \nUna propuesta diferente para empezar el fin de semana en Ibiza con bienestar\, música y buena energía.
URL:https://lavozdeibiza.com/event/the-after-workout-club-en-ibiza-fitness-desayuno-y-dj-en-the-unexpected-ibiza-hotel/2026-08-01/
LOCATION:The Unexpected Ibiza Hotel\, Carretera Playa D'en Bossa\, 10\, Playa d'en Bossa\,\, Sant Josep de sa Talaia\, Islas Baleares\, Spain
CATEGORIES:BIENESTAR Y DEPORTE
ATTACH;FMTTYPE=image/jpeg:https://lavozdeibiza.com/wp-content/uploads/2026/04/the-after.jpg
END:VEVENT
BEGIN:VEVENT
DTSTART;TZID=Europe/Madrid:20260905T091500
DTEND;TZID=Europe/Madrid:20260905T091500
DTSTAMP:20260422T065840
CREATED:20260417T121645Z
LAST-MODIFIED:20260417T121645Z
UID:10026187-1788599700-1788599700@lavozdeibiza.com
SUMMARY:The After Workout Club en Ibiza: fitness\, desayuno y DJ en The Unexpected Ibiza Hotel
DESCRIPTION:The Unexpected Ibiza Hotel lanza The After Workout Club\, una nueva propuesta mensual que combina deporte\, desayuno\, música y comunidad en un entorno exclusivo. \nEl evento se celebrará el primer sábado de cada mes durante la temporada de verano 2026. \nLa experiencia arranca con una sesión de entrenamiento de aproximadamente una hora\, a elegir entre mat pilates\, running o walking & stretching\, guiadas por el equipo de OWN Fitness y adaptadas a todos los niveles. \nTras la actividad\, el lobby del hotel se transforma en un espacio social con desayuno completo\, bebidas y DJ set en directo\, creando un ambiente relajado y cuidado al detalle. \nLa cita inaugural tendrá lugar el sábado 2 de mayo\, y continuará el 6 de junio\, 4 de julio\, 1 de agosto\, 5 de septiembre y 3 de octubre. \nLa inscripción cuesta 24 € (incluye actividad\, desayuno y donación solidaria) y requiere reserva previa. \nUna propuesta diferente para empezar el fin de semana en Ibiza con bienestar\, música y buena energía.
URL:https://lavozdeibiza.com/event/the-after-workout-club-en-ibiza-fitness-desayuno-y-dj-en-the-unexpected-ibiza-hotel/2026-09-05/
LOCATION:The Unexpected Ibiza Hotel\, Carretera Playa D'en Bossa\, 10\, Playa d'en Bossa\,\, Sant Josep de sa Talaia\, Islas Baleares\, Spain
CATEGORIES:BIENESTAR Y DEPORTE
ATTACH;FMTTYPE=image/jpeg:https://lavozdeibiza.com/wp-content/uploads/2026/04/the-after.jpg
END:VEVENT
BEGIN:VEVENT
DTSTART;TZID=Europe/Madrid:20261003T091500
DTEND;TZID=Europe/Madrid:20261003T091500
DTSTAMP:20260422T065840
CREATED:20260417T121645Z
LAST-MODIFIED:20260417T121645Z
UID:10026188-1791018900-1791018900@lavozdeibiza.com
SUMMARY:The After Workout Club en Ibiza: fitness\, desayuno y DJ en The Unexpected Ibiza Hotel
DESCRIPTION:The Unexpected Ibiza Hotel lanza The After Workout Club\, una nueva propuesta mensual que combina deporte\, desayuno\, música y comunidad en un entorno exclusivo. \nEl evento se celebrará el primer sábado de cada mes durante la temporada de verano 2026. \nLa experiencia arranca con una sesión de entrenamiento de aproximadamente una hora\, a elegir entre mat pilates\, running o walking & stretching\, guiadas por el equipo de OWN Fitness y adaptadas a todos los niveles. \nTras la actividad\, el lobby del hotel se transforma en un espacio social con desayuno completo\, bebidas y DJ set en directo\, creando un ambiente relajado y cuidado al detalle. \nLa cita inaugural tendrá lugar el sábado 2 de mayo\, y continuará el 6 de junio\, 4 de julio\, 1 de agosto\, 5 de septiembre y 3 de octubre. \nLa inscripción cuesta 24 € (incluye actividad\, desayuno y donación solidaria) y requiere reserva previa. \nUna propuesta diferente para empezar el fin de semana en Ibiza con bienestar\, música y buena energía.
URL:https://lavozdeibiza.com/event/the-after-workout-club-en-ibiza-fitness-desayuno-y-dj-en-the-unexpected-ibiza-hotel/2026-10-03/
LOCATION:The Unexpected Ibiza Hotel\, Carretera Playa D'en Bossa\, 10\, Playa d'en Bossa\,\, Sant Josep de sa Talaia\, Islas Baleares\, Spain
CATEGORIES:BIENESTAR Y DEPORTE
ATTACH;FMTTYPE=image/jpeg:https://lavozdeibiza.com/wp-content/uploads/2026/04/the-after.jpg
END:VEVENT
END:VCALENDAR