BEGIN:VCALENDAR
VERSION:2.0
PRODID:-//La Voz De Ibiza - ECPv6.15.20//NONSGML v1.0//EN
CALSCALE:GREGORIAN
METHOD:PUBLISH
X-WR-CALNAME:La Voz De Ibiza
X-ORIGINAL-URL:https://lavozdeibiza.com
X-WR-CALDESC:Eventos para La Voz De Ibiza
REFRESH-INTERVAL;VALUE=DURATION:PT1H
X-Robots-Tag:noindex
X-PUBLISHED-TTL:PT1H
BEGIN:VTIMEZONE
TZID:Europe/Madrid
BEGIN:DAYLIGHT
TZOFFSETFROM:+0100
TZOFFSETTO:+0200
TZNAME:CEST
DTSTART:20250330T010000
END:DAYLIGHT
BEGIN:STANDARD
TZOFFSETFROM:+0200
TZOFFSETTO:+0100
TZNAME:CET
DTSTART:20251026T010000
END:STANDARD
BEGIN:DAYLIGHT
TZOFFSETFROM:+0100
TZOFFSETTO:+0200
TZNAME:CEST
DTSTART:20260329T010000
END:DAYLIGHT
BEGIN:STANDARD
TZOFFSETFROM:+0200
TZOFFSETTO:+0100
TZNAME:CET
DTSTART:20261025T010000
END:STANDARD
BEGIN:DAYLIGHT
TZOFFSETFROM:+0100
TZOFFSETTO:+0200
TZNAME:CEST
DTSTART:20270328T010000
END:DAYLIGHT
BEGIN:STANDARD
TZOFFSETFROM:+0200
TZOFFSETTO:+0100
TZNAME:CET
DTSTART:20271031T010000
END:STANDARD
END:VTIMEZONE
BEGIN:VEVENT
DTSTART;TZID=Europe/Madrid:20260805T230000
DTEND;TZID=Europe/Madrid:20260805T230000
DTSTAMP:20260422T055346
CREATED:20260415T161953Z
LAST-MODIFIED:20260415T161953Z
UID:10026232-1785970800-1785970800@lavozdeibiza.com
SUMMARY:Mau P en Pacha Ibiza 2026: vuelve ‘Baddest Behaviour’
DESCRIPTION:El DJ y productor neerlandés Mau P regresa a Pacha Ibiza en 2026 con su potente residencia Baddest Behaviour. Tras el éxito de su debut la temporada anterior\, el artista vuelve con una propuesta centrada en la energía de la pista y el house contemporáneo más efectivo. \nLa residencia promete line-ups de alto nivel con invitados especiales y una atmósfera vibrante en el icónico club de las cerezas. Una cita imprescindible para quienes buscan house de alta energía y espíritu underground en uno de los escenarios más emblemáticos de Ibiza durante el verano 2026. \nMás información en Mau P regresa a Pacha Ibiza con “Baddest Behaviour” este verano 2026
URL:https://lavozdeibiza.com/event/mau-p-en-pacha-ibiza-2026-vuelve-baddest-behaviour/2026-08-05/
LOCATION:Pacha Ibiza\, Av. 8 d’Agost\, 07800\, Ibiza\, Islas Baleares\, Spain
CATEGORIES:OCIO
ATTACH;FMTTYPE=image/png:https://lavozdeibiza.com/wp-content/uploads/2025/06/Mau-P.-Pacha-Ibiza.png
END:VEVENT
BEGIN:VEVENT
DTSTART;TZID=Europe/Madrid:20260812T230000
DTEND;TZID=Europe/Madrid:20260812T230000
DTSTAMP:20260422T055346
CREATED:20260415T161953Z
LAST-MODIFIED:20260415T161953Z
UID:10026233-1786575600-1786575600@lavozdeibiza.com
SUMMARY:Mau P en Pacha Ibiza 2026: vuelve ‘Baddest Behaviour’
DESCRIPTION:El DJ y productor neerlandés Mau P regresa a Pacha Ibiza en 2026 con su potente residencia Baddest Behaviour. Tras el éxito de su debut la temporada anterior\, el artista vuelve con una propuesta centrada en la energía de la pista y el house contemporáneo más efectivo. \nLa residencia promete line-ups de alto nivel con invitados especiales y una atmósfera vibrante en el icónico club de las cerezas. Una cita imprescindible para quienes buscan house de alta energía y espíritu underground en uno de los escenarios más emblemáticos de Ibiza durante el verano 2026. \nMás información en Mau P regresa a Pacha Ibiza con “Baddest Behaviour” este verano 2026
URL:https://lavozdeibiza.com/event/mau-p-en-pacha-ibiza-2026-vuelve-baddest-behaviour/2026-08-12/
LOCATION:Pacha Ibiza\, Av. 8 d’Agost\, 07800\, Ibiza\, Islas Baleares\, Spain
CATEGORIES:OCIO
ATTACH;FMTTYPE=image/png:https://lavozdeibiza.com/wp-content/uploads/2025/06/Mau-P.-Pacha-Ibiza.png
END:VEVENT
BEGIN:VEVENT
DTSTART;TZID=Europe/Madrid:20260819T230000
DTEND;TZID=Europe/Madrid:20260819T230000
DTSTAMP:20260422T055346
CREATED:20260415T161953Z
LAST-MODIFIED:20260415T161953Z
UID:10026234-1787180400-1787180400@lavozdeibiza.com
SUMMARY:Mau P en Pacha Ibiza 2026: vuelve ‘Baddest Behaviour’
DESCRIPTION:El DJ y productor neerlandés Mau P regresa a Pacha Ibiza en 2026 con su potente residencia Baddest Behaviour. Tras el éxito de su debut la temporada anterior\, el artista vuelve con una propuesta centrada en la energía de la pista y el house contemporáneo más efectivo. \nLa residencia promete line-ups de alto nivel con invitados especiales y una atmósfera vibrante en el icónico club de las cerezas. Una cita imprescindible para quienes buscan house de alta energía y espíritu underground en uno de los escenarios más emblemáticos de Ibiza durante el verano 2026. \nMás información en Mau P regresa a Pacha Ibiza con “Baddest Behaviour” este verano 2026
URL:https://lavozdeibiza.com/event/mau-p-en-pacha-ibiza-2026-vuelve-baddest-behaviour/2026-08-19/
LOCATION:Pacha Ibiza\, Av. 8 d’Agost\, 07800\, Ibiza\, Islas Baleares\, Spain
CATEGORIES:OCIO
ATTACH;FMTTYPE=image/png:https://lavozdeibiza.com/wp-content/uploads/2025/06/Mau-P.-Pacha-Ibiza.png
END:VEVENT
BEGIN:VEVENT
DTSTART;TZID=Europe/Madrid:20260826T230000
DTEND;TZID=Europe/Madrid:20260826T230000
DTSTAMP:20260422T055346
CREATED:20260415T161953Z
LAST-MODIFIED:20260415T161953Z
UID:10026235-1787785200-1787785200@lavozdeibiza.com
SUMMARY:Mau P en Pacha Ibiza 2026: vuelve ‘Baddest Behaviour’
DESCRIPTION:El DJ y productor neerlandés Mau P regresa a Pacha Ibiza en 2026 con su potente residencia Baddest Behaviour. Tras el éxito de su debut la temporada anterior\, el artista vuelve con una propuesta centrada en la energía de la pista y el house contemporáneo más efectivo. \nLa residencia promete line-ups de alto nivel con invitados especiales y una atmósfera vibrante en el icónico club de las cerezas. Una cita imprescindible para quienes buscan house de alta energía y espíritu underground en uno de los escenarios más emblemáticos de Ibiza durante el verano 2026. \nMás información en Mau P regresa a Pacha Ibiza con “Baddest Behaviour” este verano 2026
URL:https://lavozdeibiza.com/event/mau-p-en-pacha-ibiza-2026-vuelve-baddest-behaviour/2026-08-26/
LOCATION:Pacha Ibiza\, Av. 8 d’Agost\, 07800\, Ibiza\, Islas Baleares\, Spain
CATEGORIES:OCIO
ATTACH;FMTTYPE=image/png:https://lavozdeibiza.com/wp-content/uploads/2025/06/Mau-P.-Pacha-Ibiza.png
END:VEVENT
BEGIN:VEVENT
DTSTART;TZID=Europe/Madrid:20260902T230000
DTEND;TZID=Europe/Madrid:20260902T230000
DTSTAMP:20260422T055346
CREATED:20260415T161953Z
LAST-MODIFIED:20260415T161953Z
UID:10026236-1788390000-1788390000@lavozdeibiza.com
SUMMARY:Mau P en Pacha Ibiza 2026: vuelve ‘Baddest Behaviour’
DESCRIPTION:El DJ y productor neerlandés Mau P regresa a Pacha Ibiza en 2026 con su potente residencia Baddest Behaviour. Tras el éxito de su debut la temporada anterior\, el artista vuelve con una propuesta centrada en la energía de la pista y el house contemporáneo más efectivo. \nLa residencia promete line-ups de alto nivel con invitados especiales y una atmósfera vibrante en el icónico club de las cerezas. Una cita imprescindible para quienes buscan house de alta energía y espíritu underground en uno de los escenarios más emblemáticos de Ibiza durante el verano 2026. \nMás información en Mau P regresa a Pacha Ibiza con “Baddest Behaviour” este verano 2026
URL:https://lavozdeibiza.com/event/mau-p-en-pacha-ibiza-2026-vuelve-baddest-behaviour/2026-09-02/
LOCATION:Pacha Ibiza\, Av. 8 d’Agost\, 07800\, Ibiza\, Islas Baleares\, Spain
CATEGORIES:OCIO
ATTACH;FMTTYPE=image/png:https://lavozdeibiza.com/wp-content/uploads/2025/06/Mau-P.-Pacha-Ibiza.png
END:VEVENT
BEGIN:VEVENT
DTSTART;TZID=Europe/Madrid:20260909T230000
DTEND;TZID=Europe/Madrid:20260909T230000
DTSTAMP:20260422T055346
CREATED:20260415T161953Z
LAST-MODIFIED:20260415T161953Z
UID:10026237-1788994800-1788994800@lavozdeibiza.com
SUMMARY:Mau P en Pacha Ibiza 2026: vuelve ‘Baddest Behaviour’
DESCRIPTION:El DJ y productor neerlandés Mau P regresa a Pacha Ibiza en 2026 con su potente residencia Baddest Behaviour. Tras el éxito de su debut la temporada anterior\, el artista vuelve con una propuesta centrada en la energía de la pista y el house contemporáneo más efectivo. \nLa residencia promete line-ups de alto nivel con invitados especiales y una atmósfera vibrante en el icónico club de las cerezas. Una cita imprescindible para quienes buscan house de alta energía y espíritu underground en uno de los escenarios más emblemáticos de Ibiza durante el verano 2026. \nMás información en Mau P regresa a Pacha Ibiza con “Baddest Behaviour” este verano 2026
URL:https://lavozdeibiza.com/event/mau-p-en-pacha-ibiza-2026-vuelve-baddest-behaviour/2026-09-09/
LOCATION:Pacha Ibiza\, Av. 8 d’Agost\, 07800\, Ibiza\, Islas Baleares\, Spain
CATEGORIES:OCIO
ATTACH;FMTTYPE=image/png:https://lavozdeibiza.com/wp-content/uploads/2025/06/Mau-P.-Pacha-Ibiza.png
END:VEVENT
BEGIN:VEVENT
DTSTART;TZID=Europe/Madrid:20260916T230000
DTEND;TZID=Europe/Madrid:20260916T230000
DTSTAMP:20260422T055346
CREATED:20260415T161953Z
LAST-MODIFIED:20260415T161953Z
UID:10026238-1789599600-1789599600@lavozdeibiza.com
SUMMARY:Mau P en Pacha Ibiza 2026: vuelve ‘Baddest Behaviour’
DESCRIPTION:El DJ y productor neerlandés Mau P regresa a Pacha Ibiza en 2026 con su potente residencia Baddest Behaviour. Tras el éxito de su debut la temporada anterior\, el artista vuelve con una propuesta centrada en la energía de la pista y el house contemporáneo más efectivo. \nLa residencia promete line-ups de alto nivel con invitados especiales y una atmósfera vibrante en el icónico club de las cerezas. Una cita imprescindible para quienes buscan house de alta energía y espíritu underground en uno de los escenarios más emblemáticos de Ibiza durante el verano 2026. \nMás información en Mau P regresa a Pacha Ibiza con “Baddest Behaviour” este verano 2026
URL:https://lavozdeibiza.com/event/mau-p-en-pacha-ibiza-2026-vuelve-baddest-behaviour/2026-09-16/
LOCATION:Pacha Ibiza\, Av. 8 d’Agost\, 07800\, Ibiza\, Islas Baleares\, Spain
CATEGORIES:OCIO
ATTACH;FMTTYPE=image/png:https://lavozdeibiza.com/wp-content/uploads/2025/06/Mau-P.-Pacha-Ibiza.png
END:VEVENT
BEGIN:VEVENT
DTSTART;TZID=Europe/Madrid:20260923T230000
DTEND;TZID=Europe/Madrid:20260923T230000
DTSTAMP:20260422T055346
CREATED:20260415T161953Z
LAST-MODIFIED:20260415T161953Z
UID:10026239-1790204400-1790204400@lavozdeibiza.com
SUMMARY:Mau P en Pacha Ibiza 2026: vuelve ‘Baddest Behaviour’
DESCRIPTION:El DJ y productor neerlandés Mau P regresa a Pacha Ibiza en 2026 con su potente residencia Baddest Behaviour. Tras el éxito de su debut la temporada anterior\, el artista vuelve con una propuesta centrada en la energía de la pista y el house contemporáneo más efectivo. \nLa residencia promete line-ups de alto nivel con invitados especiales y una atmósfera vibrante en el icónico club de las cerezas. Una cita imprescindible para quienes buscan house de alta energía y espíritu underground en uno de los escenarios más emblemáticos de Ibiza durante el verano 2026. \nMás información en Mau P regresa a Pacha Ibiza con “Baddest Behaviour” este verano 2026
URL:https://lavozdeibiza.com/event/mau-p-en-pacha-ibiza-2026-vuelve-baddest-behaviour/2026-09-23/
LOCATION:Pacha Ibiza\, Av. 8 d’Agost\, 07800\, Ibiza\, Islas Baleares\, Spain
CATEGORIES:OCIO
ATTACH;FMTTYPE=image/png:https://lavozdeibiza.com/wp-content/uploads/2025/06/Mau-P.-Pacha-Ibiza.png
END:VEVENT
BEGIN:VEVENT
DTSTART;TZID=Europe/Madrid:20260930T230000
DTEND;TZID=Europe/Madrid:20260930T230000
DTSTAMP:20260422T055346
CREATED:20260415T161953Z
LAST-MODIFIED:20260415T161953Z
UID:10026240-1790809200-1790809200@lavozdeibiza.com
SUMMARY:Mau P en Pacha Ibiza 2026: vuelve ‘Baddest Behaviour’
DESCRIPTION:El DJ y productor neerlandés Mau P regresa a Pacha Ibiza en 2026 con su potente residencia Baddest Behaviour. Tras el éxito de su debut la temporada anterior\, el artista vuelve con una propuesta centrada en la energía de la pista y el house contemporáneo más efectivo. \nLa residencia promete line-ups de alto nivel con invitados especiales y una atmósfera vibrante en el icónico club de las cerezas. Una cita imprescindible para quienes buscan house de alta energía y espíritu underground en uno de los escenarios más emblemáticos de Ibiza durante el verano 2026. \nMás información en Mau P regresa a Pacha Ibiza con “Baddest Behaviour” este verano 2026
URL:https://lavozdeibiza.com/event/mau-p-en-pacha-ibiza-2026-vuelve-baddest-behaviour/2026-09-30/
LOCATION:Pacha Ibiza\, Av. 8 d’Agost\, 07800\, Ibiza\, Islas Baleares\, Spain
CATEGORIES:OCIO
ATTACH;FMTTYPE=image/png:https://lavozdeibiza.com/wp-content/uploads/2025/06/Mau-P.-Pacha-Ibiza.png
END:VEVENT
BEGIN:VEVENT
DTSTART;TZID=Europe/Madrid:20261007T230000
DTEND;TZID=Europe/Madrid:20261007T230000
DTSTAMP:20260422T055346
CREATED:20260415T161953Z
LAST-MODIFIED:20260415T161953Z
UID:10026241-1791414000-1791414000@lavozdeibiza.com
SUMMARY:Mau P en Pacha Ibiza 2026: vuelve ‘Baddest Behaviour’
DESCRIPTION:El DJ y productor neerlandés Mau P regresa a Pacha Ibiza en 2026 con su potente residencia Baddest Behaviour. Tras el éxito de su debut la temporada anterior\, el artista vuelve con una propuesta centrada en la energía de la pista y el house contemporáneo más efectivo. \nLa residencia promete line-ups de alto nivel con invitados especiales y una atmósfera vibrante en el icónico club de las cerezas. Una cita imprescindible para quienes buscan house de alta energía y espíritu underground en uno de los escenarios más emblemáticos de Ibiza durante el verano 2026. \nMás información en Mau P regresa a Pacha Ibiza con “Baddest Behaviour” este verano 2026
URL:https://lavozdeibiza.com/event/mau-p-en-pacha-ibiza-2026-vuelve-baddest-behaviour/2026-10-07/
LOCATION:Pacha Ibiza\, Av. 8 d’Agost\, 07800\, Ibiza\, Islas Baleares\, Spain
CATEGORIES:OCIO
ATTACH;FMTTYPE=image/png:https://lavozdeibiza.com/wp-content/uploads/2025/06/Mau-P.-Pacha-Ibiza.png
END:VEVENT
END:VCALENDAR