BEGIN:VCALENDAR
VERSION:2.0
PRODID:-//La Voz De Ibiza - ECPv6.15.20//NONSGML v1.0//EN
CALSCALE:GREGORIAN
METHOD:PUBLISH
X-WR-CALNAME:La Voz De Ibiza
X-ORIGINAL-URL:https://lavozdeibiza.com
X-WR-CALDESC:Eventos para La Voz De Ibiza
REFRESH-INTERVAL;VALUE=DURATION:PT1H
X-Robots-Tag:noindex
X-PUBLISHED-TTL:PT1H
BEGIN:VTIMEZONE
TZID:Europe/Madrid
BEGIN:DAYLIGHT
TZOFFSETFROM:+0100
TZOFFSETTO:+0200
TZNAME:CEST
DTSTART:20250330T010000
END:DAYLIGHT
BEGIN:STANDARD
TZOFFSETFROM:+0200
TZOFFSETTO:+0100
TZNAME:CET
DTSTART:20251026T010000
END:STANDARD
BEGIN:DAYLIGHT
TZOFFSETFROM:+0100
TZOFFSETTO:+0200
TZNAME:CEST
DTSTART:20260329T010000
END:DAYLIGHT
BEGIN:STANDARD
TZOFFSETFROM:+0200
TZOFFSETTO:+0100
TZNAME:CET
DTSTART:20261025T010000
END:STANDARD
BEGIN:DAYLIGHT
TZOFFSETFROM:+0100
TZOFFSETTO:+0200
TZNAME:CEST
DTSTART:20270328T010000
END:DAYLIGHT
BEGIN:STANDARD
TZOFFSETFROM:+0200
TZOFFSETTO:+0100
TZNAME:CET
DTSTART:20271031T010000
END:STANDARD
END:VTIMEZONE
BEGIN:VEVENT
DTSTART;TZID=Europe/Madrid:20260430T230000
DTEND;TZID=Europe/Madrid:20260430T230000
DTSTAMP:20260422T065840
CREATED:20260415T163728Z
LAST-MODIFIED:20260415T163728Z
UID:10026244-1777590000-1777590000@lavozdeibiza.com
SUMMARY:Shimza en Pacha Ibiza 2026: el debut de ‘Shimza&Co’
DESCRIPTION:El DJ sudafricano Shimza aterriza en Pacha Ibiza con su concepto Shimza&Co\, una residencia exclusiva. Esta propuesta marca uno de los grandes debuts de la temporada\, llevando a la isla los sonidos globales del afro house y afro tech en uno de los clubs más emblemáticos del mundo. \nMás que una simple sesión\, Shimza&Co se presenta como una experiencia colectiva donde las percusiones hipnóticas\, grooves profundos y melodías emocionales crean un viaje sonoro envolvente. El artista\, uno de los principales embajadores de la electrónica africana\, apuesta por una narrativa musical que conecta culturas y transforma la pista de baile en un espacio de energía compartida. \nCon line-ups semanales cuidadosamente curados y una identidad marcada por la fusión entre raíces africanas y visión global. \nMás información en El Afro House conquista Pacha Ibiza: Shimza traslada su residencia Shimza&Co
URL:https://lavozdeibiza.com/event/shimza-en-pacha-ibiza-2026-el-debut-de-shimzaco/2026-04-30/
LOCATION:Pacha Ibiza\, Av. 8 d’Agost\, 07800\, Ibiza\, Islas Baleares\, Spain
CATEGORIES:OCIO
ATTACH;FMTTYPE=image/jpeg:https://lavozdeibiza.com/wp-content/uploads/2026/02/Shimza.-Archivo.jpg
END:VEVENT
BEGIN:VEVENT
DTSTART;TZID=Europe/Madrid:20260507T230000
DTEND;TZID=Europe/Madrid:20260507T230000
DTSTAMP:20260422T065840
CREATED:20260415T163728Z
LAST-MODIFIED:20260415T163728Z
UID:10026245-1778194800-1778194800@lavozdeibiza.com
SUMMARY:Shimza en Pacha Ibiza 2026: el debut de ‘Shimza&Co’
DESCRIPTION:El DJ sudafricano Shimza aterriza en Pacha Ibiza con su concepto Shimza&Co\, una residencia exclusiva. Esta propuesta marca uno de los grandes debuts de la temporada\, llevando a la isla los sonidos globales del afro house y afro tech en uno de los clubs más emblemáticos del mundo. \nMás que una simple sesión\, Shimza&Co se presenta como una experiencia colectiva donde las percusiones hipnóticas\, grooves profundos y melodías emocionales crean un viaje sonoro envolvente. El artista\, uno de los principales embajadores de la electrónica africana\, apuesta por una narrativa musical que conecta culturas y transforma la pista de baile en un espacio de energía compartida. \nCon line-ups semanales cuidadosamente curados y una identidad marcada por la fusión entre raíces africanas y visión global. \nMás información en El Afro House conquista Pacha Ibiza: Shimza traslada su residencia Shimza&Co
URL:https://lavozdeibiza.com/event/shimza-en-pacha-ibiza-2026-el-debut-de-shimzaco/2026-05-07/
LOCATION:Pacha Ibiza\, Av. 8 d’Agost\, 07800\, Ibiza\, Islas Baleares\, Spain
CATEGORIES:OCIO
ATTACH;FMTTYPE=image/jpeg:https://lavozdeibiza.com/wp-content/uploads/2026/02/Shimza.-Archivo.jpg
END:VEVENT
BEGIN:VEVENT
DTSTART;TZID=Europe/Madrid:20260514T230000
DTEND;TZID=Europe/Madrid:20260514T230000
DTSTAMP:20260422T065840
CREATED:20260415T163728Z
LAST-MODIFIED:20260415T163728Z
UID:10026246-1778799600-1778799600@lavozdeibiza.com
SUMMARY:Shimza en Pacha Ibiza 2026: el debut de ‘Shimza&Co’
DESCRIPTION:El DJ sudafricano Shimza aterriza en Pacha Ibiza con su concepto Shimza&Co\, una residencia exclusiva. Esta propuesta marca uno de los grandes debuts de la temporada\, llevando a la isla los sonidos globales del afro house y afro tech en uno de los clubs más emblemáticos del mundo. \nMás que una simple sesión\, Shimza&Co se presenta como una experiencia colectiva donde las percusiones hipnóticas\, grooves profundos y melodías emocionales crean un viaje sonoro envolvente. El artista\, uno de los principales embajadores de la electrónica africana\, apuesta por una narrativa musical que conecta culturas y transforma la pista de baile en un espacio de energía compartida. \nCon line-ups semanales cuidadosamente curados y una identidad marcada por la fusión entre raíces africanas y visión global. \nMás información en El Afro House conquista Pacha Ibiza: Shimza traslada su residencia Shimza&Co
URL:https://lavozdeibiza.com/event/shimza-en-pacha-ibiza-2026-el-debut-de-shimzaco/2026-05-14/
LOCATION:Pacha Ibiza\, Av. 8 d’Agost\, 07800\, Ibiza\, Islas Baleares\, Spain
CATEGORIES:OCIO
ATTACH;FMTTYPE=image/jpeg:https://lavozdeibiza.com/wp-content/uploads/2026/02/Shimza.-Archivo.jpg
END:VEVENT
BEGIN:VEVENT
DTSTART;TZID=Europe/Madrid:20260521T230000
DTEND;TZID=Europe/Madrid:20260521T230000
DTSTAMP:20260422T065840
CREATED:20260415T163728Z
LAST-MODIFIED:20260415T163728Z
UID:10026247-1779404400-1779404400@lavozdeibiza.com
SUMMARY:Shimza en Pacha Ibiza 2026: el debut de ‘Shimza&Co’
DESCRIPTION:El DJ sudafricano Shimza aterriza en Pacha Ibiza con su concepto Shimza&Co\, una residencia exclusiva. Esta propuesta marca uno de los grandes debuts de la temporada\, llevando a la isla los sonidos globales del afro house y afro tech en uno de los clubs más emblemáticos del mundo. \nMás que una simple sesión\, Shimza&Co se presenta como una experiencia colectiva donde las percusiones hipnóticas\, grooves profundos y melodías emocionales crean un viaje sonoro envolvente. El artista\, uno de los principales embajadores de la electrónica africana\, apuesta por una narrativa musical que conecta culturas y transforma la pista de baile en un espacio de energía compartida. \nCon line-ups semanales cuidadosamente curados y una identidad marcada por la fusión entre raíces africanas y visión global. \nMás información en El Afro House conquista Pacha Ibiza: Shimza traslada su residencia Shimza&Co
URL:https://lavozdeibiza.com/event/shimza-en-pacha-ibiza-2026-el-debut-de-shimzaco/2026-05-21/
LOCATION:Pacha Ibiza\, Av. 8 d’Agost\, 07800\, Ibiza\, Islas Baleares\, Spain
CATEGORIES:OCIO
ATTACH;FMTTYPE=image/jpeg:https://lavozdeibiza.com/wp-content/uploads/2026/02/Shimza.-Archivo.jpg
END:VEVENT
BEGIN:VEVENT
DTSTART;TZID=Europe/Madrid:20260528T230000
DTEND;TZID=Europe/Madrid:20260528T230000
DTSTAMP:20260422T065840
CREATED:20260415T163728Z
LAST-MODIFIED:20260415T163728Z
UID:10026248-1780009200-1780009200@lavozdeibiza.com
SUMMARY:Shimza en Pacha Ibiza 2026: el debut de ‘Shimza&Co’
DESCRIPTION:El DJ sudafricano Shimza aterriza en Pacha Ibiza con su concepto Shimza&Co\, una residencia exclusiva. Esta propuesta marca uno de los grandes debuts de la temporada\, llevando a la isla los sonidos globales del afro house y afro tech en uno de los clubs más emblemáticos del mundo. \nMás que una simple sesión\, Shimza&Co se presenta como una experiencia colectiva donde las percusiones hipnóticas\, grooves profundos y melodías emocionales crean un viaje sonoro envolvente. El artista\, uno de los principales embajadores de la electrónica africana\, apuesta por una narrativa musical que conecta culturas y transforma la pista de baile en un espacio de energía compartida. \nCon line-ups semanales cuidadosamente curados y una identidad marcada por la fusión entre raíces africanas y visión global. \nMás información en El Afro House conquista Pacha Ibiza: Shimza traslada su residencia Shimza&Co
URL:https://lavozdeibiza.com/event/shimza-en-pacha-ibiza-2026-el-debut-de-shimzaco/2026-05-28/
LOCATION:Pacha Ibiza\, Av. 8 d’Agost\, 07800\, Ibiza\, Islas Baleares\, Spain
CATEGORIES:OCIO
ATTACH;FMTTYPE=image/jpeg:https://lavozdeibiza.com/wp-content/uploads/2026/02/Shimza.-Archivo.jpg
END:VEVENT
BEGIN:VEVENT
DTSTART;TZID=Europe/Madrid:20260604T230000
DTEND;TZID=Europe/Madrid:20260604T230000
DTSTAMP:20260422T065840
CREATED:20260415T163728Z
LAST-MODIFIED:20260415T163728Z
UID:10026249-1780614000-1780614000@lavozdeibiza.com
SUMMARY:Shimza en Pacha Ibiza 2026: el debut de ‘Shimza&Co’
DESCRIPTION:El DJ sudafricano Shimza aterriza en Pacha Ibiza con su concepto Shimza&Co\, una residencia exclusiva. Esta propuesta marca uno de los grandes debuts de la temporada\, llevando a la isla los sonidos globales del afro house y afro tech en uno de los clubs más emblemáticos del mundo. \nMás que una simple sesión\, Shimza&Co se presenta como una experiencia colectiva donde las percusiones hipnóticas\, grooves profundos y melodías emocionales crean un viaje sonoro envolvente. El artista\, uno de los principales embajadores de la electrónica africana\, apuesta por una narrativa musical que conecta culturas y transforma la pista de baile en un espacio de energía compartida. \nCon line-ups semanales cuidadosamente curados y una identidad marcada por la fusión entre raíces africanas y visión global. \nMás información en El Afro House conquista Pacha Ibiza: Shimza traslada su residencia Shimza&Co
URL:https://lavozdeibiza.com/event/shimza-en-pacha-ibiza-2026-el-debut-de-shimzaco/2026-06-04/
LOCATION:Pacha Ibiza\, Av. 8 d’Agost\, 07800\, Ibiza\, Islas Baleares\, Spain
CATEGORIES:OCIO
ATTACH;FMTTYPE=image/jpeg:https://lavozdeibiza.com/wp-content/uploads/2026/02/Shimza.-Archivo.jpg
END:VEVENT
BEGIN:VEVENT
DTSTART;TZID=Europe/Madrid:20260611T230000
DTEND;TZID=Europe/Madrid:20260611T230000
DTSTAMP:20260422T065840
CREATED:20260415T163728Z
LAST-MODIFIED:20260415T163728Z
UID:10026250-1781218800-1781218800@lavozdeibiza.com
SUMMARY:Shimza en Pacha Ibiza 2026: el debut de ‘Shimza&Co’
DESCRIPTION:El DJ sudafricano Shimza aterriza en Pacha Ibiza con su concepto Shimza&Co\, una residencia exclusiva. Esta propuesta marca uno de los grandes debuts de la temporada\, llevando a la isla los sonidos globales del afro house y afro tech en uno de los clubs más emblemáticos del mundo. \nMás que una simple sesión\, Shimza&Co se presenta como una experiencia colectiva donde las percusiones hipnóticas\, grooves profundos y melodías emocionales crean un viaje sonoro envolvente. El artista\, uno de los principales embajadores de la electrónica africana\, apuesta por una narrativa musical que conecta culturas y transforma la pista de baile en un espacio de energía compartida. \nCon line-ups semanales cuidadosamente curados y una identidad marcada por la fusión entre raíces africanas y visión global. \nMás información en El Afro House conquista Pacha Ibiza: Shimza traslada su residencia Shimza&Co
URL:https://lavozdeibiza.com/event/shimza-en-pacha-ibiza-2026-el-debut-de-shimzaco/2026-06-11/
LOCATION:Pacha Ibiza\, Av. 8 d’Agost\, 07800\, Ibiza\, Islas Baleares\, Spain
CATEGORIES:OCIO
ATTACH;FMTTYPE=image/jpeg:https://lavozdeibiza.com/wp-content/uploads/2026/02/Shimza.-Archivo.jpg
END:VEVENT
BEGIN:VEVENT
DTSTART;TZID=Europe/Madrid:20260618T230000
DTEND;TZID=Europe/Madrid:20260618T230000
DTSTAMP:20260422T065840
CREATED:20260415T163728Z
LAST-MODIFIED:20260415T163728Z
UID:10026251-1781823600-1781823600@lavozdeibiza.com
SUMMARY:Shimza en Pacha Ibiza 2026: el debut de ‘Shimza&Co’
DESCRIPTION:El DJ sudafricano Shimza aterriza en Pacha Ibiza con su concepto Shimza&Co\, una residencia exclusiva. Esta propuesta marca uno de los grandes debuts de la temporada\, llevando a la isla los sonidos globales del afro house y afro tech en uno de los clubs más emblemáticos del mundo. \nMás que una simple sesión\, Shimza&Co se presenta como una experiencia colectiva donde las percusiones hipnóticas\, grooves profundos y melodías emocionales crean un viaje sonoro envolvente. El artista\, uno de los principales embajadores de la electrónica africana\, apuesta por una narrativa musical que conecta culturas y transforma la pista de baile en un espacio de energía compartida. \nCon line-ups semanales cuidadosamente curados y una identidad marcada por la fusión entre raíces africanas y visión global. \nMás información en El Afro House conquista Pacha Ibiza: Shimza traslada su residencia Shimza&Co
URL:https://lavozdeibiza.com/event/shimza-en-pacha-ibiza-2026-el-debut-de-shimzaco/2026-06-18/
LOCATION:Pacha Ibiza\, Av. 8 d’Agost\, 07800\, Ibiza\, Islas Baleares\, Spain
CATEGORIES:OCIO
ATTACH;FMTTYPE=image/jpeg:https://lavozdeibiza.com/wp-content/uploads/2026/02/Shimza.-Archivo.jpg
END:VEVENT
END:VCALENDAR