BEGIN:VCALENDAR
VERSION:2.0
PRODID:-//La Voz De Ibiza - ECPv6.15.20//NONSGML v1.0//EN
CALSCALE:GREGORIAN
METHOD:PUBLISH
X-WR-CALNAME:La Voz De Ibiza
X-ORIGINAL-URL:https://lavozdeibiza.com
X-WR-CALDESC:Eventos para La Voz De Ibiza
REFRESH-INTERVAL;VALUE=DURATION:PT1H
X-Robots-Tag:noindex
X-PUBLISHED-TTL:PT1H
BEGIN:VTIMEZONE
TZID:Europe/Madrid
BEGIN:DAYLIGHT
TZOFFSETFROM:+0100
TZOFFSETTO:+0200
TZNAME:CEST
DTSTART:20250330T010000
END:DAYLIGHT
BEGIN:STANDARD
TZOFFSETFROM:+0200
TZOFFSETTO:+0100
TZNAME:CET
DTSTART:20251026T010000
END:STANDARD
BEGIN:DAYLIGHT
TZOFFSETFROM:+0100
TZOFFSETTO:+0200
TZNAME:CEST
DTSTART:20260329T010000
END:DAYLIGHT
BEGIN:STANDARD
TZOFFSETFROM:+0200
TZOFFSETTO:+0100
TZNAME:CET
DTSTART:20261025T010000
END:STANDARD
BEGIN:DAYLIGHT
TZOFFSETFROM:+0100
TZOFFSETTO:+0200
TZNAME:CEST
DTSTART:20270328T010000
END:DAYLIGHT
BEGIN:STANDARD
TZOFFSETFROM:+0200
TZOFFSETTO:+0100
TZNAME:CET
DTSTART:20271031T010000
END:STANDARD
END:VTIMEZONE
BEGIN:VEVENT
DTSTART;TZID=Europe/Madrid:20260531T230000
DTEND;TZID=Europe/Madrid:20260531T230000
DTSTAMP:20260422T054625
CREATED:20260415T173500Z
LAST-MODIFIED:20260415T173500Z
UID:10026253-1780268400-1780268400@lavozdeibiza.com
SUMMARY:Solomun +1 en Pacha Ibiza 2026: el clásico de los domingos 
DESCRIPTION:La icónica residencia Solomun +1 regresa a Pacha Ibiza en 2026\, consolidándose como una de las citas más influyentes del verano en la isla. Desde su lanzamiento en 2013\, este formato se ha convertido en un ritual semanal para los amantes del clubbing\, marcando el pulso de la escena electrónica internacional. \nEl concepto es tan simple como efectivo: Solomun invita cada semana a un único artista para compartir cabina\, ofreciendo sets largos e independientes que culminan en un esperado back-to-back final. Esta estructura permite construir un viaje musical progresivo\, centrado en el house y techno melódico\, donde la narrativa y la conexión con la pista son protagonistas. \nMás información en Solomun +1 regresa a Pacha Ibiza para su duodécima temporada
URL:https://lavozdeibiza.com/event/solomun-1-en-pacha-ibiza-2026-el-clasico-de-los-domingos/2026-05-31/
LOCATION:Pacha Ibiza\, Av. 8 d’Agost\, 07800\, Ibiza\, Islas Baleares\, Spain
CATEGORIES:OCIO
ATTACH;FMTTYPE=image/jpeg:https://lavozdeibiza.com/wp-content/uploads/2026/04/Solomun1_Closing-Party_Pacha-Ibiza-1.jpg
END:VEVENT
BEGIN:VEVENT
DTSTART;TZID=Europe/Madrid:20260607T230000
DTEND;TZID=Europe/Madrid:20260607T230000
DTSTAMP:20260422T054625
CREATED:20260415T173500Z
LAST-MODIFIED:20260415T173500Z
UID:10026254-1780873200-1780873200@lavozdeibiza.com
SUMMARY:Solomun +1 en Pacha Ibiza 2026: el clásico de los domingos 
DESCRIPTION:La icónica residencia Solomun +1 regresa a Pacha Ibiza en 2026\, consolidándose como una de las citas más influyentes del verano en la isla. Desde su lanzamiento en 2013\, este formato se ha convertido en un ritual semanal para los amantes del clubbing\, marcando el pulso de la escena electrónica internacional. \nEl concepto es tan simple como efectivo: Solomun invita cada semana a un único artista para compartir cabina\, ofreciendo sets largos e independientes que culminan en un esperado back-to-back final. Esta estructura permite construir un viaje musical progresivo\, centrado en el house y techno melódico\, donde la narrativa y la conexión con la pista son protagonistas. \nMás información en Solomun +1 regresa a Pacha Ibiza para su duodécima temporada
URL:https://lavozdeibiza.com/event/solomun-1-en-pacha-ibiza-2026-el-clasico-de-los-domingos/2026-06-07/
LOCATION:Pacha Ibiza\, Av. 8 d’Agost\, 07800\, Ibiza\, Islas Baleares\, Spain
CATEGORIES:OCIO
ATTACH;FMTTYPE=image/jpeg:https://lavozdeibiza.com/wp-content/uploads/2026/04/Solomun1_Closing-Party_Pacha-Ibiza-1.jpg
END:VEVENT
BEGIN:VEVENT
DTSTART;TZID=Europe/Madrid:20260614T230000
DTEND;TZID=Europe/Madrid:20260614T230000
DTSTAMP:20260422T054625
CREATED:20260415T173500Z
LAST-MODIFIED:20260415T173500Z
UID:10026255-1781478000-1781478000@lavozdeibiza.com
SUMMARY:Solomun +1 en Pacha Ibiza 2026: el clásico de los domingos 
DESCRIPTION:La icónica residencia Solomun +1 regresa a Pacha Ibiza en 2026\, consolidándose como una de las citas más influyentes del verano en la isla. Desde su lanzamiento en 2013\, este formato se ha convertido en un ritual semanal para los amantes del clubbing\, marcando el pulso de la escena electrónica internacional. \nEl concepto es tan simple como efectivo: Solomun invita cada semana a un único artista para compartir cabina\, ofreciendo sets largos e independientes que culminan en un esperado back-to-back final. Esta estructura permite construir un viaje musical progresivo\, centrado en el house y techno melódico\, donde la narrativa y la conexión con la pista son protagonistas. \nMás información en Solomun +1 regresa a Pacha Ibiza para su duodécima temporada
URL:https://lavozdeibiza.com/event/solomun-1-en-pacha-ibiza-2026-el-clasico-de-los-domingos/2026-06-14/
LOCATION:Pacha Ibiza\, Av. 8 d’Agost\, 07800\, Ibiza\, Islas Baleares\, Spain
CATEGORIES:OCIO
ATTACH;FMTTYPE=image/jpeg:https://lavozdeibiza.com/wp-content/uploads/2026/04/Solomun1_Closing-Party_Pacha-Ibiza-1.jpg
END:VEVENT
BEGIN:VEVENT
DTSTART;TZID=Europe/Madrid:20260621T230000
DTEND;TZID=Europe/Madrid:20260621T230000
DTSTAMP:20260422T054625
CREATED:20260415T173500Z
LAST-MODIFIED:20260415T173500Z
UID:10026256-1782082800-1782082800@lavozdeibiza.com
SUMMARY:Solomun +1 en Pacha Ibiza 2026: el clásico de los domingos 
DESCRIPTION:La icónica residencia Solomun +1 regresa a Pacha Ibiza en 2026\, consolidándose como una de las citas más influyentes del verano en la isla. Desde su lanzamiento en 2013\, este formato se ha convertido en un ritual semanal para los amantes del clubbing\, marcando el pulso de la escena electrónica internacional. \nEl concepto es tan simple como efectivo: Solomun invita cada semana a un único artista para compartir cabina\, ofreciendo sets largos e independientes que culminan en un esperado back-to-back final. Esta estructura permite construir un viaje musical progresivo\, centrado en el house y techno melódico\, donde la narrativa y la conexión con la pista son protagonistas. \nMás información en Solomun +1 regresa a Pacha Ibiza para su duodécima temporada
URL:https://lavozdeibiza.com/event/solomun-1-en-pacha-ibiza-2026-el-clasico-de-los-domingos/2026-06-21/
LOCATION:Pacha Ibiza\, Av. 8 d’Agost\, 07800\, Ibiza\, Islas Baleares\, Spain
CATEGORIES:OCIO
ATTACH;FMTTYPE=image/jpeg:https://lavozdeibiza.com/wp-content/uploads/2026/04/Solomun1_Closing-Party_Pacha-Ibiza-1.jpg
END:VEVENT
BEGIN:VEVENT
DTSTART;TZID=Europe/Madrid:20260628T230000
DTEND;TZID=Europe/Madrid:20260628T230000
DTSTAMP:20260422T054625
CREATED:20260415T173500Z
LAST-MODIFIED:20260415T173500Z
UID:10026257-1782687600-1782687600@lavozdeibiza.com
SUMMARY:Solomun +1 en Pacha Ibiza 2026: el clásico de los domingos 
DESCRIPTION:La icónica residencia Solomun +1 regresa a Pacha Ibiza en 2026\, consolidándose como una de las citas más influyentes del verano en la isla. Desde su lanzamiento en 2013\, este formato se ha convertido en un ritual semanal para los amantes del clubbing\, marcando el pulso de la escena electrónica internacional. \nEl concepto es tan simple como efectivo: Solomun invita cada semana a un único artista para compartir cabina\, ofreciendo sets largos e independientes que culminan en un esperado back-to-back final. Esta estructura permite construir un viaje musical progresivo\, centrado en el house y techno melódico\, donde la narrativa y la conexión con la pista son protagonistas. \nMás información en Solomun +1 regresa a Pacha Ibiza para su duodécima temporada
URL:https://lavozdeibiza.com/event/solomun-1-en-pacha-ibiza-2026-el-clasico-de-los-domingos/2026-06-28/
LOCATION:Pacha Ibiza\, Av. 8 d’Agost\, 07800\, Ibiza\, Islas Baleares\, Spain
CATEGORIES:OCIO
ATTACH;FMTTYPE=image/jpeg:https://lavozdeibiza.com/wp-content/uploads/2026/04/Solomun1_Closing-Party_Pacha-Ibiza-1.jpg
END:VEVENT
BEGIN:VEVENT
DTSTART;TZID=Europe/Madrid:20260705T230000
DTEND;TZID=Europe/Madrid:20260705T230000
DTSTAMP:20260422T054625
CREATED:20260415T173500Z
LAST-MODIFIED:20260415T173500Z
UID:10026258-1783292400-1783292400@lavozdeibiza.com
SUMMARY:Solomun +1 en Pacha Ibiza 2026: el clásico de los domingos 
DESCRIPTION:La icónica residencia Solomun +1 regresa a Pacha Ibiza en 2026\, consolidándose como una de las citas más influyentes del verano en la isla. Desde su lanzamiento en 2013\, este formato se ha convertido en un ritual semanal para los amantes del clubbing\, marcando el pulso de la escena electrónica internacional. \nEl concepto es tan simple como efectivo: Solomun invita cada semana a un único artista para compartir cabina\, ofreciendo sets largos e independientes que culminan en un esperado back-to-back final. Esta estructura permite construir un viaje musical progresivo\, centrado en el house y techno melódico\, donde la narrativa y la conexión con la pista son protagonistas. \nMás información en Solomun +1 regresa a Pacha Ibiza para su duodécima temporada
URL:https://lavozdeibiza.com/event/solomun-1-en-pacha-ibiza-2026-el-clasico-de-los-domingos/2026-07-05/
LOCATION:Pacha Ibiza\, Av. 8 d’Agost\, 07800\, Ibiza\, Islas Baleares\, Spain
CATEGORIES:OCIO
ATTACH;FMTTYPE=image/jpeg:https://lavozdeibiza.com/wp-content/uploads/2026/04/Solomun1_Closing-Party_Pacha-Ibiza-1.jpg
END:VEVENT
BEGIN:VEVENT
DTSTART;TZID=Europe/Madrid:20260712T230000
DTEND;TZID=Europe/Madrid:20260712T230000
DTSTAMP:20260422T054625
CREATED:20260415T173500Z
LAST-MODIFIED:20260415T173500Z
UID:10026259-1783897200-1783897200@lavozdeibiza.com
SUMMARY:Solomun +1 en Pacha Ibiza 2026: el clásico de los domingos 
DESCRIPTION:La icónica residencia Solomun +1 regresa a Pacha Ibiza en 2026\, consolidándose como una de las citas más influyentes del verano en la isla. Desde su lanzamiento en 2013\, este formato se ha convertido en un ritual semanal para los amantes del clubbing\, marcando el pulso de la escena electrónica internacional. \nEl concepto es tan simple como efectivo: Solomun invita cada semana a un único artista para compartir cabina\, ofreciendo sets largos e independientes que culminan en un esperado back-to-back final. Esta estructura permite construir un viaje musical progresivo\, centrado en el house y techno melódico\, donde la narrativa y la conexión con la pista son protagonistas. \nMás información en Solomun +1 regresa a Pacha Ibiza para su duodécima temporada
URL:https://lavozdeibiza.com/event/solomun-1-en-pacha-ibiza-2026-el-clasico-de-los-domingos/2026-07-12/
LOCATION:Pacha Ibiza\, Av. 8 d’Agost\, 07800\, Ibiza\, Islas Baleares\, Spain
CATEGORIES:OCIO
ATTACH;FMTTYPE=image/jpeg:https://lavozdeibiza.com/wp-content/uploads/2026/04/Solomun1_Closing-Party_Pacha-Ibiza-1.jpg
END:VEVENT
BEGIN:VEVENT
DTSTART;TZID=Europe/Madrid:20260719T230000
DTEND;TZID=Europe/Madrid:20260719T230000
DTSTAMP:20260422T054625
CREATED:20260415T173500Z
LAST-MODIFIED:20260415T173500Z
UID:10026260-1784502000-1784502000@lavozdeibiza.com
SUMMARY:Solomun +1 en Pacha Ibiza 2026: el clásico de los domingos 
DESCRIPTION:La icónica residencia Solomun +1 regresa a Pacha Ibiza en 2026\, consolidándose como una de las citas más influyentes del verano en la isla. Desde su lanzamiento en 2013\, este formato se ha convertido en un ritual semanal para los amantes del clubbing\, marcando el pulso de la escena electrónica internacional. \nEl concepto es tan simple como efectivo: Solomun invita cada semana a un único artista para compartir cabina\, ofreciendo sets largos e independientes que culminan en un esperado back-to-back final. Esta estructura permite construir un viaje musical progresivo\, centrado en el house y techno melódico\, donde la narrativa y la conexión con la pista son protagonistas. \nMás información en Solomun +1 regresa a Pacha Ibiza para su duodécima temporada
URL:https://lavozdeibiza.com/event/solomun-1-en-pacha-ibiza-2026-el-clasico-de-los-domingos/2026-07-19/
LOCATION:Pacha Ibiza\, Av. 8 d’Agost\, 07800\, Ibiza\, Islas Baleares\, Spain
CATEGORIES:OCIO
ATTACH;FMTTYPE=image/jpeg:https://lavozdeibiza.com/wp-content/uploads/2026/04/Solomun1_Closing-Party_Pacha-Ibiza-1.jpg
END:VEVENT
BEGIN:VEVENT
DTSTART;TZID=Europe/Madrid:20260726T230000
DTEND;TZID=Europe/Madrid:20260726T230000
DTSTAMP:20260422T054625
CREATED:20260415T173500Z
LAST-MODIFIED:20260415T173500Z
UID:10026261-1785106800-1785106800@lavozdeibiza.com
SUMMARY:Solomun +1 en Pacha Ibiza 2026: el clásico de los domingos 
DESCRIPTION:La icónica residencia Solomun +1 regresa a Pacha Ibiza en 2026\, consolidándose como una de las citas más influyentes del verano en la isla. Desde su lanzamiento en 2013\, este formato se ha convertido en un ritual semanal para los amantes del clubbing\, marcando el pulso de la escena electrónica internacional. \nEl concepto es tan simple como efectivo: Solomun invita cada semana a un único artista para compartir cabina\, ofreciendo sets largos e independientes que culminan en un esperado back-to-back final. Esta estructura permite construir un viaje musical progresivo\, centrado en el house y techno melódico\, donde la narrativa y la conexión con la pista son protagonistas. \nMás información en Solomun +1 regresa a Pacha Ibiza para su duodécima temporada
URL:https://lavozdeibiza.com/event/solomun-1-en-pacha-ibiza-2026-el-clasico-de-los-domingos/2026-07-26/
LOCATION:Pacha Ibiza\, Av. 8 d’Agost\, 07800\, Ibiza\, Islas Baleares\, Spain
CATEGORIES:OCIO
ATTACH;FMTTYPE=image/jpeg:https://lavozdeibiza.com/wp-content/uploads/2026/04/Solomun1_Closing-Party_Pacha-Ibiza-1.jpg
END:VEVENT
BEGIN:VEVENT
DTSTART;TZID=Europe/Madrid:20260802T230000
DTEND;TZID=Europe/Madrid:20260802T230000
DTSTAMP:20260422T054625
CREATED:20260415T173500Z
LAST-MODIFIED:20260415T173500Z
UID:10026262-1785711600-1785711600@lavozdeibiza.com
SUMMARY:Solomun +1 en Pacha Ibiza 2026: el clásico de los domingos 
DESCRIPTION:La icónica residencia Solomun +1 regresa a Pacha Ibiza en 2026\, consolidándose como una de las citas más influyentes del verano en la isla. Desde su lanzamiento en 2013\, este formato se ha convertido en un ritual semanal para los amantes del clubbing\, marcando el pulso de la escena electrónica internacional. \nEl concepto es tan simple como efectivo: Solomun invita cada semana a un único artista para compartir cabina\, ofreciendo sets largos e independientes que culminan en un esperado back-to-back final. Esta estructura permite construir un viaje musical progresivo\, centrado en el house y techno melódico\, donde la narrativa y la conexión con la pista son protagonistas. \nMás información en Solomun +1 regresa a Pacha Ibiza para su duodécima temporada
URL:https://lavozdeibiza.com/event/solomun-1-en-pacha-ibiza-2026-el-clasico-de-los-domingos/2026-08-02/
LOCATION:Pacha Ibiza\, Av. 8 d’Agost\, 07800\, Ibiza\, Islas Baleares\, Spain
CATEGORIES:OCIO
ATTACH;FMTTYPE=image/jpeg:https://lavozdeibiza.com/wp-content/uploads/2026/04/Solomun1_Closing-Party_Pacha-Ibiza-1.jpg
END:VEVENT
BEGIN:VEVENT
DTSTART;TZID=Europe/Madrid:20260809T230000
DTEND;TZID=Europe/Madrid:20260809T230000
DTSTAMP:20260422T054625
CREATED:20260415T173500Z
LAST-MODIFIED:20260415T173500Z
UID:10026263-1786316400-1786316400@lavozdeibiza.com
SUMMARY:Solomun +1 en Pacha Ibiza 2026: el clásico de los domingos 
DESCRIPTION:La icónica residencia Solomun +1 regresa a Pacha Ibiza en 2026\, consolidándose como una de las citas más influyentes del verano en la isla. Desde su lanzamiento en 2013\, este formato se ha convertido en un ritual semanal para los amantes del clubbing\, marcando el pulso de la escena electrónica internacional. \nEl concepto es tan simple como efectivo: Solomun invita cada semana a un único artista para compartir cabina\, ofreciendo sets largos e independientes que culminan en un esperado back-to-back final. Esta estructura permite construir un viaje musical progresivo\, centrado en el house y techno melódico\, donde la narrativa y la conexión con la pista son protagonistas. \nMás información en Solomun +1 regresa a Pacha Ibiza para su duodécima temporada
URL:https://lavozdeibiza.com/event/solomun-1-en-pacha-ibiza-2026-el-clasico-de-los-domingos/2026-08-09/
LOCATION:Pacha Ibiza\, Av. 8 d’Agost\, 07800\, Ibiza\, Islas Baleares\, Spain
CATEGORIES:OCIO
ATTACH;FMTTYPE=image/jpeg:https://lavozdeibiza.com/wp-content/uploads/2026/04/Solomun1_Closing-Party_Pacha-Ibiza-1.jpg
END:VEVENT
BEGIN:VEVENT
DTSTART;TZID=Europe/Madrid:20260816T230000
DTEND;TZID=Europe/Madrid:20260816T230000
DTSTAMP:20260422T054625
CREATED:20260415T173500Z
LAST-MODIFIED:20260415T173500Z
UID:10026264-1786921200-1786921200@lavozdeibiza.com
SUMMARY:Solomun +1 en Pacha Ibiza 2026: el clásico de los domingos 
DESCRIPTION:La icónica residencia Solomun +1 regresa a Pacha Ibiza en 2026\, consolidándose como una de las citas más influyentes del verano en la isla. Desde su lanzamiento en 2013\, este formato se ha convertido en un ritual semanal para los amantes del clubbing\, marcando el pulso de la escena electrónica internacional. \nEl concepto es tan simple como efectivo: Solomun invita cada semana a un único artista para compartir cabina\, ofreciendo sets largos e independientes que culminan en un esperado back-to-back final. Esta estructura permite construir un viaje musical progresivo\, centrado en el house y techno melódico\, donde la narrativa y la conexión con la pista son protagonistas. \nMás información en Solomun +1 regresa a Pacha Ibiza para su duodécima temporada
URL:https://lavozdeibiza.com/event/solomun-1-en-pacha-ibiza-2026-el-clasico-de-los-domingos/2026-08-16/
LOCATION:Pacha Ibiza\, Av. 8 d’Agost\, 07800\, Ibiza\, Islas Baleares\, Spain
CATEGORIES:OCIO
ATTACH;FMTTYPE=image/jpeg:https://lavozdeibiza.com/wp-content/uploads/2026/04/Solomun1_Closing-Party_Pacha-Ibiza-1.jpg
END:VEVENT
BEGIN:VEVENT
DTSTART;TZID=Europe/Madrid:20260823T230000
DTEND;TZID=Europe/Madrid:20260823T230000
DTSTAMP:20260422T054625
CREATED:20260415T173500Z
LAST-MODIFIED:20260415T173500Z
UID:10026265-1787526000-1787526000@lavozdeibiza.com
SUMMARY:Solomun +1 en Pacha Ibiza 2026: el clásico de los domingos 
DESCRIPTION:La icónica residencia Solomun +1 regresa a Pacha Ibiza en 2026\, consolidándose como una de las citas más influyentes del verano en la isla. Desde su lanzamiento en 2013\, este formato se ha convertido en un ritual semanal para los amantes del clubbing\, marcando el pulso de la escena electrónica internacional. \nEl concepto es tan simple como efectivo: Solomun invita cada semana a un único artista para compartir cabina\, ofreciendo sets largos e independientes que culminan en un esperado back-to-back final. Esta estructura permite construir un viaje musical progresivo\, centrado en el house y techno melódico\, donde la narrativa y la conexión con la pista son protagonistas. \nMás información en Solomun +1 regresa a Pacha Ibiza para su duodécima temporada
URL:https://lavozdeibiza.com/event/solomun-1-en-pacha-ibiza-2026-el-clasico-de-los-domingos/2026-08-23/
LOCATION:Pacha Ibiza\, Av. 8 d’Agost\, 07800\, Ibiza\, Islas Baleares\, Spain
CATEGORIES:OCIO
ATTACH;FMTTYPE=image/jpeg:https://lavozdeibiza.com/wp-content/uploads/2026/04/Solomun1_Closing-Party_Pacha-Ibiza-1.jpg
END:VEVENT
BEGIN:VEVENT
DTSTART;TZID=Europe/Madrid:20260830T230000
DTEND;TZID=Europe/Madrid:20260830T230000
DTSTAMP:20260422T054625
CREATED:20260415T173500Z
LAST-MODIFIED:20260415T173500Z
UID:10026266-1788130800-1788130800@lavozdeibiza.com
SUMMARY:Solomun +1 en Pacha Ibiza 2026: el clásico de los domingos 
DESCRIPTION:La icónica residencia Solomun +1 regresa a Pacha Ibiza en 2026\, consolidándose como una de las citas más influyentes del verano en la isla. Desde su lanzamiento en 2013\, este formato se ha convertido en un ritual semanal para los amantes del clubbing\, marcando el pulso de la escena electrónica internacional. \nEl concepto es tan simple como efectivo: Solomun invita cada semana a un único artista para compartir cabina\, ofreciendo sets largos e independientes que culminan en un esperado back-to-back final. Esta estructura permite construir un viaje musical progresivo\, centrado en el house y techno melódico\, donde la narrativa y la conexión con la pista son protagonistas. \nMás información en Solomun +1 regresa a Pacha Ibiza para su duodécima temporada
URL:https://lavozdeibiza.com/event/solomun-1-en-pacha-ibiza-2026-el-clasico-de-los-domingos/2026-08-30/
LOCATION:Pacha Ibiza\, Av. 8 d’Agost\, 07800\, Ibiza\, Islas Baleares\, Spain
CATEGORIES:OCIO
ATTACH;FMTTYPE=image/jpeg:https://lavozdeibiza.com/wp-content/uploads/2026/04/Solomun1_Closing-Party_Pacha-Ibiza-1.jpg
END:VEVENT
BEGIN:VEVENT
DTSTART;TZID=Europe/Madrid:20260906T230000
DTEND;TZID=Europe/Madrid:20260906T230000
DTSTAMP:20260422T054625
CREATED:20260415T173500Z
LAST-MODIFIED:20260415T173500Z
UID:10026267-1788735600-1788735600@lavozdeibiza.com
SUMMARY:Solomun +1 en Pacha Ibiza 2026: el clásico de los domingos 
DESCRIPTION:La icónica residencia Solomun +1 regresa a Pacha Ibiza en 2026\, consolidándose como una de las citas más influyentes del verano en la isla. Desde su lanzamiento en 2013\, este formato se ha convertido en un ritual semanal para los amantes del clubbing\, marcando el pulso de la escena electrónica internacional. \nEl concepto es tan simple como efectivo: Solomun invita cada semana a un único artista para compartir cabina\, ofreciendo sets largos e independientes que culminan en un esperado back-to-back final. Esta estructura permite construir un viaje musical progresivo\, centrado en el house y techno melódico\, donde la narrativa y la conexión con la pista son protagonistas. \nMás información en Solomun +1 regresa a Pacha Ibiza para su duodécima temporada
URL:https://lavozdeibiza.com/event/solomun-1-en-pacha-ibiza-2026-el-clasico-de-los-domingos/2026-09-06/
LOCATION:Pacha Ibiza\, Av. 8 d’Agost\, 07800\, Ibiza\, Islas Baleares\, Spain
CATEGORIES:OCIO
ATTACH;FMTTYPE=image/jpeg:https://lavozdeibiza.com/wp-content/uploads/2026/04/Solomun1_Closing-Party_Pacha-Ibiza-1.jpg
END:VEVENT
BEGIN:VEVENT
DTSTART;TZID=Europe/Madrid:20260913T230000
DTEND;TZID=Europe/Madrid:20260913T230000
DTSTAMP:20260422T054625
CREATED:20260415T173500Z
LAST-MODIFIED:20260415T173500Z
UID:10026268-1789340400-1789340400@lavozdeibiza.com
SUMMARY:Solomun +1 en Pacha Ibiza 2026: el clásico de los domingos 
DESCRIPTION:La icónica residencia Solomun +1 regresa a Pacha Ibiza en 2026\, consolidándose como una de las citas más influyentes del verano en la isla. Desde su lanzamiento en 2013\, este formato se ha convertido en un ritual semanal para los amantes del clubbing\, marcando el pulso de la escena electrónica internacional. \nEl concepto es tan simple como efectivo: Solomun invita cada semana a un único artista para compartir cabina\, ofreciendo sets largos e independientes que culminan en un esperado back-to-back final. Esta estructura permite construir un viaje musical progresivo\, centrado en el house y techno melódico\, donde la narrativa y la conexión con la pista son protagonistas. \nMás información en Solomun +1 regresa a Pacha Ibiza para su duodécima temporada
URL:https://lavozdeibiza.com/event/solomun-1-en-pacha-ibiza-2026-el-clasico-de-los-domingos/2026-09-13/
LOCATION:Pacha Ibiza\, Av. 8 d’Agost\, 07800\, Ibiza\, Islas Baleares\, Spain
CATEGORIES:OCIO
ATTACH;FMTTYPE=image/jpeg:https://lavozdeibiza.com/wp-content/uploads/2026/04/Solomun1_Closing-Party_Pacha-Ibiza-1.jpg
END:VEVENT
BEGIN:VEVENT
DTSTART;TZID=Europe/Madrid:20260920T230000
DTEND;TZID=Europe/Madrid:20260920T230000
DTSTAMP:20260422T054625
CREATED:20260415T173500Z
LAST-MODIFIED:20260415T173500Z
UID:10026269-1789945200-1789945200@lavozdeibiza.com
SUMMARY:Solomun +1 en Pacha Ibiza 2026: el clásico de los domingos 
DESCRIPTION:La icónica residencia Solomun +1 regresa a Pacha Ibiza en 2026\, consolidándose como una de las citas más influyentes del verano en la isla. Desde su lanzamiento en 2013\, este formato se ha convertido en un ritual semanal para los amantes del clubbing\, marcando el pulso de la escena electrónica internacional. \nEl concepto es tan simple como efectivo: Solomun invita cada semana a un único artista para compartir cabina\, ofreciendo sets largos e independientes que culminan en un esperado back-to-back final. Esta estructura permite construir un viaje musical progresivo\, centrado en el house y techno melódico\, donde la narrativa y la conexión con la pista son protagonistas. \nMás información en Solomun +1 regresa a Pacha Ibiza para su duodécima temporada
URL:https://lavozdeibiza.com/event/solomun-1-en-pacha-ibiza-2026-el-clasico-de-los-domingos/2026-09-20/
LOCATION:Pacha Ibiza\, Av. 8 d’Agost\, 07800\, Ibiza\, Islas Baleares\, Spain
CATEGORIES:OCIO
ATTACH;FMTTYPE=image/jpeg:https://lavozdeibiza.com/wp-content/uploads/2026/04/Solomun1_Closing-Party_Pacha-Ibiza-1.jpg
END:VEVENT
BEGIN:VEVENT
DTSTART;TZID=Europe/Madrid:20260927T230000
DTEND;TZID=Europe/Madrid:20260927T230000
DTSTAMP:20260422T054625
CREATED:20260415T173500Z
LAST-MODIFIED:20260415T173500Z
UID:10026270-1790550000-1790550000@lavozdeibiza.com
SUMMARY:Solomun +1 en Pacha Ibiza 2026: el clásico de los domingos 
DESCRIPTION:La icónica residencia Solomun +1 regresa a Pacha Ibiza en 2026\, consolidándose como una de las citas más influyentes del verano en la isla. Desde su lanzamiento en 2013\, este formato se ha convertido en un ritual semanal para los amantes del clubbing\, marcando el pulso de la escena electrónica internacional. \nEl concepto es tan simple como efectivo: Solomun invita cada semana a un único artista para compartir cabina\, ofreciendo sets largos e independientes que culminan en un esperado back-to-back final. Esta estructura permite construir un viaje musical progresivo\, centrado en el house y techno melódico\, donde la narrativa y la conexión con la pista son protagonistas. \nMás información en Solomun +1 regresa a Pacha Ibiza para su duodécima temporada
URL:https://lavozdeibiza.com/event/solomun-1-en-pacha-ibiza-2026-el-clasico-de-los-domingos/2026-09-27/
LOCATION:Pacha Ibiza\, Av. 8 d’Agost\, 07800\, Ibiza\, Islas Baleares\, Spain
CATEGORIES:OCIO
ATTACH;FMTTYPE=image/jpeg:https://lavozdeibiza.com/wp-content/uploads/2026/04/Solomun1_Closing-Party_Pacha-Ibiza-1.jpg
END:VEVENT
BEGIN:VEVENT
DTSTART;TZID=Europe/Madrid:20261004T230000
DTEND;TZID=Europe/Madrid:20261004T230000
DTSTAMP:20260422T054625
CREATED:20260415T173500Z
LAST-MODIFIED:20260415T173500Z
UID:10026271-1791154800-1791154800@lavozdeibiza.com
SUMMARY:Solomun +1 en Pacha Ibiza 2026: el clásico de los domingos 
DESCRIPTION:La icónica residencia Solomun +1 regresa a Pacha Ibiza en 2026\, consolidándose como una de las citas más influyentes del verano en la isla. Desde su lanzamiento en 2013\, este formato se ha convertido en un ritual semanal para los amantes del clubbing\, marcando el pulso de la escena electrónica internacional. \nEl concepto es tan simple como efectivo: Solomun invita cada semana a un único artista para compartir cabina\, ofreciendo sets largos e independientes que culminan en un esperado back-to-back final. Esta estructura permite construir un viaje musical progresivo\, centrado en el house y techno melódico\, donde la narrativa y la conexión con la pista son protagonistas. \nMás información en Solomun +1 regresa a Pacha Ibiza para su duodécima temporada
URL:https://lavozdeibiza.com/event/solomun-1-en-pacha-ibiza-2026-el-clasico-de-los-domingos/2026-10-04/
LOCATION:Pacha Ibiza\, Av. 8 d’Agost\, 07800\, Ibiza\, Islas Baleares\, Spain
CATEGORIES:OCIO
ATTACH;FMTTYPE=image/jpeg:https://lavozdeibiza.com/wp-content/uploads/2026/04/Solomun1_Closing-Party_Pacha-Ibiza-1.jpg
END:VEVENT
END:VCALENDAR