BEGIN:VCALENDAR
VERSION:2.0
PRODID:-//La Voz De Ibiza - ECPv6.15.20//NONSGML v1.0//EN
CALSCALE:GREGORIAN
METHOD:PUBLISH
X-WR-CALNAME:La Voz De Ibiza
X-ORIGINAL-URL:https://lavozdeibiza.com
X-WR-CALDESC:Eventos para La Voz De Ibiza
REFRESH-INTERVAL;VALUE=DURATION:PT1H
X-Robots-Tag:noindex
X-PUBLISHED-TTL:PT1H
BEGIN:VTIMEZONE
TZID:Europe/Madrid
BEGIN:DAYLIGHT
TZOFFSETFROM:+0100
TZOFFSETTO:+0200
TZNAME:CEST
DTSTART:20250330T010000
END:DAYLIGHT
BEGIN:STANDARD
TZOFFSETFROM:+0200
TZOFFSETTO:+0100
TZNAME:CET
DTSTART:20251026T010000
END:STANDARD
BEGIN:DAYLIGHT
TZOFFSETFROM:+0100
TZOFFSETTO:+0200
TZNAME:CEST
DTSTART:20260329T010000
END:DAYLIGHT
BEGIN:STANDARD
TZOFFSETFROM:+0200
TZOFFSETTO:+0100
TZNAME:CET
DTSTART:20261025T010000
END:STANDARD
BEGIN:DAYLIGHT
TZOFFSETFROM:+0100
TZOFFSETTO:+0200
TZNAME:CEST
DTSTART:20270328T010000
END:DAYLIGHT
BEGIN:STANDARD
TZOFFSETFROM:+0200
TZOFFSETTO:+0100
TZNAME:CET
DTSTART:20271031T010000
END:STANDARD
END:VTIMEZONE
BEGIN:VEVENT
DTSTART;TZID=Europe/Madrid:20260529T190000
DTEND;TZID=Europe/Madrid:20260529T190000
DTSTAMP:20260422T043501
CREATED:20260416T131017Z
LAST-MODIFIED:20260416T131017Z
UID:10026281-1780081200-1780081200@lavozdeibiza.com
SUMMARY:Cierre de las Festes de Maig en Santa Eulària: moda\, flamenco y música
DESCRIPTION:Las Festes de Maig de Santa Eulària encaran su recta final con un fin de semana cargado de actividades culturales. El cierre del programa reúne moda\, espectáculos y música en directo. \nEl 29 de mayo destaca el desfile #Feimmoda en la plaza de España. El 30 de mayo\, el Teatro España acoge el espectáculo flamenco “Miradas”. El broche final llega el 31 de mayo con el concierto del Coro de Santa Eulària en el Palacio de Congresos a las 19:30 h. \nUn final de fiestas que mantiene el nivel cultural y festivo del programa. Una despedida a la altura de un mes lleno de actividades. \nPrograma:\n29 mayo: Desfile #Feimmoda (19:00 h\, Plaza de España) \n30 mayo: Espectáculo flamenco “Miradas” (20:00 h\, Teatro España) \n31 mayo: Concierto del Coro de Santa Eulària (19:30 h\, Palacio de Congresos)
URL:https://lavozdeibiza.com/event/cierre-de-las-festes-de-maig-en-santa-eularia-moda-flamenco-y-musica/2026-05-29/
LOCATION:Santa Eulària des Riu\, Santa Eulària des Riu\, Islas Baleares\, Spain
CATEGORIES:CULTURA Y SOCIEDAD,MÚSICA
ATTACH;FMTTYPE=image/jpeg:https://lavozdeibiza.com/wp-content/uploads/2026/04/Fiestas-de-Mayo.jpg
END:VEVENT
BEGIN:VEVENT
DTSTART;TZID=Europe/Madrid:20260530T200000
DTEND;TZID=Europe/Madrid:20260530T200000
DTSTAMP:20260422T043501
CREATED:20260416T131017Z
LAST-MODIFIED:20260416T131017Z
UID:10026282-1780171200-1780171200@lavozdeibiza.com
SUMMARY:Cierre de las Festes de Maig en Santa Eulària: moda\, flamenco y música
DESCRIPTION:Las Festes de Maig de Santa Eulària encaran su recta final con un fin de semana cargado de actividades culturales. El cierre del programa reúne moda\, espectáculos y música en directo. \nEl 29 de mayo destaca el desfile #Feimmoda en la plaza de España. El 30 de mayo\, el Teatro España acoge el espectáculo flamenco “Miradas”. El broche final llega el 31 de mayo con el concierto del Coro de Santa Eulària en el Palacio de Congresos a las 19:30 h. \nUn final de fiestas que mantiene el nivel cultural y festivo del programa. Una despedida a la altura de un mes lleno de actividades. \nPrograma:\n29 mayo: Desfile #Feimmoda (19:00 h\, Plaza de España) \n30 mayo: Espectáculo flamenco “Miradas” (20:00 h\, Teatro España) \n31 mayo: Concierto del Coro de Santa Eulària (19:30 h\, Palacio de Congresos)
URL:https://lavozdeibiza.com/event/cierre-de-las-festes-de-maig-en-santa-eularia-moda-flamenco-y-musica/2026-05-30/
LOCATION:Santa Eulària des Riu\, Santa Eulària des Riu\, Islas Baleares\, Spain
CATEGORIES:CULTURA Y SOCIEDAD,MÚSICA
ATTACH;FMTTYPE=image/jpeg:https://lavozdeibiza.com/wp-content/uploads/2026/04/Fiestas-de-Mayo.jpg
END:VEVENT
BEGIN:VEVENT
DTSTART;TZID=Europe/Madrid:20260531T193000
DTEND;TZID=Europe/Madrid:20260531T193000
DTSTAMP:20260422T043501
CREATED:20260416T131017Z
LAST-MODIFIED:20260416T131017Z
UID:10026283-1780255800-1780255800@lavozdeibiza.com
SUMMARY:Cierre de las Festes de Maig en Santa Eulària: moda\, flamenco y música
DESCRIPTION:Las Festes de Maig de Santa Eulària encaran su recta final con un fin de semana cargado de actividades culturales. El cierre del programa reúne moda\, espectáculos y música en directo. \nEl 29 de mayo destaca el desfile #Feimmoda en la plaza de España. El 30 de mayo\, el Teatro España acoge el espectáculo flamenco “Miradas”. El broche final llega el 31 de mayo con el concierto del Coro de Santa Eulària en el Palacio de Congresos a las 19:30 h. \nUn final de fiestas que mantiene el nivel cultural y festivo del programa. Una despedida a la altura de un mes lleno de actividades. \nPrograma:\n29 mayo: Desfile #Feimmoda (19:00 h\, Plaza de España) \n30 mayo: Espectáculo flamenco “Miradas” (20:00 h\, Teatro España) \n31 mayo: Concierto del Coro de Santa Eulària (19:30 h\, Palacio de Congresos)
URL:https://lavozdeibiza.com/event/cierre-de-las-festes-de-maig-en-santa-eularia-moda-flamenco-y-musica/2026-05-31/
LOCATION:Santa Eulària des Riu\, Santa Eulària des Riu\, Islas Baleares\, Spain
CATEGORIES:CULTURA Y SOCIEDAD,MÚSICA
ATTACH;FMTTYPE=image/jpeg:https://lavozdeibiza.com/wp-content/uploads/2026/04/Fiestas-de-Mayo.jpg
END:VEVENT
END:VCALENDAR