BEGIN:VCALENDAR
VERSION:2.0
PRODID:-//La Voz De Ibiza - ECPv6.15.20//NONSGML v1.0//EN
CALSCALE:GREGORIAN
METHOD:PUBLISH
X-WR-CALNAME:La Voz De Ibiza
X-ORIGINAL-URL:https://lavozdeibiza.com
X-WR-CALDESC:Eventos para La Voz De Ibiza
REFRESH-INTERVAL;VALUE=DURATION:PT1H
X-Robots-Tag:noindex
X-PUBLISHED-TTL:PT1H
BEGIN:VTIMEZONE
TZID:Europe/Madrid
BEGIN:DAYLIGHT
TZOFFSETFROM:+0100
TZOFFSETTO:+0200
TZNAME:CEST
DTSTART:20250330T010000
END:DAYLIGHT
BEGIN:STANDARD
TZOFFSETFROM:+0200
TZOFFSETTO:+0100
TZNAME:CET
DTSTART:20251026T010000
END:STANDARD
BEGIN:DAYLIGHT
TZOFFSETFROM:+0100
TZOFFSETTO:+0200
TZNAME:CEST
DTSTART:20260329T010000
END:DAYLIGHT
BEGIN:STANDARD
TZOFFSETFROM:+0200
TZOFFSETTO:+0100
TZNAME:CET
DTSTART:20261025T010000
END:STANDARD
BEGIN:DAYLIGHT
TZOFFSETFROM:+0100
TZOFFSETTO:+0200
TZNAME:CEST
DTSTART:20270328T010000
END:DAYLIGHT
BEGIN:STANDARD
TZOFFSETFROM:+0200
TZOFFSETTO:+0100
TZNAME:CET
DTSTART:20271031T010000
END:STANDARD
END:VTIMEZONE
BEGIN:VEVENT
DTSTART;TZID=Europe/Madrid:20260613T230000
DTEND;TZID=Europe/Madrid:20260613T230000
DTSTAMP:20260422T055347
CREATED:20260416T140124Z
LAST-MODIFIED:20260416T140124Z
UID:10026284-1781391600-1781391600@lavozdeibiza.com
SUMMARY:Flower Power en Pacha Ibiza 2026: Roger Sanchez lidera los sábados
DESCRIPTION:La icónica fiesta Flower Power inicia una nueva etapa en Pacha Ibiza en 2026 con Roger Sanchez como residente principal. Considerada una de las noches más emblemáticas de la isla\, esta nueva fase combina su espíritu original con una renovada dirección musical centrada en el house. \nLa residencia propone un viaje que conecta el pasado hippie de la isla con el presente del clubbing global\, manteniendo su esencia libre y festiva mientras evoluciona hacia un enfoque más contemporáneo. Una cita imprescindible del verano 2026 que reafirma a Pacha Ibiza como uno de los grandes templos de la música electrónica. \nMás información en Roger Sánchez liderará Flower Power 2026 en Pacha Ibiza en una nueva etapa
URL:https://lavozdeibiza.com/event/flower-power-en-pacha-ibiza-2026-roger-sanchez-lidera-los-sabados/2026-06-13/
LOCATION:Pacha Ibiza\, Av. 8 d’Agost\, 07800\, Ibiza\, Islas Baleares\, Spain
CATEGORIES:OCIO
ATTACH;FMTTYPE=image/jpeg:https://lavozdeibiza.com/wp-content/uploads/2025/08/Flower-Power_Bora-Uzer-London-Community-Gospel-Choir-Sam-Oui_-Pacha-Ibiza-1.jpg
END:VEVENT
BEGIN:VEVENT
DTSTART;TZID=Europe/Madrid:20260620T230000
DTEND;TZID=Europe/Madrid:20260620T230000
DTSTAMP:20260422T055347
CREATED:20260416T140124Z
LAST-MODIFIED:20260416T140124Z
UID:10026285-1781996400-1781996400@lavozdeibiza.com
SUMMARY:Flower Power en Pacha Ibiza 2026: Roger Sanchez lidera los sábados
DESCRIPTION:La icónica fiesta Flower Power inicia una nueva etapa en Pacha Ibiza en 2026 con Roger Sanchez como residente principal. Considerada una de las noches más emblemáticas de la isla\, esta nueva fase combina su espíritu original con una renovada dirección musical centrada en el house. \nLa residencia propone un viaje que conecta el pasado hippie de la isla con el presente del clubbing global\, manteniendo su esencia libre y festiva mientras evoluciona hacia un enfoque más contemporáneo. Una cita imprescindible del verano 2026 que reafirma a Pacha Ibiza como uno de los grandes templos de la música electrónica. \nMás información en Roger Sánchez liderará Flower Power 2026 en Pacha Ibiza en una nueva etapa
URL:https://lavozdeibiza.com/event/flower-power-en-pacha-ibiza-2026-roger-sanchez-lidera-los-sabados/2026-06-20/
LOCATION:Pacha Ibiza\, Av. 8 d’Agost\, 07800\, Ibiza\, Islas Baleares\, Spain
CATEGORIES:OCIO
ATTACH;FMTTYPE=image/jpeg:https://lavozdeibiza.com/wp-content/uploads/2025/08/Flower-Power_Bora-Uzer-London-Community-Gospel-Choir-Sam-Oui_-Pacha-Ibiza-1.jpg
END:VEVENT
BEGIN:VEVENT
DTSTART;TZID=Europe/Madrid:20260627T230000
DTEND;TZID=Europe/Madrid:20260627T230000
DTSTAMP:20260422T055347
CREATED:20260416T140124Z
LAST-MODIFIED:20260416T140124Z
UID:10026286-1782601200-1782601200@lavozdeibiza.com
SUMMARY:Flower Power en Pacha Ibiza 2026: Roger Sanchez lidera los sábados
DESCRIPTION:La icónica fiesta Flower Power inicia una nueva etapa en Pacha Ibiza en 2026 con Roger Sanchez como residente principal. Considerada una de las noches más emblemáticas de la isla\, esta nueva fase combina su espíritu original con una renovada dirección musical centrada en el house. \nLa residencia propone un viaje que conecta el pasado hippie de la isla con el presente del clubbing global\, manteniendo su esencia libre y festiva mientras evoluciona hacia un enfoque más contemporáneo. Una cita imprescindible del verano 2026 que reafirma a Pacha Ibiza como uno de los grandes templos de la música electrónica. \nMás información en Roger Sánchez liderará Flower Power 2026 en Pacha Ibiza en una nueva etapa
URL:https://lavozdeibiza.com/event/flower-power-en-pacha-ibiza-2026-roger-sanchez-lidera-los-sabados/2026-06-27/
LOCATION:Pacha Ibiza\, Av. 8 d’Agost\, 07800\, Ibiza\, Islas Baleares\, Spain
CATEGORIES:OCIO
ATTACH;FMTTYPE=image/jpeg:https://lavozdeibiza.com/wp-content/uploads/2025/08/Flower-Power_Bora-Uzer-London-Community-Gospel-Choir-Sam-Oui_-Pacha-Ibiza-1.jpg
END:VEVENT
BEGIN:VEVENT
DTSTART;TZID=Europe/Madrid:20260704T230000
DTEND;TZID=Europe/Madrid:20260704T230000
DTSTAMP:20260422T055347
CREATED:20260416T140124Z
LAST-MODIFIED:20260416T140124Z
UID:10026287-1783206000-1783206000@lavozdeibiza.com
SUMMARY:Flower Power en Pacha Ibiza 2026: Roger Sanchez lidera los sábados
DESCRIPTION:La icónica fiesta Flower Power inicia una nueva etapa en Pacha Ibiza en 2026 con Roger Sanchez como residente principal. Considerada una de las noches más emblemáticas de la isla\, esta nueva fase combina su espíritu original con una renovada dirección musical centrada en el house. \nLa residencia propone un viaje que conecta el pasado hippie de la isla con el presente del clubbing global\, manteniendo su esencia libre y festiva mientras evoluciona hacia un enfoque más contemporáneo. Una cita imprescindible del verano 2026 que reafirma a Pacha Ibiza como uno de los grandes templos de la música electrónica. \nMás información en Roger Sánchez liderará Flower Power 2026 en Pacha Ibiza en una nueva etapa
URL:https://lavozdeibiza.com/event/flower-power-en-pacha-ibiza-2026-roger-sanchez-lidera-los-sabados/2026-07-04/
LOCATION:Pacha Ibiza\, Av. 8 d’Agost\, 07800\, Ibiza\, Islas Baleares\, Spain
CATEGORIES:OCIO
ATTACH;FMTTYPE=image/jpeg:https://lavozdeibiza.com/wp-content/uploads/2025/08/Flower-Power_Bora-Uzer-London-Community-Gospel-Choir-Sam-Oui_-Pacha-Ibiza-1.jpg
END:VEVENT
BEGIN:VEVENT
DTSTART;TZID=Europe/Madrid:20260711T230000
DTEND;TZID=Europe/Madrid:20260711T230000
DTSTAMP:20260422T055347
CREATED:20260416T140124Z
LAST-MODIFIED:20260416T140124Z
UID:10026288-1783810800-1783810800@lavozdeibiza.com
SUMMARY:Flower Power en Pacha Ibiza 2026: Roger Sanchez lidera los sábados
DESCRIPTION:La icónica fiesta Flower Power inicia una nueva etapa en Pacha Ibiza en 2026 con Roger Sanchez como residente principal. Considerada una de las noches más emblemáticas de la isla\, esta nueva fase combina su espíritu original con una renovada dirección musical centrada en el house. \nLa residencia propone un viaje que conecta el pasado hippie de la isla con el presente del clubbing global\, manteniendo su esencia libre y festiva mientras evoluciona hacia un enfoque más contemporáneo. Una cita imprescindible del verano 2026 que reafirma a Pacha Ibiza como uno de los grandes templos de la música electrónica. \nMás información en Roger Sánchez liderará Flower Power 2026 en Pacha Ibiza en una nueva etapa
URL:https://lavozdeibiza.com/event/flower-power-en-pacha-ibiza-2026-roger-sanchez-lidera-los-sabados/2026-07-11/
LOCATION:Pacha Ibiza\, Av. 8 d’Agost\, 07800\, Ibiza\, Islas Baleares\, Spain
CATEGORIES:OCIO
ATTACH;FMTTYPE=image/jpeg:https://lavozdeibiza.com/wp-content/uploads/2025/08/Flower-Power_Bora-Uzer-London-Community-Gospel-Choir-Sam-Oui_-Pacha-Ibiza-1.jpg
END:VEVENT
BEGIN:VEVENT
DTSTART;TZID=Europe/Madrid:20260718T230000
DTEND;TZID=Europe/Madrid:20260718T230000
DTSTAMP:20260422T055347
CREATED:20260416T140124Z
LAST-MODIFIED:20260416T140124Z
UID:10026289-1784415600-1784415600@lavozdeibiza.com
SUMMARY:Flower Power en Pacha Ibiza 2026: Roger Sanchez lidera los sábados
DESCRIPTION:La icónica fiesta Flower Power inicia una nueva etapa en Pacha Ibiza en 2026 con Roger Sanchez como residente principal. Considerada una de las noches más emblemáticas de la isla\, esta nueva fase combina su espíritu original con una renovada dirección musical centrada en el house. \nLa residencia propone un viaje que conecta el pasado hippie de la isla con el presente del clubbing global\, manteniendo su esencia libre y festiva mientras evoluciona hacia un enfoque más contemporáneo. Una cita imprescindible del verano 2026 que reafirma a Pacha Ibiza como uno de los grandes templos de la música electrónica. \nMás información en Roger Sánchez liderará Flower Power 2026 en Pacha Ibiza en una nueva etapa
URL:https://lavozdeibiza.com/event/flower-power-en-pacha-ibiza-2026-roger-sanchez-lidera-los-sabados/2026-07-18/
LOCATION:Pacha Ibiza\, Av. 8 d’Agost\, 07800\, Ibiza\, Islas Baleares\, Spain
CATEGORIES:OCIO
ATTACH;FMTTYPE=image/jpeg:https://lavozdeibiza.com/wp-content/uploads/2025/08/Flower-Power_Bora-Uzer-London-Community-Gospel-Choir-Sam-Oui_-Pacha-Ibiza-1.jpg
END:VEVENT
BEGIN:VEVENT
DTSTART;TZID=Europe/Madrid:20260725T230000
DTEND;TZID=Europe/Madrid:20260725T230000
DTSTAMP:20260422T055347
CREATED:20260416T140124Z
LAST-MODIFIED:20260416T140124Z
UID:10026290-1785020400-1785020400@lavozdeibiza.com
SUMMARY:Flower Power en Pacha Ibiza 2026: Roger Sanchez lidera los sábados
DESCRIPTION:La icónica fiesta Flower Power inicia una nueva etapa en Pacha Ibiza en 2026 con Roger Sanchez como residente principal. Considerada una de las noches más emblemáticas de la isla\, esta nueva fase combina su espíritu original con una renovada dirección musical centrada en el house. \nLa residencia propone un viaje que conecta el pasado hippie de la isla con el presente del clubbing global\, manteniendo su esencia libre y festiva mientras evoluciona hacia un enfoque más contemporáneo. Una cita imprescindible del verano 2026 que reafirma a Pacha Ibiza como uno de los grandes templos de la música electrónica. \nMás información en Roger Sánchez liderará Flower Power 2026 en Pacha Ibiza en una nueva etapa
URL:https://lavozdeibiza.com/event/flower-power-en-pacha-ibiza-2026-roger-sanchez-lidera-los-sabados/2026-07-25/
LOCATION:Pacha Ibiza\, Av. 8 d’Agost\, 07800\, Ibiza\, Islas Baleares\, Spain
CATEGORIES:OCIO
ATTACH;FMTTYPE=image/jpeg:https://lavozdeibiza.com/wp-content/uploads/2025/08/Flower-Power_Bora-Uzer-London-Community-Gospel-Choir-Sam-Oui_-Pacha-Ibiza-1.jpg
END:VEVENT
BEGIN:VEVENT
DTSTART;TZID=Europe/Madrid:20260801T230000
DTEND;TZID=Europe/Madrid:20260801T230000
DTSTAMP:20260422T055347
CREATED:20260416T140124Z
LAST-MODIFIED:20260416T140124Z
UID:10026291-1785625200-1785625200@lavozdeibiza.com
SUMMARY:Flower Power en Pacha Ibiza 2026: Roger Sanchez lidera los sábados
DESCRIPTION:La icónica fiesta Flower Power inicia una nueva etapa en Pacha Ibiza en 2026 con Roger Sanchez como residente principal. Considerada una de las noches más emblemáticas de la isla\, esta nueva fase combina su espíritu original con una renovada dirección musical centrada en el house. \nLa residencia propone un viaje que conecta el pasado hippie de la isla con el presente del clubbing global\, manteniendo su esencia libre y festiva mientras evoluciona hacia un enfoque más contemporáneo. Una cita imprescindible del verano 2026 que reafirma a Pacha Ibiza como uno de los grandes templos de la música electrónica. \nMás información en Roger Sánchez liderará Flower Power 2026 en Pacha Ibiza en una nueva etapa
URL:https://lavozdeibiza.com/event/flower-power-en-pacha-ibiza-2026-roger-sanchez-lidera-los-sabados/2026-08-01/
LOCATION:Pacha Ibiza\, Av. 8 d’Agost\, 07800\, Ibiza\, Islas Baleares\, Spain
CATEGORIES:OCIO
ATTACH;FMTTYPE=image/jpeg:https://lavozdeibiza.com/wp-content/uploads/2025/08/Flower-Power_Bora-Uzer-London-Community-Gospel-Choir-Sam-Oui_-Pacha-Ibiza-1.jpg
END:VEVENT
BEGIN:VEVENT
DTSTART;TZID=Europe/Madrid:20260808T230000
DTEND;TZID=Europe/Madrid:20260808T230000
DTSTAMP:20260422T055347
CREATED:20260416T140124Z
LAST-MODIFIED:20260416T140124Z
UID:10026292-1786230000-1786230000@lavozdeibiza.com
SUMMARY:Flower Power en Pacha Ibiza 2026: Roger Sanchez lidera los sábados
DESCRIPTION:La icónica fiesta Flower Power inicia una nueva etapa en Pacha Ibiza en 2026 con Roger Sanchez como residente principal. Considerada una de las noches más emblemáticas de la isla\, esta nueva fase combina su espíritu original con una renovada dirección musical centrada en el house. \nLa residencia propone un viaje que conecta el pasado hippie de la isla con el presente del clubbing global\, manteniendo su esencia libre y festiva mientras evoluciona hacia un enfoque más contemporáneo. Una cita imprescindible del verano 2026 que reafirma a Pacha Ibiza como uno de los grandes templos de la música electrónica. \nMás información en Roger Sánchez liderará Flower Power 2026 en Pacha Ibiza en una nueva etapa
URL:https://lavozdeibiza.com/event/flower-power-en-pacha-ibiza-2026-roger-sanchez-lidera-los-sabados/2026-08-08/
LOCATION:Pacha Ibiza\, Av. 8 d’Agost\, 07800\, Ibiza\, Islas Baleares\, Spain
CATEGORIES:OCIO
ATTACH;FMTTYPE=image/jpeg:https://lavozdeibiza.com/wp-content/uploads/2025/08/Flower-Power_Bora-Uzer-London-Community-Gospel-Choir-Sam-Oui_-Pacha-Ibiza-1.jpg
END:VEVENT
BEGIN:VEVENT
DTSTART;TZID=Europe/Madrid:20260815T230000
DTEND;TZID=Europe/Madrid:20260815T230000
DTSTAMP:20260422T055347
CREATED:20260416T140124Z
LAST-MODIFIED:20260416T140124Z
UID:10026293-1786834800-1786834800@lavozdeibiza.com
SUMMARY:Flower Power en Pacha Ibiza 2026: Roger Sanchez lidera los sábados
DESCRIPTION:La icónica fiesta Flower Power inicia una nueva etapa en Pacha Ibiza en 2026 con Roger Sanchez como residente principal. Considerada una de las noches más emblemáticas de la isla\, esta nueva fase combina su espíritu original con una renovada dirección musical centrada en el house. \nLa residencia propone un viaje que conecta el pasado hippie de la isla con el presente del clubbing global\, manteniendo su esencia libre y festiva mientras evoluciona hacia un enfoque más contemporáneo. Una cita imprescindible del verano 2026 que reafirma a Pacha Ibiza como uno de los grandes templos de la música electrónica. \nMás información en Roger Sánchez liderará Flower Power 2026 en Pacha Ibiza en una nueva etapa
URL:https://lavozdeibiza.com/event/flower-power-en-pacha-ibiza-2026-roger-sanchez-lidera-los-sabados/2026-08-15/
LOCATION:Pacha Ibiza\, Av. 8 d’Agost\, 07800\, Ibiza\, Islas Baleares\, Spain
CATEGORIES:OCIO
ATTACH;FMTTYPE=image/jpeg:https://lavozdeibiza.com/wp-content/uploads/2025/08/Flower-Power_Bora-Uzer-London-Community-Gospel-Choir-Sam-Oui_-Pacha-Ibiza-1.jpg
END:VEVENT
BEGIN:VEVENT
DTSTART;TZID=Europe/Madrid:20260822T230000
DTEND;TZID=Europe/Madrid:20260822T230000
DTSTAMP:20260422T055347
CREATED:20260416T140124Z
LAST-MODIFIED:20260416T140124Z
UID:10026294-1787439600-1787439600@lavozdeibiza.com
SUMMARY:Flower Power en Pacha Ibiza 2026: Roger Sanchez lidera los sábados
DESCRIPTION:La icónica fiesta Flower Power inicia una nueva etapa en Pacha Ibiza en 2026 con Roger Sanchez como residente principal. Considerada una de las noches más emblemáticas de la isla\, esta nueva fase combina su espíritu original con una renovada dirección musical centrada en el house. \nLa residencia propone un viaje que conecta el pasado hippie de la isla con el presente del clubbing global\, manteniendo su esencia libre y festiva mientras evoluciona hacia un enfoque más contemporáneo. Una cita imprescindible del verano 2026 que reafirma a Pacha Ibiza como uno de los grandes templos de la música electrónica. \nMás información en Roger Sánchez liderará Flower Power 2026 en Pacha Ibiza en una nueva etapa
URL:https://lavozdeibiza.com/event/flower-power-en-pacha-ibiza-2026-roger-sanchez-lidera-los-sabados/2026-08-22/
LOCATION:Pacha Ibiza\, Av. 8 d’Agost\, 07800\, Ibiza\, Islas Baleares\, Spain
CATEGORIES:OCIO
ATTACH;FMTTYPE=image/jpeg:https://lavozdeibiza.com/wp-content/uploads/2025/08/Flower-Power_Bora-Uzer-London-Community-Gospel-Choir-Sam-Oui_-Pacha-Ibiza-1.jpg
END:VEVENT
BEGIN:VEVENT
DTSTART;TZID=Europe/Madrid:20260829T230000
DTEND;TZID=Europe/Madrid:20260829T230000
DTSTAMP:20260422T055347
CREATED:20260416T140124Z
LAST-MODIFIED:20260416T140124Z
UID:10026295-1788044400-1788044400@lavozdeibiza.com
SUMMARY:Flower Power en Pacha Ibiza 2026: Roger Sanchez lidera los sábados
DESCRIPTION:La icónica fiesta Flower Power inicia una nueva etapa en Pacha Ibiza en 2026 con Roger Sanchez como residente principal. Considerada una de las noches más emblemáticas de la isla\, esta nueva fase combina su espíritu original con una renovada dirección musical centrada en el house. \nLa residencia propone un viaje que conecta el pasado hippie de la isla con el presente del clubbing global\, manteniendo su esencia libre y festiva mientras evoluciona hacia un enfoque más contemporáneo. Una cita imprescindible del verano 2026 que reafirma a Pacha Ibiza como uno de los grandes templos de la música electrónica. \nMás información en Roger Sánchez liderará Flower Power 2026 en Pacha Ibiza en una nueva etapa
URL:https://lavozdeibiza.com/event/flower-power-en-pacha-ibiza-2026-roger-sanchez-lidera-los-sabados/2026-08-29/
LOCATION:Pacha Ibiza\, Av. 8 d’Agost\, 07800\, Ibiza\, Islas Baleares\, Spain
CATEGORIES:OCIO
ATTACH;FMTTYPE=image/jpeg:https://lavozdeibiza.com/wp-content/uploads/2025/08/Flower-Power_Bora-Uzer-London-Community-Gospel-Choir-Sam-Oui_-Pacha-Ibiza-1.jpg
END:VEVENT
END:VCALENDAR