BEGIN:VCALENDAR
VERSION:2.0
PRODID:-//La Voz De Ibiza - ECPv6.15.20//NONSGML v1.0//EN
CALSCALE:GREGORIAN
METHOD:PUBLISH
X-WR-CALNAME:La Voz De Ibiza
X-ORIGINAL-URL:https://lavozdeibiza.com
X-WR-CALDESC:Eventos para La Voz De Ibiza
REFRESH-INTERVAL;VALUE=DURATION:PT1H
X-Robots-Tag:noindex
X-PUBLISHED-TTL:PT1H
BEGIN:VTIMEZONE
TZID:Europe/Madrid
BEGIN:DAYLIGHT
TZOFFSETFROM:+0100
TZOFFSETTO:+0200
TZNAME:CEST
DTSTART:20250330T010000
END:DAYLIGHT
BEGIN:STANDARD
TZOFFSETFROM:+0200
TZOFFSETTO:+0100
TZNAME:CET
DTSTART:20251026T010000
END:STANDARD
BEGIN:DAYLIGHT
TZOFFSETFROM:+0100
TZOFFSETTO:+0200
TZNAME:CEST
DTSTART:20260329T010000
END:DAYLIGHT
BEGIN:STANDARD
TZOFFSETFROM:+0200
TZOFFSETTO:+0100
TZNAME:CET
DTSTART:20261025T010000
END:STANDARD
BEGIN:DAYLIGHT
TZOFFSETFROM:+0100
TZOFFSETTO:+0200
TZNAME:CEST
DTSTART:20270328T010000
END:DAYLIGHT
BEGIN:STANDARD
TZOFFSETFROM:+0200
TZOFFSETTO:+0100
TZNAME:CET
DTSTART:20271031T010000
END:STANDARD
END:VTIMEZONE
BEGIN:VEVENT
DTSTART;TZID=Europe/Madrid:20260609T230000
DTEND;TZID=Europe/Madrid:20260609T230000
DTSTAMP:20260422T065841
CREATED:20260416T141024Z
LAST-MODIFIED:20260416T141024Z
UID:10026297-1781046000-1781046000@lavozdeibiza.com
SUMMARY:Vintage Culture en Pacha Ibiza 2026: cuatro noches exclusivas
DESCRIPTION:El DJ brasileño Vintage Culture regresa a Pacha Ibiza en 2026 con una residencia exclusiva de solo cuatro fechas. Este formato limitado convierte cada sesión en una cita especial dentro del calendario del verano\, reforzando su vínculo con uno de los clubs más icónicos de la isla. \nCon un sonido que combina house melódico\, grooves profundos y una fuerte carga emocional\, Vintage Culture se ha consolidado como uno de los artistas más influyentes de la escena global. Sus sets destacan por construir un viaje progresivo en la pista\, equilibrando momentos eufóricos con pasajes más introspectivos. \nCada noche contará con invitados de primer nivel como Eric Prydz\, WhoMadeWho\, Franky Rizardo o Mochakk\, en una propuesta curada personalmente por el artista. \nMás información en Vintage Culture firma cuatro noches únicas en Pacha Ibiza con su regreso exclusivo
URL:https://lavozdeibiza.com/event/vintage-culture-en-pacha-ibiza-2026-cuatro-noches-exclusivas/2026-06-09/
LOCATION:Pacha Ibiza\, Av. 8 d’Agost\, 07800\, Ibiza\, Islas Baleares\, Spain
CATEGORIES:OCIO
ATTACH;FMTTYPE=image/jpeg:https://lavozdeibiza.com/wp-content/uploads/2026/02/Vintage-Culture.-Archivo.jpg
END:VEVENT
BEGIN:VEVENT
DTSTART;TZID=Europe/Madrid:20260616T230000
DTEND;TZID=Europe/Madrid:20260616T230000
DTSTAMP:20260422T065841
CREATED:20260416T141024Z
LAST-MODIFIED:20260416T141024Z
UID:10026298-1781650800-1781650800@lavozdeibiza.com
SUMMARY:Vintage Culture en Pacha Ibiza 2026: cuatro noches exclusivas
DESCRIPTION:El DJ brasileño Vintage Culture regresa a Pacha Ibiza en 2026 con una residencia exclusiva de solo cuatro fechas. Este formato limitado convierte cada sesión en una cita especial dentro del calendario del verano\, reforzando su vínculo con uno de los clubs más icónicos de la isla. \nCon un sonido que combina house melódico\, grooves profundos y una fuerte carga emocional\, Vintage Culture se ha consolidado como uno de los artistas más influyentes de la escena global. Sus sets destacan por construir un viaje progresivo en la pista\, equilibrando momentos eufóricos con pasajes más introspectivos. \nCada noche contará con invitados de primer nivel como Eric Prydz\, WhoMadeWho\, Franky Rizardo o Mochakk\, en una propuesta curada personalmente por el artista. \nMás información en Vintage Culture firma cuatro noches únicas en Pacha Ibiza con su regreso exclusivo
URL:https://lavozdeibiza.com/event/vintage-culture-en-pacha-ibiza-2026-cuatro-noches-exclusivas/2026-06-16/
LOCATION:Pacha Ibiza\, Av. 8 d’Agost\, 07800\, Ibiza\, Islas Baleares\, Spain
CATEGORIES:OCIO
ATTACH;FMTTYPE=image/jpeg:https://lavozdeibiza.com/wp-content/uploads/2026/02/Vintage-Culture.-Archivo.jpg
END:VEVENT
BEGIN:VEVENT
DTSTART;TZID=Europe/Madrid:20260623T230000
DTEND;TZID=Europe/Madrid:20260623T230000
DTSTAMP:20260422T065841
CREATED:20260416T141024Z
LAST-MODIFIED:20260416T141024Z
UID:10026299-1782255600-1782255600@lavozdeibiza.com
SUMMARY:Vintage Culture en Pacha Ibiza 2026: cuatro noches exclusivas
DESCRIPTION:El DJ brasileño Vintage Culture regresa a Pacha Ibiza en 2026 con una residencia exclusiva de solo cuatro fechas. Este formato limitado convierte cada sesión en una cita especial dentro del calendario del verano\, reforzando su vínculo con uno de los clubs más icónicos de la isla. \nCon un sonido que combina house melódico\, grooves profundos y una fuerte carga emocional\, Vintage Culture se ha consolidado como uno de los artistas más influyentes de la escena global. Sus sets destacan por construir un viaje progresivo en la pista\, equilibrando momentos eufóricos con pasajes más introspectivos. \nCada noche contará con invitados de primer nivel como Eric Prydz\, WhoMadeWho\, Franky Rizardo o Mochakk\, en una propuesta curada personalmente por el artista. \nMás información en Vintage Culture firma cuatro noches únicas en Pacha Ibiza con su regreso exclusivo
URL:https://lavozdeibiza.com/event/vintage-culture-en-pacha-ibiza-2026-cuatro-noches-exclusivas/2026-06-23/
LOCATION:Pacha Ibiza\, Av. 8 d’Agost\, 07800\, Ibiza\, Islas Baleares\, Spain
CATEGORIES:OCIO
ATTACH;FMTTYPE=image/jpeg:https://lavozdeibiza.com/wp-content/uploads/2026/02/Vintage-Culture.-Archivo.jpg
END:VEVENT
BEGIN:VEVENT
DTSTART;TZID=Europe/Madrid:20260630T230000
DTEND;TZID=Europe/Madrid:20260630T230000
DTSTAMP:20260422T065841
CREATED:20260416T141024Z
LAST-MODIFIED:20260416T141024Z
UID:10026300-1782860400-1782860400@lavozdeibiza.com
SUMMARY:Vintage Culture en Pacha Ibiza 2026: cuatro noches exclusivas
DESCRIPTION:El DJ brasileño Vintage Culture regresa a Pacha Ibiza en 2026 con una residencia exclusiva de solo cuatro fechas. Este formato limitado convierte cada sesión en una cita especial dentro del calendario del verano\, reforzando su vínculo con uno de los clubs más icónicos de la isla. \nCon un sonido que combina house melódico\, grooves profundos y una fuerte carga emocional\, Vintage Culture se ha consolidado como uno de los artistas más influyentes de la escena global. Sus sets destacan por construir un viaje progresivo en la pista\, equilibrando momentos eufóricos con pasajes más introspectivos. \nCada noche contará con invitados de primer nivel como Eric Prydz\, WhoMadeWho\, Franky Rizardo o Mochakk\, en una propuesta curada personalmente por el artista. \nMás información en Vintage Culture firma cuatro noches únicas en Pacha Ibiza con su regreso exclusivo
URL:https://lavozdeibiza.com/event/vintage-culture-en-pacha-ibiza-2026-cuatro-noches-exclusivas/2026-06-30/
LOCATION:Pacha Ibiza\, Av. 8 d’Agost\, 07800\, Ibiza\, Islas Baleares\, Spain
CATEGORIES:OCIO
ATTACH;FMTTYPE=image/jpeg:https://lavozdeibiza.com/wp-content/uploads/2026/02/Vintage-Culture.-Archivo.jpg
END:VEVENT
END:VCALENDAR