BEGIN:VCALENDAR
VERSION:2.0
PRODID:-//La Voz De Ibiza - ECPv6.15.20//NONSGML v1.0//EN
CALSCALE:GREGORIAN
METHOD:PUBLISH
X-WR-CALNAME:La Voz De Ibiza
X-ORIGINAL-URL:https://lavozdeibiza.com
X-WR-CALDESC:Eventos para La Voz De Ibiza
REFRESH-INTERVAL;VALUE=DURATION:PT1H
X-Robots-Tag:noindex
X-PUBLISHED-TTL:PT1H
BEGIN:VTIMEZONE
TZID:Europe/Madrid
BEGIN:DAYLIGHT
TZOFFSETFROM:+0100
TZOFFSETTO:+0200
TZNAME:CEST
DTSTART:20250330T010000
END:DAYLIGHT
BEGIN:STANDARD
TZOFFSETFROM:+0200
TZOFFSETTO:+0100
TZNAME:CET
DTSTART:20251026T010000
END:STANDARD
BEGIN:DAYLIGHT
TZOFFSETFROM:+0100
TZOFFSETTO:+0200
TZNAME:CEST
DTSTART:20260329T010000
END:DAYLIGHT
BEGIN:STANDARD
TZOFFSETFROM:+0200
TZOFFSETTO:+0100
TZNAME:CET
DTSTART:20261025T010000
END:STANDARD
BEGIN:DAYLIGHT
TZOFFSETFROM:+0100
TZOFFSETTO:+0200
TZNAME:CEST
DTSTART:20270328T010000
END:DAYLIGHT
BEGIN:STANDARD
TZOFFSETFROM:+0200
TZOFFSETTO:+0100
TZNAME:CET
DTSTART:20271031T010000
END:STANDARD
END:VTIMEZONE
BEGIN:VEVENT
DTSTART;TZID=Europe/Madrid:20260428T230000
DTEND;TZID=Europe/Madrid:20260428T230000
DTSTAMP:20260422T065841
CREATED:20260416T144017Z
LAST-MODIFIED:20260416T144017Z
UID:10026305-1777417200-1777417200@lavozdeibiza.com
SUMMARY:FLOW en Pacha Ibiza 2026: Franky Rizardo estrena su primera residencia
DESCRIPTION:El DJ neerlandés Franky Rizardo debuta con su primera residencia en Ibiza con FLOW\, un concepto propio que aterriza en Pacha Ibiza durante la primavera de 2026. \nFLOW representa la esencia más personal de Rizardo: una experiencia de club centrada en el groove\, la continuidad musical y la conexión con la pista\, alejándose de los formatos comerciales para apostar por sets largos y una narrativa sonora progresiva. El sonido se mueve entre el house y tech house más depurado\, con una selección de invitados cuidadosamente curada en cada noche. \nMás información en Confirmado: Franky Rizardo estrenará FLOW como su primera residencia en Pacha Ibiza
URL:https://lavozdeibiza.com/event/flow-en-pacha-ibiza-2026-franky-rizardo-estrena-su-primera-residencia/2026-04-28/
LOCATION:Pacha Ibiza\, Av. 8 d’Agost\, 07800\, Ibiza\, Islas Baleares\, Spain
CATEGORIES:OCIO
ATTACH;FMTTYPE=image/webp:https://lavozdeibiza.com/wp-content/uploads/2026/02/Franky-Rizardo.webp
END:VEVENT
BEGIN:VEVENT
DTSTART;TZID=Europe/Madrid:20260505T230000
DTEND;TZID=Europe/Madrid:20260505T230000
DTSTAMP:20260422T065841
CREATED:20260416T144017Z
LAST-MODIFIED:20260416T144017Z
UID:10026306-1778022000-1778022000@lavozdeibiza.com
SUMMARY:FLOW en Pacha Ibiza 2026: Franky Rizardo estrena su primera residencia
DESCRIPTION:El DJ neerlandés Franky Rizardo debuta con su primera residencia en Ibiza con FLOW\, un concepto propio que aterriza en Pacha Ibiza durante la primavera de 2026. \nFLOW representa la esencia más personal de Rizardo: una experiencia de club centrada en el groove\, la continuidad musical y la conexión con la pista\, alejándose de los formatos comerciales para apostar por sets largos y una narrativa sonora progresiva. El sonido se mueve entre el house y tech house más depurado\, con una selección de invitados cuidadosamente curada en cada noche. \nMás información en Confirmado: Franky Rizardo estrenará FLOW como su primera residencia en Pacha Ibiza
URL:https://lavozdeibiza.com/event/flow-en-pacha-ibiza-2026-franky-rizardo-estrena-su-primera-residencia/2026-05-05/
LOCATION:Pacha Ibiza\, Av. 8 d’Agost\, 07800\, Ibiza\, Islas Baleares\, Spain
CATEGORIES:OCIO
ATTACH;FMTTYPE=image/webp:https://lavozdeibiza.com/wp-content/uploads/2026/02/Franky-Rizardo.webp
END:VEVENT
BEGIN:VEVENT
DTSTART;TZID=Europe/Madrid:20260512T230000
DTEND;TZID=Europe/Madrid:20260512T230000
DTSTAMP:20260422T065841
CREATED:20260416T144017Z
LAST-MODIFIED:20260416T144017Z
UID:10026307-1778626800-1778626800@lavozdeibiza.com
SUMMARY:FLOW en Pacha Ibiza 2026: Franky Rizardo estrena su primera residencia
DESCRIPTION:El DJ neerlandés Franky Rizardo debuta con su primera residencia en Ibiza con FLOW\, un concepto propio que aterriza en Pacha Ibiza durante la primavera de 2026. \nFLOW representa la esencia más personal de Rizardo: una experiencia de club centrada en el groove\, la continuidad musical y la conexión con la pista\, alejándose de los formatos comerciales para apostar por sets largos y una narrativa sonora progresiva. El sonido se mueve entre el house y tech house más depurado\, con una selección de invitados cuidadosamente curada en cada noche. \nMás información en Confirmado: Franky Rizardo estrenará FLOW como su primera residencia en Pacha Ibiza
URL:https://lavozdeibiza.com/event/flow-en-pacha-ibiza-2026-franky-rizardo-estrena-su-primera-residencia/2026-05-12/
LOCATION:Pacha Ibiza\, Av. 8 d’Agost\, 07800\, Ibiza\, Islas Baleares\, Spain
CATEGORIES:OCIO
ATTACH;FMTTYPE=image/webp:https://lavozdeibiza.com/wp-content/uploads/2026/02/Franky-Rizardo.webp
END:VEVENT
BEGIN:VEVENT
DTSTART;TZID=Europe/Madrid:20260519T230000
DTEND;TZID=Europe/Madrid:20260519T230000
DTSTAMP:20260422T065841
CREATED:20260416T144017Z
LAST-MODIFIED:20260416T144017Z
UID:10026308-1779231600-1779231600@lavozdeibiza.com
SUMMARY:FLOW en Pacha Ibiza 2026: Franky Rizardo estrena su primera residencia
DESCRIPTION:El DJ neerlandés Franky Rizardo debuta con su primera residencia en Ibiza con FLOW\, un concepto propio que aterriza en Pacha Ibiza durante la primavera de 2026. \nFLOW representa la esencia más personal de Rizardo: una experiencia de club centrada en el groove\, la continuidad musical y la conexión con la pista\, alejándose de los formatos comerciales para apostar por sets largos y una narrativa sonora progresiva. El sonido se mueve entre el house y tech house más depurado\, con una selección de invitados cuidadosamente curada en cada noche. \nMás información en Confirmado: Franky Rizardo estrenará FLOW como su primera residencia en Pacha Ibiza
URL:https://lavozdeibiza.com/event/flow-en-pacha-ibiza-2026-franky-rizardo-estrena-su-primera-residencia/2026-05-19/
LOCATION:Pacha Ibiza\, Av. 8 d’Agost\, 07800\, Ibiza\, Islas Baleares\, Spain
CATEGORIES:OCIO
ATTACH;FMTTYPE=image/webp:https://lavozdeibiza.com/wp-content/uploads/2026/02/Franky-Rizardo.webp
END:VEVENT
END:VCALENDAR