BEGIN:VCALENDAR
VERSION:2.0
PRODID:-//La Voz De Ibiza - ECPv6.15.20//NONSGML v1.0//EN
CALSCALE:GREGORIAN
METHOD:PUBLISH
X-WR-CALNAME:La Voz De Ibiza
X-ORIGINAL-URL:https://lavozdeibiza.com
X-WR-CALDESC:Eventos para La Voz De Ibiza
REFRESH-INTERVAL;VALUE=DURATION:PT1H
X-Robots-Tag:noindex
X-PUBLISHED-TTL:PT1H
BEGIN:VTIMEZONE
TZID:Europe/Madrid
BEGIN:DAYLIGHT
TZOFFSETFROM:+0100
TZOFFSETTO:+0200
TZNAME:CEST
DTSTART:20250330T010000
END:DAYLIGHT
BEGIN:STANDARD
TZOFFSETFROM:+0200
TZOFFSETTO:+0100
TZNAME:CET
DTSTART:20251026T010000
END:STANDARD
BEGIN:DAYLIGHT
TZOFFSETFROM:+0100
TZOFFSETTO:+0200
TZNAME:CEST
DTSTART:20260329T010000
END:DAYLIGHT
BEGIN:STANDARD
TZOFFSETFROM:+0200
TZOFFSETTO:+0100
TZNAME:CET
DTSTART:20261025T010000
END:STANDARD
BEGIN:DAYLIGHT
TZOFFSETFROM:+0100
TZOFFSETTO:+0200
TZNAME:CEST
DTSTART:20270328T010000
END:DAYLIGHT
BEGIN:STANDARD
TZOFFSETFROM:+0200
TZOFFSETTO:+0100
TZNAME:CET
DTSTART:20271031T010000
END:STANDARD
END:VTIMEZONE
BEGIN:VEVENT
DTSTART;TZID=Europe/Madrid:20260505T170000
DTEND;TZID=Europe/Madrid:20260505T170000
DTSTAMP:20260422T072125
CREATED:20260416T151624Z
LAST-MODIFIED:20260416T151624Z
UID:10026343-1778000400-1778000400@lavozdeibiza.com
SUMMARY:Festes de Maig en Santa Eulària: agenda con teatro\, rutas y actividades familiares
DESCRIPTION: Las Festes de Maig continúan en Santa Eulària con una programación variada que combina cultura\, ocio y actividades para todas las edades. \nDurante estos días\, el municipio ofrece propuestas diarias que van desde teatro y música hasta rutas saludables y actividades infantiles. \nPrograma por días:\nMartes 5 de mayo \n17:00 h: Cuentacuentos “Tráete tus orejas” (Centro Cultural de Jesús) \n18:00 h: Exposición de obras de la colección municipal (Sala Sant Jaume 72\, hasta el 23 de mayo) \n20:00 h: Tertulia del club de lectura (Biblioteca municipal) \nMiércoles 6 de mayo \n09:00 h: Rutas saludables (Centro de Salud) \n20:30 h: Torneo de backgammon (Bar Can Poll) \nJueves 7 de mayo \n17:00 h: “Un mundo de cuentos” (Biblioteca municipal) \n19:00 h: Concierto del IES Xarc (Plaza de España) \n20:30 h: Final del torneo de backgammon (Can Poll) \nViernes 8 de mayo \n09:00 h: Rutas saludables (Centro de Salud) \n11:30 h: Actividad para mayores “Memoria floral” \n17:00 h: Romería a la Creu d’en Ribes (salida desde Plaza de España) \n18:30 h: Charla “Plan mayor seguridad” (Club de Majores) \nSábado 9 de mayo \n09:00–15:00 h: Pesca submarina (pesaje desde las 17:00 h) \n10:30 h: Ruta guiada en Can Planetes \n12:30 h: Concierto del conjunto de metales (Can Planetes) \n20:00 h: Teatro “Yo no he sido!!” (Teatro España) \nDomingo 10 de mayo \n10:30 h y 12:00 h: Teatro musical infantil “Tararea” (Teatro España) \n19:00 h: Romería con el Coro Rociero (desde capilla de Lourdes)
URL:https://lavozdeibiza.com/event/festes-de-maig-en-santa-eularia-agenda-con-teatro-rutas-y-actividades-familiares/2026-05-05/
LOCATION:Santa Eulària des Riu\, Santa Eulària des Riu\, Islas Baleares\, Spain
CATEGORIES:BIENESTAR Y DEPORTE,CULTURA Y SOCIEDAD,EVENTOS FAMILIARES,MÚSICA
ATTACH;FMTTYPE=image/jpeg:https://lavozdeibiza.com/wp-content/uploads/2026/04/Fiestas-de-Mayo.jpg
END:VEVENT
BEGIN:VEVENT
DTSTART;TZID=Europe/Madrid:20260506T090000
DTEND;TZID=Europe/Madrid:20260506T090000
DTSTAMP:20260422T072125
CREATED:20260416T151624Z
LAST-MODIFIED:20260416T151624Z
UID:10026344-1778058000-1778058000@lavozdeibiza.com
SUMMARY:Festes de Maig en Santa Eulària: agenda con teatro\, rutas y actividades familiares
DESCRIPTION: Las Festes de Maig continúan en Santa Eulària con una programación variada que combina cultura\, ocio y actividades para todas las edades. \nDurante estos días\, el municipio ofrece propuestas diarias que van desde teatro y música hasta rutas saludables y actividades infantiles. \nPrograma por días:\nMartes 5 de mayo \n17:00 h: Cuentacuentos “Tráete tus orejas” (Centro Cultural de Jesús) \n18:00 h: Exposición de obras de la colección municipal (Sala Sant Jaume 72\, hasta el 23 de mayo) \n20:00 h: Tertulia del club de lectura (Biblioteca municipal) \nMiércoles 6 de mayo \n09:00 h: Rutas saludables (Centro de Salud) \n20:30 h: Torneo de backgammon (Bar Can Poll) \nJueves 7 de mayo \n17:00 h: “Un mundo de cuentos” (Biblioteca municipal) \n19:00 h: Concierto del IES Xarc (Plaza de España) \n20:30 h: Final del torneo de backgammon (Can Poll) \nViernes 8 de mayo \n09:00 h: Rutas saludables (Centro de Salud) \n11:30 h: Actividad para mayores “Memoria floral” \n17:00 h: Romería a la Creu d’en Ribes (salida desde Plaza de España) \n18:30 h: Charla “Plan mayor seguridad” (Club de Majores) \nSábado 9 de mayo \n09:00–15:00 h: Pesca submarina (pesaje desde las 17:00 h) \n10:30 h: Ruta guiada en Can Planetes \n12:30 h: Concierto del conjunto de metales (Can Planetes) \n20:00 h: Teatro “Yo no he sido!!” (Teatro España) \nDomingo 10 de mayo \n10:30 h y 12:00 h: Teatro musical infantil “Tararea” (Teatro España) \n19:00 h: Romería con el Coro Rociero (desde capilla de Lourdes)
URL:https://lavozdeibiza.com/event/festes-de-maig-en-santa-eularia-agenda-con-teatro-rutas-y-actividades-familiares/2026-05-06/
LOCATION:Santa Eulària des Riu\, Santa Eulària des Riu\, Islas Baleares\, Spain
CATEGORIES:BIENESTAR Y DEPORTE,CULTURA Y SOCIEDAD,EVENTOS FAMILIARES,MÚSICA
ATTACH;FMTTYPE=image/jpeg:https://lavozdeibiza.com/wp-content/uploads/2026/04/Fiestas-de-Mayo.jpg
END:VEVENT
BEGIN:VEVENT
DTSTART;TZID=Europe/Madrid:20260507T170000
DTEND;TZID=Europe/Madrid:20260507T170000
DTSTAMP:20260422T072125
CREATED:20260416T151624Z
LAST-MODIFIED:20260416T151624Z
UID:10026345-1778173200-1778173200@lavozdeibiza.com
SUMMARY:Festes de Maig en Santa Eulària: agenda con teatro\, rutas y actividades familiares
DESCRIPTION: Las Festes de Maig continúan en Santa Eulària con una programación variada que combina cultura\, ocio y actividades para todas las edades. \nDurante estos días\, el municipio ofrece propuestas diarias que van desde teatro y música hasta rutas saludables y actividades infantiles. \nPrograma por días:\nMartes 5 de mayo \n17:00 h: Cuentacuentos “Tráete tus orejas” (Centro Cultural de Jesús) \n18:00 h: Exposición de obras de la colección municipal (Sala Sant Jaume 72\, hasta el 23 de mayo) \n20:00 h: Tertulia del club de lectura (Biblioteca municipal) \nMiércoles 6 de mayo \n09:00 h: Rutas saludables (Centro de Salud) \n20:30 h: Torneo de backgammon (Bar Can Poll) \nJueves 7 de mayo \n17:00 h: “Un mundo de cuentos” (Biblioteca municipal) \n19:00 h: Concierto del IES Xarc (Plaza de España) \n20:30 h: Final del torneo de backgammon (Can Poll) \nViernes 8 de mayo \n09:00 h: Rutas saludables (Centro de Salud) \n11:30 h: Actividad para mayores “Memoria floral” \n17:00 h: Romería a la Creu d’en Ribes (salida desde Plaza de España) \n18:30 h: Charla “Plan mayor seguridad” (Club de Majores) \nSábado 9 de mayo \n09:00–15:00 h: Pesca submarina (pesaje desde las 17:00 h) \n10:30 h: Ruta guiada en Can Planetes \n12:30 h: Concierto del conjunto de metales (Can Planetes) \n20:00 h: Teatro “Yo no he sido!!” (Teatro España) \nDomingo 10 de mayo \n10:30 h y 12:00 h: Teatro musical infantil “Tararea” (Teatro España) \n19:00 h: Romería con el Coro Rociero (desde capilla de Lourdes)
URL:https://lavozdeibiza.com/event/festes-de-maig-en-santa-eularia-agenda-con-teatro-rutas-y-actividades-familiares/2026-05-07/
LOCATION:Santa Eulària des Riu\, Santa Eulària des Riu\, Islas Baleares\, Spain
CATEGORIES:BIENESTAR Y DEPORTE,CULTURA Y SOCIEDAD,EVENTOS FAMILIARES,MÚSICA
ATTACH;FMTTYPE=image/jpeg:https://lavozdeibiza.com/wp-content/uploads/2026/04/Fiestas-de-Mayo.jpg
END:VEVENT
BEGIN:VEVENT
DTSTART;TZID=Europe/Madrid:20260508T090000
DTEND;TZID=Europe/Madrid:20260508T090000
DTSTAMP:20260422T072125
CREATED:20260416T151624Z
LAST-MODIFIED:20260416T151624Z
UID:10026346-1778230800-1778230800@lavozdeibiza.com
SUMMARY:Festes de Maig en Santa Eulària: agenda con teatro\, rutas y actividades familiares
DESCRIPTION: Las Festes de Maig continúan en Santa Eulària con una programación variada que combina cultura\, ocio y actividades para todas las edades. \nDurante estos días\, el municipio ofrece propuestas diarias que van desde teatro y música hasta rutas saludables y actividades infantiles. \nPrograma por días:\nMartes 5 de mayo \n17:00 h: Cuentacuentos “Tráete tus orejas” (Centro Cultural de Jesús) \n18:00 h: Exposición de obras de la colección municipal (Sala Sant Jaume 72\, hasta el 23 de mayo) \n20:00 h: Tertulia del club de lectura (Biblioteca municipal) \nMiércoles 6 de mayo \n09:00 h: Rutas saludables (Centro de Salud) \n20:30 h: Torneo de backgammon (Bar Can Poll) \nJueves 7 de mayo \n17:00 h: “Un mundo de cuentos” (Biblioteca municipal) \n19:00 h: Concierto del IES Xarc (Plaza de España) \n20:30 h: Final del torneo de backgammon (Can Poll) \nViernes 8 de mayo \n09:00 h: Rutas saludables (Centro de Salud) \n11:30 h: Actividad para mayores “Memoria floral” \n17:00 h: Romería a la Creu d’en Ribes (salida desde Plaza de España) \n18:30 h: Charla “Plan mayor seguridad” (Club de Majores) \nSábado 9 de mayo \n09:00–15:00 h: Pesca submarina (pesaje desde las 17:00 h) \n10:30 h: Ruta guiada en Can Planetes \n12:30 h: Concierto del conjunto de metales (Can Planetes) \n20:00 h: Teatro “Yo no he sido!!” (Teatro España) \nDomingo 10 de mayo \n10:30 h y 12:00 h: Teatro musical infantil “Tararea” (Teatro España) \n19:00 h: Romería con el Coro Rociero (desde capilla de Lourdes)
URL:https://lavozdeibiza.com/event/festes-de-maig-en-santa-eularia-agenda-con-teatro-rutas-y-actividades-familiares/2026-05-08/
LOCATION:Santa Eulària des Riu\, Santa Eulària des Riu\, Islas Baleares\, Spain
CATEGORIES:BIENESTAR Y DEPORTE,CULTURA Y SOCIEDAD,EVENTOS FAMILIARES,MÚSICA
ATTACH;FMTTYPE=image/jpeg:https://lavozdeibiza.com/wp-content/uploads/2026/04/Fiestas-de-Mayo.jpg
END:VEVENT
BEGIN:VEVENT
DTSTART;TZID=Europe/Madrid:20260509T090000
DTEND;TZID=Europe/Madrid:20260509T090000
DTSTAMP:20260422T072125
CREATED:20260416T151624Z
LAST-MODIFIED:20260416T151624Z
UID:10026347-1778317200-1778317200@lavozdeibiza.com
SUMMARY:Festes de Maig en Santa Eulària: agenda con teatro\, rutas y actividades familiares
DESCRIPTION: Las Festes de Maig continúan en Santa Eulària con una programación variada que combina cultura\, ocio y actividades para todas las edades. \nDurante estos días\, el municipio ofrece propuestas diarias que van desde teatro y música hasta rutas saludables y actividades infantiles. \nPrograma por días:\nMartes 5 de mayo \n17:00 h: Cuentacuentos “Tráete tus orejas” (Centro Cultural de Jesús) \n18:00 h: Exposición de obras de la colección municipal (Sala Sant Jaume 72\, hasta el 23 de mayo) \n20:00 h: Tertulia del club de lectura (Biblioteca municipal) \nMiércoles 6 de mayo \n09:00 h: Rutas saludables (Centro de Salud) \n20:30 h: Torneo de backgammon (Bar Can Poll) \nJueves 7 de mayo \n17:00 h: “Un mundo de cuentos” (Biblioteca municipal) \n19:00 h: Concierto del IES Xarc (Plaza de España) \n20:30 h: Final del torneo de backgammon (Can Poll) \nViernes 8 de mayo \n09:00 h: Rutas saludables (Centro de Salud) \n11:30 h: Actividad para mayores “Memoria floral” \n17:00 h: Romería a la Creu d’en Ribes (salida desde Plaza de España) \n18:30 h: Charla “Plan mayor seguridad” (Club de Majores) \nSábado 9 de mayo \n09:00–15:00 h: Pesca submarina (pesaje desde las 17:00 h) \n10:30 h: Ruta guiada en Can Planetes \n12:30 h: Concierto del conjunto de metales (Can Planetes) \n20:00 h: Teatro “Yo no he sido!!” (Teatro España) \nDomingo 10 de mayo \n10:30 h y 12:00 h: Teatro musical infantil “Tararea” (Teatro España) \n19:00 h: Romería con el Coro Rociero (desde capilla de Lourdes)
URL:https://lavozdeibiza.com/event/festes-de-maig-en-santa-eularia-agenda-con-teatro-rutas-y-actividades-familiares/2026-05-09/
LOCATION:Santa Eulària des Riu\, Santa Eulària des Riu\, Islas Baleares\, Spain
CATEGORIES:BIENESTAR Y DEPORTE,CULTURA Y SOCIEDAD,EVENTOS FAMILIARES,MÚSICA
ATTACH;FMTTYPE=image/jpeg:https://lavozdeibiza.com/wp-content/uploads/2026/04/Fiestas-de-Mayo.jpg
END:VEVENT
BEGIN:VEVENT
DTSTART;TZID=Europe/Madrid:20260510T103000
DTEND;TZID=Europe/Madrid:20260510T103000
DTSTAMP:20260422T072125
CREATED:20260416T151624Z
LAST-MODIFIED:20260416T151624Z
UID:10026348-1778409000-1778409000@lavozdeibiza.com
SUMMARY:Festes de Maig en Santa Eulària: agenda con teatro\, rutas y actividades familiares
DESCRIPTION: Las Festes de Maig continúan en Santa Eulària con una programación variada que combina cultura\, ocio y actividades para todas las edades. \nDurante estos días\, el municipio ofrece propuestas diarias que van desde teatro y música hasta rutas saludables y actividades infantiles. \nPrograma por días:\nMartes 5 de mayo \n17:00 h: Cuentacuentos “Tráete tus orejas” (Centro Cultural de Jesús) \n18:00 h: Exposición de obras de la colección municipal (Sala Sant Jaume 72\, hasta el 23 de mayo) \n20:00 h: Tertulia del club de lectura (Biblioteca municipal) \nMiércoles 6 de mayo \n09:00 h: Rutas saludables (Centro de Salud) \n20:30 h: Torneo de backgammon (Bar Can Poll) \nJueves 7 de mayo \n17:00 h: “Un mundo de cuentos” (Biblioteca municipal) \n19:00 h: Concierto del IES Xarc (Plaza de España) \n20:30 h: Final del torneo de backgammon (Can Poll) \nViernes 8 de mayo \n09:00 h: Rutas saludables (Centro de Salud) \n11:30 h: Actividad para mayores “Memoria floral” \n17:00 h: Romería a la Creu d’en Ribes (salida desde Plaza de España) \n18:30 h: Charla “Plan mayor seguridad” (Club de Majores) \nSábado 9 de mayo \n09:00–15:00 h: Pesca submarina (pesaje desde las 17:00 h) \n10:30 h: Ruta guiada en Can Planetes \n12:30 h: Concierto del conjunto de metales (Can Planetes) \n20:00 h: Teatro “Yo no he sido!!” (Teatro España) \nDomingo 10 de mayo \n10:30 h y 12:00 h: Teatro musical infantil “Tararea” (Teatro España) \n19:00 h: Romería con el Coro Rociero (desde capilla de Lourdes)
URL:https://lavozdeibiza.com/event/festes-de-maig-en-santa-eularia-agenda-con-teatro-rutas-y-actividades-familiares/2026-05-10/
LOCATION:Santa Eulària des Riu\, Santa Eulària des Riu\, Islas Baleares\, Spain
CATEGORIES:BIENESTAR Y DEPORTE,CULTURA Y SOCIEDAD,EVENTOS FAMILIARES,MÚSICA
ATTACH;FMTTYPE=image/jpeg:https://lavozdeibiza.com/wp-content/uploads/2026/04/Fiestas-de-Mayo.jpg
END:VEVENT
END:VCALENDAR