BEGIN:VCALENDAR
VERSION:2.0
PRODID:-//La Voz De Ibiza - ECPv6.15.20//NONSGML v1.0//EN
CALSCALE:GREGORIAN
METHOD:PUBLISH
X-WR-CALNAME:La Voz De Ibiza
X-ORIGINAL-URL:https://lavozdeibiza.com
X-WR-CALDESC:Eventos para La Voz De Ibiza
REFRESH-INTERVAL;VALUE=DURATION:PT1H
X-Robots-Tag:noindex
X-PUBLISHED-TTL:PT1H
BEGIN:VTIMEZONE
TZID:Europe/Madrid
BEGIN:DAYLIGHT
TZOFFSETFROM:+0100
TZOFFSETTO:+0200
TZNAME:CEST
DTSTART:20250330T010000
END:DAYLIGHT
BEGIN:STANDARD
TZOFFSETFROM:+0200
TZOFFSETTO:+0100
TZNAME:CET
DTSTART:20251026T010000
END:STANDARD
BEGIN:DAYLIGHT
TZOFFSETFROM:+0100
TZOFFSETTO:+0200
TZNAME:CEST
DTSTART:20260329T010000
END:DAYLIGHT
BEGIN:STANDARD
TZOFFSETFROM:+0200
TZOFFSETTO:+0100
TZNAME:CET
DTSTART:20261025T010000
END:STANDARD
BEGIN:DAYLIGHT
TZOFFSETFROM:+0100
TZOFFSETTO:+0200
TZNAME:CEST
DTSTART:20270328T010000
END:DAYLIGHT
BEGIN:STANDARD
TZOFFSETFROM:+0200
TZOFFSETTO:+0100
TZNAME:CET
DTSTART:20271031T010000
END:STANDARD
END:VTIMEZONE
BEGIN:VEVENT
DTSTART;TZID=Europe/Madrid:20260702T170000
DTEND;TZID=Europe/Madrid:20260702T230000
DTSTAMP:20260422T065841
CREATED:20260417T170847Z
LAST-MODIFIED:20260417T170847Z
UID:10026432-1783011600-1783033200@lavozdeibiza.com
SUMMARY:Martin Garrix en Ushuaïa Ibiza 2026: show renovado
DESCRIPTION:El DJ neerlandés Martin Garrix regresa a Ushuaïa Ibiza en 2026 para celebrar su 11ª temporada consecutiva\, consolidando una de las residencias más emblemáticas del verano en la isla. \nPara esta nueva edición\, Garrix presenta un concepto completamente renovado y nunca antes visto\, marcando el inicio de una nueva etapa en su relación con Ibiza tras más de una década de residencia. \nConvertidos en un auténtico ritual semanal\, los jueves de Garrix en Ushuaïa siguen siendo uno de los puntos de encuentro más importantes del verano ibicenco. Una experiencia imprescindible que fusiona música\, espectáculo y energía colectiva en uno de los escenarios más impactantes del mundo. \nMás información en Martin Garrix confirma su 11ª temporada en Ushuaïa Ibiza con un nuevo concepto
URL:https://lavozdeibiza.com/event/martin-garrix-en-ushuaia-ibiza-2026-show-renovado/2026-07-02/
LOCATION:Ushuaïa Ibiza\, Playa d'en Bossa 10\,\, Ibiza\, Islas Baleares\, 07817\, Spain
CATEGORIES:OCIO
ATTACH;FMTTYPE=image/jpeg:https://lavozdeibiza.com/wp-content/uploads/2026/02/Martin-Garrix.-Archivos.jpg
END:VEVENT
BEGIN:VEVENT
DTSTART;TZID=Europe/Madrid:20260709T170000
DTEND;TZID=Europe/Madrid:20260709T230000
DTSTAMP:20260422T065841
CREATED:20260417T170847Z
LAST-MODIFIED:20260417T170847Z
UID:10026433-1783616400-1783638000@lavozdeibiza.com
SUMMARY:Martin Garrix en Ushuaïa Ibiza 2026: show renovado
DESCRIPTION:El DJ neerlandés Martin Garrix regresa a Ushuaïa Ibiza en 2026 para celebrar su 11ª temporada consecutiva\, consolidando una de las residencias más emblemáticas del verano en la isla. \nPara esta nueva edición\, Garrix presenta un concepto completamente renovado y nunca antes visto\, marcando el inicio de una nueva etapa en su relación con Ibiza tras más de una década de residencia. \nConvertidos en un auténtico ritual semanal\, los jueves de Garrix en Ushuaïa siguen siendo uno de los puntos de encuentro más importantes del verano ibicenco. Una experiencia imprescindible que fusiona música\, espectáculo y energía colectiva en uno de los escenarios más impactantes del mundo. \nMás información en Martin Garrix confirma su 11ª temporada en Ushuaïa Ibiza con un nuevo concepto
URL:https://lavozdeibiza.com/event/martin-garrix-en-ushuaia-ibiza-2026-show-renovado/2026-07-09/
LOCATION:Ushuaïa Ibiza\, Playa d'en Bossa 10\,\, Ibiza\, Islas Baleares\, 07817\, Spain
CATEGORIES:OCIO
ATTACH;FMTTYPE=image/jpeg:https://lavozdeibiza.com/wp-content/uploads/2026/02/Martin-Garrix.-Archivos.jpg
END:VEVENT
BEGIN:VEVENT
DTSTART;TZID=Europe/Madrid:20260716T170000
DTEND;TZID=Europe/Madrid:20260716T230000
DTSTAMP:20260422T065841
CREATED:20260417T170847Z
LAST-MODIFIED:20260417T170847Z
UID:10026434-1784221200-1784242800@lavozdeibiza.com
SUMMARY:Martin Garrix en Ushuaïa Ibiza 2026: show renovado
DESCRIPTION:El DJ neerlandés Martin Garrix regresa a Ushuaïa Ibiza en 2026 para celebrar su 11ª temporada consecutiva\, consolidando una de las residencias más emblemáticas del verano en la isla. \nPara esta nueva edición\, Garrix presenta un concepto completamente renovado y nunca antes visto\, marcando el inicio de una nueva etapa en su relación con Ibiza tras más de una década de residencia. \nConvertidos en un auténtico ritual semanal\, los jueves de Garrix en Ushuaïa siguen siendo uno de los puntos de encuentro más importantes del verano ibicenco. Una experiencia imprescindible que fusiona música\, espectáculo y energía colectiva en uno de los escenarios más impactantes del mundo. \nMás información en Martin Garrix confirma su 11ª temporada en Ushuaïa Ibiza con un nuevo concepto
URL:https://lavozdeibiza.com/event/martin-garrix-en-ushuaia-ibiza-2026-show-renovado/2026-07-16/
LOCATION:Ushuaïa Ibiza\, Playa d'en Bossa 10\,\, Ibiza\, Islas Baleares\, 07817\, Spain
CATEGORIES:OCIO
ATTACH;FMTTYPE=image/jpeg:https://lavozdeibiza.com/wp-content/uploads/2026/02/Martin-Garrix.-Archivos.jpg
END:VEVENT
BEGIN:VEVENT
DTSTART;TZID=Europe/Madrid:20260723T170000
DTEND;TZID=Europe/Madrid:20260723T230000
DTSTAMP:20260422T065841
CREATED:20260417T170847Z
LAST-MODIFIED:20260417T170847Z
UID:10026435-1784826000-1784847600@lavozdeibiza.com
SUMMARY:Martin Garrix en Ushuaïa Ibiza 2026: show renovado
DESCRIPTION:El DJ neerlandés Martin Garrix regresa a Ushuaïa Ibiza en 2026 para celebrar su 11ª temporada consecutiva\, consolidando una de las residencias más emblemáticas del verano en la isla. \nPara esta nueva edición\, Garrix presenta un concepto completamente renovado y nunca antes visto\, marcando el inicio de una nueva etapa en su relación con Ibiza tras más de una década de residencia. \nConvertidos en un auténtico ritual semanal\, los jueves de Garrix en Ushuaïa siguen siendo uno de los puntos de encuentro más importantes del verano ibicenco. Una experiencia imprescindible que fusiona música\, espectáculo y energía colectiva en uno de los escenarios más impactantes del mundo. \nMás información en Martin Garrix confirma su 11ª temporada en Ushuaïa Ibiza con un nuevo concepto
URL:https://lavozdeibiza.com/event/martin-garrix-en-ushuaia-ibiza-2026-show-renovado/2026-07-23/
LOCATION:Ushuaïa Ibiza\, Playa d'en Bossa 10\,\, Ibiza\, Islas Baleares\, 07817\, Spain
CATEGORIES:OCIO
ATTACH;FMTTYPE=image/jpeg:https://lavozdeibiza.com/wp-content/uploads/2026/02/Martin-Garrix.-Archivos.jpg
END:VEVENT
BEGIN:VEVENT
DTSTART;TZID=Europe/Madrid:20260730T170000
DTEND;TZID=Europe/Madrid:20260730T230000
DTSTAMP:20260422T065841
CREATED:20260417T170847Z
LAST-MODIFIED:20260417T170847Z
UID:10026436-1785430800-1785452400@lavozdeibiza.com
SUMMARY:Martin Garrix en Ushuaïa Ibiza 2026: show renovado
DESCRIPTION:El DJ neerlandés Martin Garrix regresa a Ushuaïa Ibiza en 2026 para celebrar su 11ª temporada consecutiva\, consolidando una de las residencias más emblemáticas del verano en la isla. \nPara esta nueva edición\, Garrix presenta un concepto completamente renovado y nunca antes visto\, marcando el inicio de una nueva etapa en su relación con Ibiza tras más de una década de residencia. \nConvertidos en un auténtico ritual semanal\, los jueves de Garrix en Ushuaïa siguen siendo uno de los puntos de encuentro más importantes del verano ibicenco. Una experiencia imprescindible que fusiona música\, espectáculo y energía colectiva en uno de los escenarios más impactantes del mundo. \nMás información en Martin Garrix confirma su 11ª temporada en Ushuaïa Ibiza con un nuevo concepto
URL:https://lavozdeibiza.com/event/martin-garrix-en-ushuaia-ibiza-2026-show-renovado/2026-07-30/
LOCATION:Ushuaïa Ibiza\, Playa d'en Bossa 10\,\, Ibiza\, Islas Baleares\, 07817\, Spain
CATEGORIES:OCIO
ATTACH;FMTTYPE=image/jpeg:https://lavozdeibiza.com/wp-content/uploads/2026/02/Martin-Garrix.-Archivos.jpg
END:VEVENT
BEGIN:VEVENT
DTSTART;TZID=Europe/Madrid:20260806T170000
DTEND;TZID=Europe/Madrid:20260806T230000
DTSTAMP:20260422T065841
CREATED:20260417T170847Z
LAST-MODIFIED:20260417T170847Z
UID:10026437-1786035600-1786057200@lavozdeibiza.com
SUMMARY:Martin Garrix en Ushuaïa Ibiza 2026: show renovado
DESCRIPTION:El DJ neerlandés Martin Garrix regresa a Ushuaïa Ibiza en 2026 para celebrar su 11ª temporada consecutiva\, consolidando una de las residencias más emblemáticas del verano en la isla. \nPara esta nueva edición\, Garrix presenta un concepto completamente renovado y nunca antes visto\, marcando el inicio de una nueva etapa en su relación con Ibiza tras más de una década de residencia. \nConvertidos en un auténtico ritual semanal\, los jueves de Garrix en Ushuaïa siguen siendo uno de los puntos de encuentro más importantes del verano ibicenco. Una experiencia imprescindible que fusiona música\, espectáculo y energía colectiva en uno de los escenarios más impactantes del mundo. \nMás información en Martin Garrix confirma su 11ª temporada en Ushuaïa Ibiza con un nuevo concepto
URL:https://lavozdeibiza.com/event/martin-garrix-en-ushuaia-ibiza-2026-show-renovado/2026-08-06/
LOCATION:Ushuaïa Ibiza\, Playa d'en Bossa 10\,\, Ibiza\, Islas Baleares\, 07817\, Spain
CATEGORIES:OCIO
ATTACH;FMTTYPE=image/jpeg:https://lavozdeibiza.com/wp-content/uploads/2026/02/Martin-Garrix.-Archivos.jpg
END:VEVENT
BEGIN:VEVENT
DTSTART;TZID=Europe/Madrid:20260813T170000
DTEND;TZID=Europe/Madrid:20260813T230000
DTSTAMP:20260422T065841
CREATED:20260417T170847Z
LAST-MODIFIED:20260417T170847Z
UID:10026438-1786640400-1786662000@lavozdeibiza.com
SUMMARY:Martin Garrix en Ushuaïa Ibiza 2026: show renovado
DESCRIPTION:El DJ neerlandés Martin Garrix regresa a Ushuaïa Ibiza en 2026 para celebrar su 11ª temporada consecutiva\, consolidando una de las residencias más emblemáticas del verano en la isla. \nPara esta nueva edición\, Garrix presenta un concepto completamente renovado y nunca antes visto\, marcando el inicio de una nueva etapa en su relación con Ibiza tras más de una década de residencia. \nConvertidos en un auténtico ritual semanal\, los jueves de Garrix en Ushuaïa siguen siendo uno de los puntos de encuentro más importantes del verano ibicenco. Una experiencia imprescindible que fusiona música\, espectáculo y energía colectiva en uno de los escenarios más impactantes del mundo. \nMás información en Martin Garrix confirma su 11ª temporada en Ushuaïa Ibiza con un nuevo concepto
URL:https://lavozdeibiza.com/event/martin-garrix-en-ushuaia-ibiza-2026-show-renovado/2026-08-13/
LOCATION:Ushuaïa Ibiza\, Playa d'en Bossa 10\,\, Ibiza\, Islas Baleares\, 07817\, Spain
CATEGORIES:OCIO
ATTACH;FMTTYPE=image/jpeg:https://lavozdeibiza.com/wp-content/uploads/2026/02/Martin-Garrix.-Archivos.jpg
END:VEVENT
BEGIN:VEVENT
DTSTART;TZID=Europe/Madrid:20260820T170000
DTEND;TZID=Europe/Madrid:20260820T230000
DTSTAMP:20260422T065841
CREATED:20260417T170847Z
LAST-MODIFIED:20260417T170847Z
UID:10026439-1787245200-1787266800@lavozdeibiza.com
SUMMARY:Martin Garrix en Ushuaïa Ibiza 2026: show renovado
DESCRIPTION:El DJ neerlandés Martin Garrix regresa a Ushuaïa Ibiza en 2026 para celebrar su 11ª temporada consecutiva\, consolidando una de las residencias más emblemáticas del verano en la isla. \nPara esta nueva edición\, Garrix presenta un concepto completamente renovado y nunca antes visto\, marcando el inicio de una nueva etapa en su relación con Ibiza tras más de una década de residencia. \nConvertidos en un auténtico ritual semanal\, los jueves de Garrix en Ushuaïa siguen siendo uno de los puntos de encuentro más importantes del verano ibicenco. Una experiencia imprescindible que fusiona música\, espectáculo y energía colectiva en uno de los escenarios más impactantes del mundo. \nMás información en Martin Garrix confirma su 11ª temporada en Ushuaïa Ibiza con un nuevo concepto
URL:https://lavozdeibiza.com/event/martin-garrix-en-ushuaia-ibiza-2026-show-renovado/2026-08-20/
LOCATION:Ushuaïa Ibiza\, Playa d'en Bossa 10\,\, Ibiza\, Islas Baleares\, 07817\, Spain
CATEGORIES:OCIO
ATTACH;FMTTYPE=image/jpeg:https://lavozdeibiza.com/wp-content/uploads/2026/02/Martin-Garrix.-Archivos.jpg
END:VEVENT
BEGIN:VEVENT
DTSTART;TZID=Europe/Madrid:20260827T170000
DTEND;TZID=Europe/Madrid:20260827T230000
DTSTAMP:20260422T065841
CREATED:20260417T170847Z
LAST-MODIFIED:20260417T170847Z
UID:10026440-1787850000-1787871600@lavozdeibiza.com
SUMMARY:Martin Garrix en Ushuaïa Ibiza 2026: show renovado
DESCRIPTION:El DJ neerlandés Martin Garrix regresa a Ushuaïa Ibiza en 2026 para celebrar su 11ª temporada consecutiva\, consolidando una de las residencias más emblemáticas del verano en la isla. \nPara esta nueva edición\, Garrix presenta un concepto completamente renovado y nunca antes visto\, marcando el inicio de una nueva etapa en su relación con Ibiza tras más de una década de residencia. \nConvertidos en un auténtico ritual semanal\, los jueves de Garrix en Ushuaïa siguen siendo uno de los puntos de encuentro más importantes del verano ibicenco. Una experiencia imprescindible que fusiona música\, espectáculo y energía colectiva en uno de los escenarios más impactantes del mundo. \nMás información en Martin Garrix confirma su 11ª temporada en Ushuaïa Ibiza con un nuevo concepto
URL:https://lavozdeibiza.com/event/martin-garrix-en-ushuaia-ibiza-2026-show-renovado/2026-08-27/
LOCATION:Ushuaïa Ibiza\, Playa d'en Bossa 10\,\, Ibiza\, Islas Baleares\, 07817\, Spain
CATEGORIES:OCIO
ATTACH;FMTTYPE=image/jpeg:https://lavozdeibiza.com/wp-content/uploads/2026/02/Martin-Garrix.-Archivos.jpg
END:VEVENT
BEGIN:VEVENT
DTSTART;TZID=Europe/Madrid:20260903T170000
DTEND;TZID=Europe/Madrid:20260903T230000
DTSTAMP:20260422T065841
CREATED:20260417T170847Z
LAST-MODIFIED:20260417T170847Z
UID:10026441-1788454800-1788476400@lavozdeibiza.com
SUMMARY:Martin Garrix en Ushuaïa Ibiza 2026: show renovado
DESCRIPTION:El DJ neerlandés Martin Garrix regresa a Ushuaïa Ibiza en 2026 para celebrar su 11ª temporada consecutiva\, consolidando una de las residencias más emblemáticas del verano en la isla. \nPara esta nueva edición\, Garrix presenta un concepto completamente renovado y nunca antes visto\, marcando el inicio de una nueva etapa en su relación con Ibiza tras más de una década de residencia. \nConvertidos en un auténtico ritual semanal\, los jueves de Garrix en Ushuaïa siguen siendo uno de los puntos de encuentro más importantes del verano ibicenco. Una experiencia imprescindible que fusiona música\, espectáculo y energía colectiva en uno de los escenarios más impactantes del mundo. \nMás información en Martin Garrix confirma su 11ª temporada en Ushuaïa Ibiza con un nuevo concepto
URL:https://lavozdeibiza.com/event/martin-garrix-en-ushuaia-ibiza-2026-show-renovado/2026-09-03/
LOCATION:Ushuaïa Ibiza\, Playa d'en Bossa 10\,\, Ibiza\, Islas Baleares\, 07817\, Spain
CATEGORIES:OCIO
ATTACH;FMTTYPE=image/jpeg:https://lavozdeibiza.com/wp-content/uploads/2026/02/Martin-Garrix.-Archivos.jpg
END:VEVENT
BEGIN:VEVENT
DTSTART;TZID=Europe/Madrid:20260910T170000
DTEND;TZID=Europe/Madrid:20260910T230000
DTSTAMP:20260422T065841
CREATED:20260417T170847Z
LAST-MODIFIED:20260417T170847Z
UID:10026442-1789059600-1789081200@lavozdeibiza.com
SUMMARY:Martin Garrix en Ushuaïa Ibiza 2026: show renovado
DESCRIPTION:El DJ neerlandés Martin Garrix regresa a Ushuaïa Ibiza en 2026 para celebrar su 11ª temporada consecutiva\, consolidando una de las residencias más emblemáticas del verano en la isla. \nPara esta nueva edición\, Garrix presenta un concepto completamente renovado y nunca antes visto\, marcando el inicio de una nueva etapa en su relación con Ibiza tras más de una década de residencia. \nConvertidos en un auténtico ritual semanal\, los jueves de Garrix en Ushuaïa siguen siendo uno de los puntos de encuentro más importantes del verano ibicenco. Una experiencia imprescindible que fusiona música\, espectáculo y energía colectiva en uno de los escenarios más impactantes del mundo. \nMás información en Martin Garrix confirma su 11ª temporada en Ushuaïa Ibiza con un nuevo concepto
URL:https://lavozdeibiza.com/event/martin-garrix-en-ushuaia-ibiza-2026-show-renovado/2026-09-10/
LOCATION:Ushuaïa Ibiza\, Playa d'en Bossa 10\,\, Ibiza\, Islas Baleares\, 07817\, Spain
CATEGORIES:OCIO
ATTACH;FMTTYPE=image/jpeg:https://lavozdeibiza.com/wp-content/uploads/2026/02/Martin-Garrix.-Archivos.jpg
END:VEVENT
BEGIN:VEVENT
DTSTART;TZID=Europe/Madrid:20260917T170000
DTEND;TZID=Europe/Madrid:20260917T230000
DTSTAMP:20260422T065841
CREATED:20260417T170847Z
LAST-MODIFIED:20260417T170847Z
UID:10026443-1789664400-1789686000@lavozdeibiza.com
SUMMARY:Martin Garrix en Ushuaïa Ibiza 2026: show renovado
DESCRIPTION:El DJ neerlandés Martin Garrix regresa a Ushuaïa Ibiza en 2026 para celebrar su 11ª temporada consecutiva\, consolidando una de las residencias más emblemáticas del verano en la isla. \nPara esta nueva edición\, Garrix presenta un concepto completamente renovado y nunca antes visto\, marcando el inicio de una nueva etapa en su relación con Ibiza tras más de una década de residencia. \nConvertidos en un auténtico ritual semanal\, los jueves de Garrix en Ushuaïa siguen siendo uno de los puntos de encuentro más importantes del verano ibicenco. Una experiencia imprescindible que fusiona música\, espectáculo y energía colectiva en uno de los escenarios más impactantes del mundo. \nMás información en Martin Garrix confirma su 11ª temporada en Ushuaïa Ibiza con un nuevo concepto
URL:https://lavozdeibiza.com/event/martin-garrix-en-ushuaia-ibiza-2026-show-renovado/2026-09-17/
LOCATION:Ushuaïa Ibiza\, Playa d'en Bossa 10\,\, Ibiza\, Islas Baleares\, 07817\, Spain
CATEGORIES:OCIO
ATTACH;FMTTYPE=image/jpeg:https://lavozdeibiza.com/wp-content/uploads/2026/02/Martin-Garrix.-Archivos.jpg
END:VEVENT
BEGIN:VEVENT
DTSTART;TZID=Europe/Madrid:20260924T170000
DTEND;TZID=Europe/Madrid:20260924T230000
DTSTAMP:20260422T065841
CREATED:20260417T170847Z
LAST-MODIFIED:20260417T170847Z
UID:10026444-1790269200-1790290800@lavozdeibiza.com
SUMMARY:Martin Garrix en Ushuaïa Ibiza 2026: show renovado
DESCRIPTION:El DJ neerlandés Martin Garrix regresa a Ushuaïa Ibiza en 2026 para celebrar su 11ª temporada consecutiva\, consolidando una de las residencias más emblemáticas del verano en la isla. \nPara esta nueva edición\, Garrix presenta un concepto completamente renovado y nunca antes visto\, marcando el inicio de una nueva etapa en su relación con Ibiza tras más de una década de residencia. \nConvertidos en un auténtico ritual semanal\, los jueves de Garrix en Ushuaïa siguen siendo uno de los puntos de encuentro más importantes del verano ibicenco. Una experiencia imprescindible que fusiona música\, espectáculo y energía colectiva en uno de los escenarios más impactantes del mundo. \nMás información en Martin Garrix confirma su 11ª temporada en Ushuaïa Ibiza con un nuevo concepto
URL:https://lavozdeibiza.com/event/martin-garrix-en-ushuaia-ibiza-2026-show-renovado/2026-09-24/
LOCATION:Ushuaïa Ibiza\, Playa d'en Bossa 10\,\, Ibiza\, Islas Baleares\, 07817\, Spain
CATEGORIES:OCIO
ATTACH;FMTTYPE=image/jpeg:https://lavozdeibiza.com/wp-content/uploads/2026/02/Martin-Garrix.-Archivos.jpg
END:VEVENT
END:VCALENDAR