BEGIN:VCALENDAR
VERSION:2.0
PRODID:-//La Voz De Ibiza - ECPv6.15.20//NONSGML v1.0//EN
CALSCALE:GREGORIAN
METHOD:PUBLISH
X-WR-CALNAME:La Voz De Ibiza
X-ORIGINAL-URL:https://lavozdeibiza.com
X-WR-CALDESC:Eventos para La Voz De Ibiza
REFRESH-INTERVAL;VALUE=DURATION:PT1H
X-Robots-Tag:noindex
X-PUBLISHED-TTL:PT1H
BEGIN:VTIMEZONE
TZID:Europe/Madrid
BEGIN:DAYLIGHT
TZOFFSETFROM:+0100
TZOFFSETTO:+0200
TZNAME:CEST
DTSTART:20250330T010000
END:DAYLIGHT
BEGIN:STANDARD
TZOFFSETFROM:+0200
TZOFFSETTO:+0100
TZNAME:CET
DTSTART:20251026T010000
END:STANDARD
BEGIN:DAYLIGHT
TZOFFSETFROM:+0100
TZOFFSETTO:+0200
TZNAME:CEST
DTSTART:20260329T010000
END:DAYLIGHT
BEGIN:STANDARD
TZOFFSETFROM:+0200
TZOFFSETTO:+0100
TZNAME:CET
DTSTART:20261025T010000
END:STANDARD
BEGIN:DAYLIGHT
TZOFFSETFROM:+0100
TZOFFSETTO:+0200
TZNAME:CEST
DTSTART:20270328T010000
END:DAYLIGHT
BEGIN:STANDARD
TZOFFSETFROM:+0200
TZOFFSETTO:+0100
TZNAME:CET
DTSTART:20271031T010000
END:STANDARD
END:VTIMEZONE
BEGIN:VEVENT
DTSTART;TZID=Europe/Madrid:20260628T170000
DTEND;TZID=Europe/Madrid:20260628T230000
DTSTAMP:20260422T055345
CREATED:20260417T172046Z
LAST-MODIFIED:20260417T172046Z
UID:10026572-1782666000-1782687600@lavozdeibiza.com
SUMMARY:Swedish House Mafia en Ushuaïa Ibiza 2026: los domingos
DESCRIPTION: El icónico trío Swedish House Mafia regresa a Ushuaïa Ibiza en 2026 con una potente residencia\, consolidando una de las citas más esperadas del verano en la isla. Con un total de 12 fechas\, el grupo vuelve a liderar el escenario open air de Playa d’en Bossa como uno de los grandes reclamos de la temporada. \nFormado por Axwell\, Steve Angello y Sebastian Ingrosso\, el colectivo es responsable de algunos de los himnos más influyentes de la electrónica global\, y su regreso refuerza una conexión histórica con Ibiza que ha marcado la evolución del clubbing en la isla. \nCada domingo\, Ushuaïa se transformará en un espectáculo de gran formato donde se combinan progressive house\, electro y producción audiovisual de alto impacto\, en sesiones que van desde la tarde hasta la noche. \nMás información en Confirmado: Swedish House Mafia vuelve a Ushuaïa Ibiza en 2026 con una residencia todos los domingos
URL:https://lavozdeibiza.com/event/swedish-house-mafia-en-ushuaia-ibiza-2026-los-domingos/2026-06-28/
LOCATION:Ushuaïa Ibiza\, Playa d'en Bossa 10\,\, Ibiza\, Islas Baleares\, 07817\, Spain
CATEGORIES:OCIO
ATTACH;FMTTYPE=image/jpeg:https://lavozdeibiza.com/wp-content/uploads/2026/02/20240825_Ushuaia_SHM_Closing_0006_2048x1365px_-1.jpg
END:VEVENT
BEGIN:VEVENT
DTSTART;TZID=Europe/Madrid:20260705T170000
DTEND;TZID=Europe/Madrid:20260705T230000
DTSTAMP:20260422T055345
CREATED:20260417T172046Z
LAST-MODIFIED:20260417T172046Z
UID:10026573-1783270800-1783292400@lavozdeibiza.com
SUMMARY:Swedish House Mafia en Ushuaïa Ibiza 2026: los domingos
DESCRIPTION: El icónico trío Swedish House Mafia regresa a Ushuaïa Ibiza en 2026 con una potente residencia\, consolidando una de las citas más esperadas del verano en la isla. Con un total de 12 fechas\, el grupo vuelve a liderar el escenario open air de Playa d’en Bossa como uno de los grandes reclamos de la temporada. \nFormado por Axwell\, Steve Angello y Sebastian Ingrosso\, el colectivo es responsable de algunos de los himnos más influyentes de la electrónica global\, y su regreso refuerza una conexión histórica con Ibiza que ha marcado la evolución del clubbing en la isla. \nCada domingo\, Ushuaïa se transformará en un espectáculo de gran formato donde se combinan progressive house\, electro y producción audiovisual de alto impacto\, en sesiones que van desde la tarde hasta la noche. \nMás información en Confirmado: Swedish House Mafia vuelve a Ushuaïa Ibiza en 2026 con una residencia todos los domingos
URL:https://lavozdeibiza.com/event/swedish-house-mafia-en-ushuaia-ibiza-2026-los-domingos/2026-07-05/
LOCATION:Ushuaïa Ibiza\, Playa d'en Bossa 10\,\, Ibiza\, Islas Baleares\, 07817\, Spain
CATEGORIES:OCIO
ATTACH;FMTTYPE=image/jpeg:https://lavozdeibiza.com/wp-content/uploads/2026/02/20240825_Ushuaia_SHM_Closing_0006_2048x1365px_-1.jpg
END:VEVENT
BEGIN:VEVENT
DTSTART;TZID=Europe/Madrid:20260712T170000
DTEND;TZID=Europe/Madrid:20260712T230000
DTSTAMP:20260422T055345
CREATED:20260417T172046Z
LAST-MODIFIED:20260417T172046Z
UID:10026574-1783875600-1783897200@lavozdeibiza.com
SUMMARY:Swedish House Mafia en Ushuaïa Ibiza 2026: los domingos
DESCRIPTION: El icónico trío Swedish House Mafia regresa a Ushuaïa Ibiza en 2026 con una potente residencia\, consolidando una de las citas más esperadas del verano en la isla. Con un total de 12 fechas\, el grupo vuelve a liderar el escenario open air de Playa d’en Bossa como uno de los grandes reclamos de la temporada. \nFormado por Axwell\, Steve Angello y Sebastian Ingrosso\, el colectivo es responsable de algunos de los himnos más influyentes de la electrónica global\, y su regreso refuerza una conexión histórica con Ibiza que ha marcado la evolución del clubbing en la isla. \nCada domingo\, Ushuaïa se transformará en un espectáculo de gran formato donde se combinan progressive house\, electro y producción audiovisual de alto impacto\, en sesiones que van desde la tarde hasta la noche. \nMás información en Confirmado: Swedish House Mafia vuelve a Ushuaïa Ibiza en 2026 con una residencia todos los domingos
URL:https://lavozdeibiza.com/event/swedish-house-mafia-en-ushuaia-ibiza-2026-los-domingos/2026-07-12/
LOCATION:Ushuaïa Ibiza\, Playa d'en Bossa 10\,\, Ibiza\, Islas Baleares\, 07817\, Spain
CATEGORIES:OCIO
ATTACH;FMTTYPE=image/jpeg:https://lavozdeibiza.com/wp-content/uploads/2026/02/20240825_Ushuaia_SHM_Closing_0006_2048x1365px_-1.jpg
END:VEVENT
BEGIN:VEVENT
DTSTART;TZID=Europe/Madrid:20260719T170000
DTEND;TZID=Europe/Madrid:20260719T230000
DTSTAMP:20260422T055345
CREATED:20260417T172046Z
LAST-MODIFIED:20260417T172046Z
UID:10026575-1784480400-1784502000@lavozdeibiza.com
SUMMARY:Swedish House Mafia en Ushuaïa Ibiza 2026: los domingos
DESCRIPTION: El icónico trío Swedish House Mafia regresa a Ushuaïa Ibiza en 2026 con una potente residencia\, consolidando una de las citas más esperadas del verano en la isla. Con un total de 12 fechas\, el grupo vuelve a liderar el escenario open air de Playa d’en Bossa como uno de los grandes reclamos de la temporada. \nFormado por Axwell\, Steve Angello y Sebastian Ingrosso\, el colectivo es responsable de algunos de los himnos más influyentes de la electrónica global\, y su regreso refuerza una conexión histórica con Ibiza que ha marcado la evolución del clubbing en la isla. \nCada domingo\, Ushuaïa se transformará en un espectáculo de gran formato donde se combinan progressive house\, electro y producción audiovisual de alto impacto\, en sesiones que van desde la tarde hasta la noche. \nMás información en Confirmado: Swedish House Mafia vuelve a Ushuaïa Ibiza en 2026 con una residencia todos los domingos
URL:https://lavozdeibiza.com/event/swedish-house-mafia-en-ushuaia-ibiza-2026-los-domingos/2026-07-19/
LOCATION:Ushuaïa Ibiza\, Playa d'en Bossa 10\,\, Ibiza\, Islas Baleares\, 07817\, Spain
CATEGORIES:OCIO
ATTACH;FMTTYPE=image/jpeg:https://lavozdeibiza.com/wp-content/uploads/2026/02/20240825_Ushuaia_SHM_Closing_0006_2048x1365px_-1.jpg
END:VEVENT
BEGIN:VEVENT
DTSTART;TZID=Europe/Madrid:20260726T170000
DTEND;TZID=Europe/Madrid:20260726T230000
DTSTAMP:20260422T055345
CREATED:20260417T172046Z
LAST-MODIFIED:20260417T172046Z
UID:10026576-1785085200-1785106800@lavozdeibiza.com
SUMMARY:Swedish House Mafia en Ushuaïa Ibiza 2026: los domingos
DESCRIPTION: El icónico trío Swedish House Mafia regresa a Ushuaïa Ibiza en 2026 con una potente residencia\, consolidando una de las citas más esperadas del verano en la isla. Con un total de 12 fechas\, el grupo vuelve a liderar el escenario open air de Playa d’en Bossa como uno de los grandes reclamos de la temporada. \nFormado por Axwell\, Steve Angello y Sebastian Ingrosso\, el colectivo es responsable de algunos de los himnos más influyentes de la electrónica global\, y su regreso refuerza una conexión histórica con Ibiza que ha marcado la evolución del clubbing en la isla. \nCada domingo\, Ushuaïa se transformará en un espectáculo de gran formato donde se combinan progressive house\, electro y producción audiovisual de alto impacto\, en sesiones que van desde la tarde hasta la noche. \nMás información en Confirmado: Swedish House Mafia vuelve a Ushuaïa Ibiza en 2026 con una residencia todos los domingos
URL:https://lavozdeibiza.com/event/swedish-house-mafia-en-ushuaia-ibiza-2026-los-domingos/2026-07-26/
LOCATION:Ushuaïa Ibiza\, Playa d'en Bossa 10\,\, Ibiza\, Islas Baleares\, 07817\, Spain
CATEGORIES:OCIO
ATTACH;FMTTYPE=image/jpeg:https://lavozdeibiza.com/wp-content/uploads/2026/02/20240825_Ushuaia_SHM_Closing_0006_2048x1365px_-1.jpg
END:VEVENT
BEGIN:VEVENT
DTSTART;TZID=Europe/Madrid:20260802T170000
DTEND;TZID=Europe/Madrid:20260802T230000
DTSTAMP:20260422T055346
CREATED:20260417T172046Z
LAST-MODIFIED:20260417T172046Z
UID:10026577-1785690000-1785711600@lavozdeibiza.com
SUMMARY:Swedish House Mafia en Ushuaïa Ibiza 2026: los domingos
DESCRIPTION: El icónico trío Swedish House Mafia regresa a Ushuaïa Ibiza en 2026 con una potente residencia\, consolidando una de las citas más esperadas del verano en la isla. Con un total de 12 fechas\, el grupo vuelve a liderar el escenario open air de Playa d’en Bossa como uno de los grandes reclamos de la temporada. \nFormado por Axwell\, Steve Angello y Sebastian Ingrosso\, el colectivo es responsable de algunos de los himnos más influyentes de la electrónica global\, y su regreso refuerza una conexión histórica con Ibiza que ha marcado la evolución del clubbing en la isla. \nCada domingo\, Ushuaïa se transformará en un espectáculo de gran formato donde se combinan progressive house\, electro y producción audiovisual de alto impacto\, en sesiones que van desde la tarde hasta la noche. \nMás información en Confirmado: Swedish House Mafia vuelve a Ushuaïa Ibiza en 2026 con una residencia todos los domingos
URL:https://lavozdeibiza.com/event/swedish-house-mafia-en-ushuaia-ibiza-2026-los-domingos/2026-08-02/
LOCATION:Ushuaïa Ibiza\, Playa d'en Bossa 10\,\, Ibiza\, Islas Baleares\, 07817\, Spain
CATEGORIES:OCIO
ATTACH;FMTTYPE=image/jpeg:https://lavozdeibiza.com/wp-content/uploads/2026/02/20240825_Ushuaia_SHM_Closing_0006_2048x1365px_-1.jpg
END:VEVENT
BEGIN:VEVENT
DTSTART;TZID=Europe/Madrid:20260809T170000
DTEND;TZID=Europe/Madrid:20260809T230000
DTSTAMP:20260422T055346
CREATED:20260417T172046Z
LAST-MODIFIED:20260417T172046Z
UID:10026578-1786294800-1786316400@lavozdeibiza.com
SUMMARY:Swedish House Mafia en Ushuaïa Ibiza 2026: los domingos
DESCRIPTION: El icónico trío Swedish House Mafia regresa a Ushuaïa Ibiza en 2026 con una potente residencia\, consolidando una de las citas más esperadas del verano en la isla. Con un total de 12 fechas\, el grupo vuelve a liderar el escenario open air de Playa d’en Bossa como uno de los grandes reclamos de la temporada. \nFormado por Axwell\, Steve Angello y Sebastian Ingrosso\, el colectivo es responsable de algunos de los himnos más influyentes de la electrónica global\, y su regreso refuerza una conexión histórica con Ibiza que ha marcado la evolución del clubbing en la isla. \nCada domingo\, Ushuaïa se transformará en un espectáculo de gran formato donde se combinan progressive house\, electro y producción audiovisual de alto impacto\, en sesiones que van desde la tarde hasta la noche. \nMás información en Confirmado: Swedish House Mafia vuelve a Ushuaïa Ibiza en 2026 con una residencia todos los domingos
URL:https://lavozdeibiza.com/event/swedish-house-mafia-en-ushuaia-ibiza-2026-los-domingos/2026-08-09/
LOCATION:Ushuaïa Ibiza\, Playa d'en Bossa 10\,\, Ibiza\, Islas Baleares\, 07817\, Spain
CATEGORIES:OCIO
ATTACH;FMTTYPE=image/jpeg:https://lavozdeibiza.com/wp-content/uploads/2026/02/20240825_Ushuaia_SHM_Closing_0006_2048x1365px_-1.jpg
END:VEVENT
BEGIN:VEVENT
DTSTART;TZID=Europe/Madrid:20260816T170000
DTEND;TZID=Europe/Madrid:20260816T230000
DTSTAMP:20260422T055346
CREATED:20260417T172046Z
LAST-MODIFIED:20260417T172046Z
UID:10026579-1786899600-1786921200@lavozdeibiza.com
SUMMARY:Swedish House Mafia en Ushuaïa Ibiza 2026: los domingos
DESCRIPTION: El icónico trío Swedish House Mafia regresa a Ushuaïa Ibiza en 2026 con una potente residencia\, consolidando una de las citas más esperadas del verano en la isla. Con un total de 12 fechas\, el grupo vuelve a liderar el escenario open air de Playa d’en Bossa como uno de los grandes reclamos de la temporada. \nFormado por Axwell\, Steve Angello y Sebastian Ingrosso\, el colectivo es responsable de algunos de los himnos más influyentes de la electrónica global\, y su regreso refuerza una conexión histórica con Ibiza que ha marcado la evolución del clubbing en la isla. \nCada domingo\, Ushuaïa se transformará en un espectáculo de gran formato donde se combinan progressive house\, electro y producción audiovisual de alto impacto\, en sesiones que van desde la tarde hasta la noche. \nMás información en Confirmado: Swedish House Mafia vuelve a Ushuaïa Ibiza en 2026 con una residencia todos los domingos
URL:https://lavozdeibiza.com/event/swedish-house-mafia-en-ushuaia-ibiza-2026-los-domingos/2026-08-16/
LOCATION:Ushuaïa Ibiza\, Playa d'en Bossa 10\,\, Ibiza\, Islas Baleares\, 07817\, Spain
CATEGORIES:OCIO
ATTACH;FMTTYPE=image/jpeg:https://lavozdeibiza.com/wp-content/uploads/2026/02/20240825_Ushuaia_SHM_Closing_0006_2048x1365px_-1.jpg
END:VEVENT
BEGIN:VEVENT
DTSTART;TZID=Europe/Madrid:20260823T170000
DTEND;TZID=Europe/Madrid:20260823T230000
DTSTAMP:20260422T055346
CREATED:20260417T172046Z
LAST-MODIFIED:20260417T172046Z
UID:10026580-1787504400-1787526000@lavozdeibiza.com
SUMMARY:Swedish House Mafia en Ushuaïa Ibiza 2026: los domingos
DESCRIPTION: El icónico trío Swedish House Mafia regresa a Ushuaïa Ibiza en 2026 con una potente residencia\, consolidando una de las citas más esperadas del verano en la isla. Con un total de 12 fechas\, el grupo vuelve a liderar el escenario open air de Playa d’en Bossa como uno de los grandes reclamos de la temporada. \nFormado por Axwell\, Steve Angello y Sebastian Ingrosso\, el colectivo es responsable de algunos de los himnos más influyentes de la electrónica global\, y su regreso refuerza una conexión histórica con Ibiza que ha marcado la evolución del clubbing en la isla. \nCada domingo\, Ushuaïa se transformará en un espectáculo de gran formato donde se combinan progressive house\, electro y producción audiovisual de alto impacto\, en sesiones que van desde la tarde hasta la noche. \nMás información en Confirmado: Swedish House Mafia vuelve a Ushuaïa Ibiza en 2026 con una residencia todos los domingos
URL:https://lavozdeibiza.com/event/swedish-house-mafia-en-ushuaia-ibiza-2026-los-domingos/2026-08-23/
LOCATION:Ushuaïa Ibiza\, Playa d'en Bossa 10\,\, Ibiza\, Islas Baleares\, 07817\, Spain
CATEGORIES:OCIO
ATTACH;FMTTYPE=image/jpeg:https://lavozdeibiza.com/wp-content/uploads/2026/02/20240825_Ushuaia_SHM_Closing_0006_2048x1365px_-1.jpg
END:VEVENT
BEGIN:VEVENT
DTSTART;TZID=Europe/Madrid:20260830T170000
DTEND;TZID=Europe/Madrid:20260830T230000
DTSTAMP:20260422T055346
CREATED:20260417T172046Z
LAST-MODIFIED:20260417T172046Z
UID:10026581-1788109200-1788130800@lavozdeibiza.com
SUMMARY:Swedish House Mafia en Ushuaïa Ibiza 2026: los domingos
DESCRIPTION: El icónico trío Swedish House Mafia regresa a Ushuaïa Ibiza en 2026 con una potente residencia\, consolidando una de las citas más esperadas del verano en la isla. Con un total de 12 fechas\, el grupo vuelve a liderar el escenario open air de Playa d’en Bossa como uno de los grandes reclamos de la temporada. \nFormado por Axwell\, Steve Angello y Sebastian Ingrosso\, el colectivo es responsable de algunos de los himnos más influyentes de la electrónica global\, y su regreso refuerza una conexión histórica con Ibiza que ha marcado la evolución del clubbing en la isla. \nCada domingo\, Ushuaïa se transformará en un espectáculo de gran formato donde se combinan progressive house\, electro y producción audiovisual de alto impacto\, en sesiones que van desde la tarde hasta la noche. \nMás información en Confirmado: Swedish House Mafia vuelve a Ushuaïa Ibiza en 2026 con una residencia todos los domingos
URL:https://lavozdeibiza.com/event/swedish-house-mafia-en-ushuaia-ibiza-2026-los-domingos/2026-08-30/
LOCATION:Ushuaïa Ibiza\, Playa d'en Bossa 10\,\, Ibiza\, Islas Baleares\, 07817\, Spain
CATEGORIES:OCIO
ATTACH;FMTTYPE=image/jpeg:https://lavozdeibiza.com/wp-content/uploads/2026/02/20240825_Ushuaia_SHM_Closing_0006_2048x1365px_-1.jpg
END:VEVENT
BEGIN:VEVENT
DTSTART;TZID=Europe/Madrid:20260906T170000
DTEND;TZID=Europe/Madrid:20260906T230000
DTSTAMP:20260422T055346
CREATED:20260417T172046Z
LAST-MODIFIED:20260417T172046Z
UID:10026582-1788714000-1788735600@lavozdeibiza.com
SUMMARY:Swedish House Mafia en Ushuaïa Ibiza 2026: los domingos
DESCRIPTION: El icónico trío Swedish House Mafia regresa a Ushuaïa Ibiza en 2026 con una potente residencia\, consolidando una de las citas más esperadas del verano en la isla. Con un total de 12 fechas\, el grupo vuelve a liderar el escenario open air de Playa d’en Bossa como uno de los grandes reclamos de la temporada. \nFormado por Axwell\, Steve Angello y Sebastian Ingrosso\, el colectivo es responsable de algunos de los himnos más influyentes de la electrónica global\, y su regreso refuerza una conexión histórica con Ibiza que ha marcado la evolución del clubbing en la isla. \nCada domingo\, Ushuaïa se transformará en un espectáculo de gran formato donde se combinan progressive house\, electro y producción audiovisual de alto impacto\, en sesiones que van desde la tarde hasta la noche. \nMás información en Confirmado: Swedish House Mafia vuelve a Ushuaïa Ibiza en 2026 con una residencia todos los domingos
URL:https://lavozdeibiza.com/event/swedish-house-mafia-en-ushuaia-ibiza-2026-los-domingos/2026-09-06/
LOCATION:Ushuaïa Ibiza\, Playa d'en Bossa 10\,\, Ibiza\, Islas Baleares\, 07817\, Spain
CATEGORIES:OCIO
ATTACH;FMTTYPE=image/jpeg:https://lavozdeibiza.com/wp-content/uploads/2026/02/20240825_Ushuaia_SHM_Closing_0006_2048x1365px_-1.jpg
END:VEVENT
BEGIN:VEVENT
DTSTART;TZID=Europe/Madrid:20260913T170000
DTEND;TZID=Europe/Madrid:20260913T230000
DTSTAMP:20260422T055346
CREATED:20260417T172046Z
LAST-MODIFIED:20260417T172046Z
UID:10026583-1789318800-1789340400@lavozdeibiza.com
SUMMARY:Swedish House Mafia en Ushuaïa Ibiza 2026: los domingos
DESCRIPTION: El icónico trío Swedish House Mafia regresa a Ushuaïa Ibiza en 2026 con una potente residencia\, consolidando una de las citas más esperadas del verano en la isla. Con un total de 12 fechas\, el grupo vuelve a liderar el escenario open air de Playa d’en Bossa como uno de los grandes reclamos de la temporada. \nFormado por Axwell\, Steve Angello y Sebastian Ingrosso\, el colectivo es responsable de algunos de los himnos más influyentes de la electrónica global\, y su regreso refuerza una conexión histórica con Ibiza que ha marcado la evolución del clubbing en la isla. \nCada domingo\, Ushuaïa se transformará en un espectáculo de gran formato donde se combinan progressive house\, electro y producción audiovisual de alto impacto\, en sesiones que van desde la tarde hasta la noche. \nMás información en Confirmado: Swedish House Mafia vuelve a Ushuaïa Ibiza en 2026 con una residencia todos los domingos
URL:https://lavozdeibiza.com/event/swedish-house-mafia-en-ushuaia-ibiza-2026-los-domingos/2026-09-13/
LOCATION:Ushuaïa Ibiza\, Playa d'en Bossa 10\,\, Ibiza\, Islas Baleares\, 07817\, Spain
CATEGORIES:OCIO
ATTACH;FMTTYPE=image/jpeg:https://lavozdeibiza.com/wp-content/uploads/2026/02/20240825_Ushuaia_SHM_Closing_0006_2048x1365px_-1.jpg
END:VEVENT
END:VCALENDAR