BEGIN:VCALENDAR
VERSION:2.0
PRODID:-//La Voz De Ibiza - ECPv6.15.20//NONSGML v1.0//EN
CALSCALE:GREGORIAN
METHOD:PUBLISH
X-WR-CALNAME:La Voz De Ibiza
X-ORIGINAL-URL:https://lavozdeibiza.com
X-WR-CALDESC:Eventos para La Voz De Ibiza
REFRESH-INTERVAL;VALUE=DURATION:PT1H
X-Robots-Tag:noindex
X-PUBLISHED-TTL:PT1H
BEGIN:VTIMEZONE
TZID:Europe/Madrid
BEGIN:DAYLIGHT
TZOFFSETFROM:+0100
TZOFFSETTO:+0200
TZNAME:CEST
DTSTART:20250330T010000
END:DAYLIGHT
BEGIN:STANDARD
TZOFFSETFROM:+0200
TZOFFSETTO:+0100
TZNAME:CET
DTSTART:20251026T010000
END:STANDARD
BEGIN:DAYLIGHT
TZOFFSETFROM:+0100
TZOFFSETTO:+0200
TZNAME:CEST
DTSTART:20260329T010000
END:DAYLIGHT
BEGIN:STANDARD
TZOFFSETFROM:+0200
TZOFFSETTO:+0100
TZNAME:CET
DTSTART:20261025T010000
END:STANDARD
BEGIN:DAYLIGHT
TZOFFSETFROM:+0100
TZOFFSETTO:+0200
TZNAME:CEST
DTSTART:20270328T010000
END:DAYLIGHT
BEGIN:STANDARD
TZOFFSETFROM:+0200
TZOFFSETTO:+0100
TZNAME:CET
DTSTART:20271031T010000
END:STANDARD
END:VTIMEZONE
BEGIN:VEVENT
DTSTART;TZID=Europe/Madrid:20260907T230000
DTEND;TZID=Europe/Madrid:20260907T230000
DTSTAMP:20260422T055346
CREATED:20260420T113022Z
LAST-MODIFIED:20260420T113022Z
UID:10026588-1788822000-1788822000@lavozdeibiza.com
SUMMARY:Armin van Buuren en [UNVRS] Ibiza 2026: 25 años de A State of Trance
DESCRIPTION:El legendario A State of Trance llega a Ibiza en 2026 con una residencia histórica de Armin van Buuren en [UNVRS]\, celebrando el 25º aniversario de uno de los movimientos más influyentes del trance en un formato exclusivo de solo cinco fechas. \nCada noche estará protagonizada por un extended set de cinco horas a cargo de Armin van Buuren\, diseñado como un viaje sonoro profundo\, emocional y narrativo que recorre la esencia del trance y su evolución. \nAdemás\, el DJ estará acompañado por invitados especiales y colaboradores cercanos para reforzar el carácter celebratorio de esta edición tan especial. \nMás información en A State of Trance celebra 25 años con una residencia histórica de Armin van Buuren en [UNVRS]
URL:https://lavozdeibiza.com/event/armin-van-buuren-en-unvrs-ibiza-2026-25-anos-de-a-state-of-trance/2026-09-07/
LOCATION:[UNVRS]
CATEGORIES:OCIO
ATTACH;FMTTYPE=image/jpeg:https://lavozdeibiza.com/wp-content/uploads/2026/02/20250928_Ushuaia_Armin_Closing_0053_5000x4000px_-1.jpg
END:VEVENT
BEGIN:VEVENT
DTSTART;TZID=Europe/Madrid:20260914T230000
DTEND;TZID=Europe/Madrid:20260914T230000
DTSTAMP:20260422T055346
CREATED:20260420T113022Z
LAST-MODIFIED:20260420T113022Z
UID:10026589-1789426800-1789426800@lavozdeibiza.com
SUMMARY:Armin van Buuren en [UNVRS] Ibiza 2026: 25 años de A State of Trance
DESCRIPTION:El legendario A State of Trance llega a Ibiza en 2026 con una residencia histórica de Armin van Buuren en [UNVRS]\, celebrando el 25º aniversario de uno de los movimientos más influyentes del trance en un formato exclusivo de solo cinco fechas. \nCada noche estará protagonizada por un extended set de cinco horas a cargo de Armin van Buuren\, diseñado como un viaje sonoro profundo\, emocional y narrativo que recorre la esencia del trance y su evolución. \nAdemás\, el DJ estará acompañado por invitados especiales y colaboradores cercanos para reforzar el carácter celebratorio de esta edición tan especial. \nMás información en A State of Trance celebra 25 años con una residencia histórica de Armin van Buuren en [UNVRS]
URL:https://lavozdeibiza.com/event/armin-van-buuren-en-unvrs-ibiza-2026-25-anos-de-a-state-of-trance/2026-09-14/
LOCATION:[UNVRS]
CATEGORIES:OCIO
ATTACH;FMTTYPE=image/jpeg:https://lavozdeibiza.com/wp-content/uploads/2026/02/20250928_Ushuaia_Armin_Closing_0053_5000x4000px_-1.jpg
END:VEVENT
BEGIN:VEVENT
DTSTART;TZID=Europe/Madrid:20260921T230000
DTEND;TZID=Europe/Madrid:20260921T230000
DTSTAMP:20260422T055346
CREATED:20260420T113022Z
LAST-MODIFIED:20260420T113022Z
UID:10026590-1790031600-1790031600@lavozdeibiza.com
SUMMARY:Armin van Buuren en [UNVRS] Ibiza 2026: 25 años de A State of Trance
DESCRIPTION:El legendario A State of Trance llega a Ibiza en 2026 con una residencia histórica de Armin van Buuren en [UNVRS]\, celebrando el 25º aniversario de uno de los movimientos más influyentes del trance en un formato exclusivo de solo cinco fechas. \nCada noche estará protagonizada por un extended set de cinco horas a cargo de Armin van Buuren\, diseñado como un viaje sonoro profundo\, emocional y narrativo que recorre la esencia del trance y su evolución. \nAdemás\, el DJ estará acompañado por invitados especiales y colaboradores cercanos para reforzar el carácter celebratorio de esta edición tan especial. \nMás información en A State of Trance celebra 25 años con una residencia histórica de Armin van Buuren en [UNVRS]
URL:https://lavozdeibiza.com/event/armin-van-buuren-en-unvrs-ibiza-2026-25-anos-de-a-state-of-trance/2026-09-21/
LOCATION:[UNVRS]
CATEGORIES:OCIO
ATTACH;FMTTYPE=image/jpeg:https://lavozdeibiza.com/wp-content/uploads/2026/02/20250928_Ushuaia_Armin_Closing_0053_5000x4000px_-1.jpg
END:VEVENT
BEGIN:VEVENT
DTSTART;TZID=Europe/Madrid:20260928T230000
DTEND;TZID=Europe/Madrid:20260928T230000
DTSTAMP:20260422T055346
CREATED:20260420T113022Z
LAST-MODIFIED:20260420T113022Z
UID:10026591-1790636400-1790636400@lavozdeibiza.com
SUMMARY:Armin van Buuren en [UNVRS] Ibiza 2026: 25 años de A State of Trance
DESCRIPTION:El legendario A State of Trance llega a Ibiza en 2026 con una residencia histórica de Armin van Buuren en [UNVRS]\, celebrando el 25º aniversario de uno de los movimientos más influyentes del trance en un formato exclusivo de solo cinco fechas. \nCada noche estará protagonizada por un extended set de cinco horas a cargo de Armin van Buuren\, diseñado como un viaje sonoro profundo\, emocional y narrativo que recorre la esencia del trance y su evolución. \nAdemás\, el DJ estará acompañado por invitados especiales y colaboradores cercanos para reforzar el carácter celebratorio de esta edición tan especial. \nMás información en A State of Trance celebra 25 años con una residencia histórica de Armin van Buuren en [UNVRS]
URL:https://lavozdeibiza.com/event/armin-van-buuren-en-unvrs-ibiza-2026-25-anos-de-a-state-of-trance/2026-09-28/
LOCATION:[UNVRS]
CATEGORIES:OCIO
ATTACH;FMTTYPE=image/jpeg:https://lavozdeibiza.com/wp-content/uploads/2026/02/20250928_Ushuaia_Armin_Closing_0053_5000x4000px_-1.jpg
END:VEVENT
BEGIN:VEVENT
DTSTART;TZID=Europe/Madrid:20261005T230000
DTEND;TZID=Europe/Madrid:20261005T230000
DTSTAMP:20260422T055346
CREATED:20260420T113022Z
LAST-MODIFIED:20260420T113022Z
UID:10026592-1791241200-1791241200@lavozdeibiza.com
SUMMARY:Armin van Buuren en [UNVRS] Ibiza 2026: 25 años de A State of Trance
DESCRIPTION:El legendario A State of Trance llega a Ibiza en 2026 con una residencia histórica de Armin van Buuren en [UNVRS]\, celebrando el 25º aniversario de uno de los movimientos más influyentes del trance en un formato exclusivo de solo cinco fechas. \nCada noche estará protagonizada por un extended set de cinco horas a cargo de Armin van Buuren\, diseñado como un viaje sonoro profundo\, emocional y narrativo que recorre la esencia del trance y su evolución. \nAdemás\, el DJ estará acompañado por invitados especiales y colaboradores cercanos para reforzar el carácter celebratorio de esta edición tan especial. \nMás información en A State of Trance celebra 25 años con una residencia histórica de Armin van Buuren en [UNVRS]
URL:https://lavozdeibiza.com/event/armin-van-buuren-en-unvrs-ibiza-2026-25-anos-de-a-state-of-trance/2026-10-05/
LOCATION:[UNVRS]
CATEGORIES:OCIO
ATTACH;FMTTYPE=image/jpeg:https://lavozdeibiza.com/wp-content/uploads/2026/02/20250928_Ushuaia_Armin_Closing_0053_5000x4000px_-1.jpg
END:VEVENT
END:VCALENDAR