BEGIN:VCALENDAR
VERSION:2.0
PRODID:-//La Voz De Ibiza - ECPv6.15.20//NONSGML v1.0//EN
CALSCALE:GREGORIAN
METHOD:PUBLISH
X-WR-CALNAME:La Voz De Ibiza
X-ORIGINAL-URL:https://lavozdeibiza.com
X-WR-CALDESC:Eventos para La Voz De Ibiza
REFRESH-INTERVAL;VALUE=DURATION:PT1H
X-Robots-Tag:noindex
X-PUBLISHED-TTL:PT1H
BEGIN:VTIMEZONE
TZID:Europe/Madrid
BEGIN:DAYLIGHT
TZOFFSETFROM:+0100
TZOFFSETTO:+0200
TZNAME:CEST
DTSTART:20250330T010000
END:DAYLIGHT
BEGIN:STANDARD
TZOFFSETFROM:+0200
TZOFFSETTO:+0100
TZNAME:CET
DTSTART:20251026T010000
END:STANDARD
BEGIN:DAYLIGHT
TZOFFSETFROM:+0100
TZOFFSETTO:+0200
TZNAME:CEST
DTSTART:20260329T010000
END:DAYLIGHT
BEGIN:STANDARD
TZOFFSETFROM:+0200
TZOFFSETTO:+0100
TZNAME:CET
DTSTART:20261025T010000
END:STANDARD
BEGIN:DAYLIGHT
TZOFFSETFROM:+0100
TZOFFSETTO:+0200
TZNAME:CEST
DTSTART:20270328T010000
END:DAYLIGHT
BEGIN:STANDARD
TZOFFSETFROM:+0200
TZOFFSETTO:+0100
TZNAME:CET
DTSTART:20271031T010000
END:STANDARD
END:VTIMEZONE
BEGIN:VEVENT
DTSTART;TZID=Europe/Madrid:20260422T180000
DTEND;TZID=Europe/Madrid:20260422T180000
DTSTAMP:20260422T043501
CREATED:20260420T131231Z
LAST-MODIFIED:20260420T131231Z
UID:10026602-1776880800-1776880800@lavozdeibiza.com
SUMMARY:Sant Antoni celebra el Día del Libro con actividades\, firmas de autores y conciertos
DESCRIPTION:Sant Antoni de Portmany celebra el Día del Libro con una completa programación cultural para todos los públicos que se desarrollará durante tres días. \nEl miércoles 22 de abril\, las actividades comenzarán a las 18:00 h en la Biblioteca Municipal con el cuentacuentos “La rosa y el dragón”\, a cargo de Anakrónica\, con entrada libre hasta completar aforo. \nEl jueves 23 de abril\, Día de Sant Jordi\, la programación arrancará a las 17:30 h en la Biblioteca Municipal con una jornada dedicada a los libros y las rosas. Destaca un taller infantil de manualidades organizado por EducArte Ibiza\, dirigido a niños de 5 a 9 años\, que se prolongará hasta las 19:00 h y requiere inscripción previa. \nEl viernes 24 de abril será el día principal\, con actividades desde las 11:00 h en el Passeig de ses Fonts\, donde habrá puestos de venta de libros hasta las 20:00 h\, firmas de autores durante toda la jornada\, talleres para escolares por la mañana y actividades infantiles por la tarde. A las 17:30 h se entregarán los premios del VIII Concurso de Puntos de Libro y la jornada culminará con un concierto de Daniel Viloria a las 19:00 h. \nAdemás\, habrá actividades paralelas como el club de lectura con Toni Montserrat a las 18:00 h en el Centro Cultural Cervantes y visitas guiadas a la exposición del Archivo de la iglesia a las 11:00 h. \nUna programación variada que convierte Sant Antoni en un punto de referencia cultural en Ibiza con motivo del Día del Libro.
URL:https://lavozdeibiza.com/event/sant-antoni-celebra-el-dia-del-libro-con-actividades-firmas-de-autores-y-conciertos/2026-04-22/
LOCATION:Sant Antoni de Portmany\, Sant Antoni de Portmany\, Islas Baleares\, Spain
CATEGORIES:CULTURA Y SOCIEDAD
ATTACH;FMTTYPE=image/jpeg:https://lavozdeibiza.com/wp-content/uploads/2026/04/Libro-sant-jordi.jpg
END:VEVENT
BEGIN:VEVENT
DTSTART;TZID=Europe/Madrid:20260423T173000
DTEND;TZID=Europe/Madrid:20260423T173000
DTSTAMP:20260422T043501
CREATED:20260420T131231Z
LAST-MODIFIED:20260420T131231Z
UID:10026603-1776965400-1776965400@lavozdeibiza.com
SUMMARY:Sant Antoni celebra el Día del Libro con actividades\, firmas de autores y conciertos
DESCRIPTION:Sant Antoni de Portmany celebra el Día del Libro con una completa programación cultural para todos los públicos que se desarrollará durante tres días. \nEl miércoles 22 de abril\, las actividades comenzarán a las 18:00 h en la Biblioteca Municipal con el cuentacuentos “La rosa y el dragón”\, a cargo de Anakrónica\, con entrada libre hasta completar aforo. \nEl jueves 23 de abril\, Día de Sant Jordi\, la programación arrancará a las 17:30 h en la Biblioteca Municipal con una jornada dedicada a los libros y las rosas. Destaca un taller infantil de manualidades organizado por EducArte Ibiza\, dirigido a niños de 5 a 9 años\, que se prolongará hasta las 19:00 h y requiere inscripción previa. \nEl viernes 24 de abril será el día principal\, con actividades desde las 11:00 h en el Passeig de ses Fonts\, donde habrá puestos de venta de libros hasta las 20:00 h\, firmas de autores durante toda la jornada\, talleres para escolares por la mañana y actividades infantiles por la tarde. A las 17:30 h se entregarán los premios del VIII Concurso de Puntos de Libro y la jornada culminará con un concierto de Daniel Viloria a las 19:00 h. \nAdemás\, habrá actividades paralelas como el club de lectura con Toni Montserrat a las 18:00 h en el Centro Cultural Cervantes y visitas guiadas a la exposición del Archivo de la iglesia a las 11:00 h. \nUna programación variada que convierte Sant Antoni en un punto de referencia cultural en Ibiza con motivo del Día del Libro.
URL:https://lavozdeibiza.com/event/sant-antoni-celebra-el-dia-del-libro-con-actividades-firmas-de-autores-y-conciertos/2026-04-23/
LOCATION:Sant Antoni de Portmany\, Sant Antoni de Portmany\, Islas Baleares\, Spain
CATEGORIES:CULTURA Y SOCIEDAD
ATTACH;FMTTYPE=image/jpeg:https://lavozdeibiza.com/wp-content/uploads/2026/04/Libro-sant-jordi.jpg
END:VEVENT
BEGIN:VEVENT
DTSTART;TZID=Europe/Madrid:20260424T110000
DTEND;TZID=Europe/Madrid:20260424T110000
DTSTAMP:20260422T043501
CREATED:20260420T131231Z
LAST-MODIFIED:20260420T131231Z
UID:10026604-1777028400-1777028400@lavozdeibiza.com
SUMMARY:Sant Antoni celebra el Día del Libro con actividades\, firmas de autores y conciertos
DESCRIPTION:Sant Antoni de Portmany celebra el Día del Libro con una completa programación cultural para todos los públicos que se desarrollará durante tres días. \nEl miércoles 22 de abril\, las actividades comenzarán a las 18:00 h en la Biblioteca Municipal con el cuentacuentos “La rosa y el dragón”\, a cargo de Anakrónica\, con entrada libre hasta completar aforo. \nEl jueves 23 de abril\, Día de Sant Jordi\, la programación arrancará a las 17:30 h en la Biblioteca Municipal con una jornada dedicada a los libros y las rosas. Destaca un taller infantil de manualidades organizado por EducArte Ibiza\, dirigido a niños de 5 a 9 años\, que se prolongará hasta las 19:00 h y requiere inscripción previa. \nEl viernes 24 de abril será el día principal\, con actividades desde las 11:00 h en el Passeig de ses Fonts\, donde habrá puestos de venta de libros hasta las 20:00 h\, firmas de autores durante toda la jornada\, talleres para escolares por la mañana y actividades infantiles por la tarde. A las 17:30 h se entregarán los premios del VIII Concurso de Puntos de Libro y la jornada culminará con un concierto de Daniel Viloria a las 19:00 h. \nAdemás\, habrá actividades paralelas como el club de lectura con Toni Montserrat a las 18:00 h en el Centro Cultural Cervantes y visitas guiadas a la exposición del Archivo de la iglesia a las 11:00 h. \nUna programación variada que convierte Sant Antoni en un punto de referencia cultural en Ibiza con motivo del Día del Libro.
URL:https://lavozdeibiza.com/event/sant-antoni-celebra-el-dia-del-libro-con-actividades-firmas-de-autores-y-conciertos/2026-04-24/
LOCATION:Sant Antoni de Portmany\, Sant Antoni de Portmany\, Islas Baleares\, Spain
CATEGORIES:CULTURA Y SOCIEDAD
ATTACH;FMTTYPE=image/jpeg:https://lavozdeibiza.com/wp-content/uploads/2026/04/Libro-sant-jordi.jpg
END:VEVENT
END:VCALENDAR