BEGIN:VCALENDAR
VERSION:2.0
PRODID:-//La Voz De Ibiza - ECPv6.15.20//NONSGML v1.0//EN
CALSCALE:GREGORIAN
METHOD:PUBLISH
X-WR-CALNAME:La Voz De Ibiza
X-ORIGINAL-URL:https://lavozdeibiza.com
X-WR-CALDESC:Eventos para La Voz De Ibiza
REFRESH-INTERVAL;VALUE=DURATION:PT1H
X-Robots-Tag:noindex
X-PUBLISHED-TTL:PT1H
BEGIN:VTIMEZONE
TZID:Europe/Madrid
BEGIN:DAYLIGHT
TZOFFSETFROM:+0100
TZOFFSETTO:+0200
TZNAME:CEST
DTSTART:20250330T010000
END:DAYLIGHT
BEGIN:STANDARD
TZOFFSETFROM:+0200
TZOFFSETTO:+0100
TZNAME:CET
DTSTART:20251026T010000
END:STANDARD
BEGIN:DAYLIGHT
TZOFFSETFROM:+0100
TZOFFSETTO:+0200
TZNAME:CEST
DTSTART:20260329T010000
END:DAYLIGHT
BEGIN:STANDARD
TZOFFSETFROM:+0200
TZOFFSETTO:+0100
TZNAME:CET
DTSTART:20261025T010000
END:STANDARD
BEGIN:DAYLIGHT
TZOFFSETFROM:+0100
TZOFFSETTO:+0200
TZNAME:CEST
DTSTART:20270328T010000
END:DAYLIGHT
BEGIN:STANDARD
TZOFFSETFROM:+0200
TZOFFSETTO:+0100
TZNAME:CET
DTSTART:20271031T010000
END:STANDARD
END:VTIMEZONE
BEGIN:VEVENT
DTSTART;TZID=Europe/Madrid:20260614T230000
DTEND;TZID=Europe/Madrid:20260614T230000
DTSTAMP:20260422T021856
CREATED:20260420T131743Z
LAST-MODIFIED:20260420T131743Z
UID:10026605-1781478000-1781478000@lavozdeibiza.com
SUMMARY:Pyramid en Amnesia Ibiza 2026: techno y esencia underground 
DESCRIPTION:La esperada Pyramid Opening Party 2026 marca el inicio de la temporada\, dando el pistoletazo de salida a una de las residencias más auténticas del verano. Fiel a su identidad\, la fiesta volverá a celebrarse cada domingo hasta el final de temproada\, consolidándose como uno de los pilares del clubbing underground en la isla. \nMás que una fiesta\, Pyramid se ha consolidado como un refugio para los amantes del sonido más puro\, apostando por sets largos\, narrativa musical y conexión real en la pista. En un club histórico como Amnesia\, la experiencia se centra en la música y la energía colectiva\, manteniendo viva la esencia original del clubbing en Ibiza. \nMás información en Pyramid Opening 2026: lineup confirmado y una temporada de autenticidad en Amnesia Ibiza
URL:https://lavozdeibiza.com/event/pyramid-en-amnesia-ibiza-2026-techno-y-esencia-underground/2026-06-14/
LOCATION:Amnesia\, Ctra. Ibiza a San Antonio\, Km 5\, 07816 Eivissa\, Balearic Islands\, España\, Ibiza\, Baleares\, Spain
CATEGORIES:OCIO
ATTACH;FMTTYPE=image/png:https://lavozdeibiza.com/wp-content/uploads/2025/06/Pyramid-en-Amnesia-Ibiza.-Archivo.png
END:VEVENT
BEGIN:VEVENT
DTSTART;TZID=Europe/Madrid:20260621T230000
DTEND;TZID=Europe/Madrid:20260621T230000
DTSTAMP:20260422T021856
CREATED:20260420T131743Z
LAST-MODIFIED:20260420T131743Z
UID:10026606-1782082800-1782082800@lavozdeibiza.com
SUMMARY:Pyramid en Amnesia Ibiza 2026: techno y esencia underground 
DESCRIPTION:La esperada Pyramid Opening Party 2026 marca el inicio de la temporada\, dando el pistoletazo de salida a una de las residencias más auténticas del verano. Fiel a su identidad\, la fiesta volverá a celebrarse cada domingo hasta el final de temproada\, consolidándose como uno de los pilares del clubbing underground en la isla. \nMás que una fiesta\, Pyramid se ha consolidado como un refugio para los amantes del sonido más puro\, apostando por sets largos\, narrativa musical y conexión real en la pista. En un club histórico como Amnesia\, la experiencia se centra en la música y la energía colectiva\, manteniendo viva la esencia original del clubbing en Ibiza. \nMás información en Pyramid Opening 2026: lineup confirmado y una temporada de autenticidad en Amnesia Ibiza
URL:https://lavozdeibiza.com/event/pyramid-en-amnesia-ibiza-2026-techno-y-esencia-underground/2026-06-21/
LOCATION:Amnesia\, Ctra. Ibiza a San Antonio\, Km 5\, 07816 Eivissa\, Balearic Islands\, España\, Ibiza\, Baleares\, Spain
CATEGORIES:OCIO
ATTACH;FMTTYPE=image/png:https://lavozdeibiza.com/wp-content/uploads/2025/06/Pyramid-en-Amnesia-Ibiza.-Archivo.png
END:VEVENT
BEGIN:VEVENT
DTSTART;TZID=Europe/Madrid:20260628T230000
DTEND;TZID=Europe/Madrid:20260628T230000
DTSTAMP:20260422T021856
CREATED:20260420T131743Z
LAST-MODIFIED:20260420T131743Z
UID:10026607-1782687600-1782687600@lavozdeibiza.com
SUMMARY:Pyramid en Amnesia Ibiza 2026: techno y esencia underground 
DESCRIPTION:La esperada Pyramid Opening Party 2026 marca el inicio de la temporada\, dando el pistoletazo de salida a una de las residencias más auténticas del verano. Fiel a su identidad\, la fiesta volverá a celebrarse cada domingo hasta el final de temproada\, consolidándose como uno de los pilares del clubbing underground en la isla. \nMás que una fiesta\, Pyramid se ha consolidado como un refugio para los amantes del sonido más puro\, apostando por sets largos\, narrativa musical y conexión real en la pista. En un club histórico como Amnesia\, la experiencia se centra en la música y la energía colectiva\, manteniendo viva la esencia original del clubbing en Ibiza. \nMás información en Pyramid Opening 2026: lineup confirmado y una temporada de autenticidad en Amnesia Ibiza
URL:https://lavozdeibiza.com/event/pyramid-en-amnesia-ibiza-2026-techno-y-esencia-underground/2026-06-28/
LOCATION:Amnesia\, Ctra. Ibiza a San Antonio\, Km 5\, 07816 Eivissa\, Balearic Islands\, España\, Ibiza\, Baleares\, Spain
CATEGORIES:OCIO
ATTACH;FMTTYPE=image/png:https://lavozdeibiza.com/wp-content/uploads/2025/06/Pyramid-en-Amnesia-Ibiza.-Archivo.png
END:VEVENT
BEGIN:VEVENT
DTSTART;TZID=Europe/Madrid:20260705T230000
DTEND;TZID=Europe/Madrid:20260705T230000
DTSTAMP:20260422T021856
CREATED:20260420T131743Z
LAST-MODIFIED:20260420T131743Z
UID:10026608-1783292400-1783292400@lavozdeibiza.com
SUMMARY:Pyramid en Amnesia Ibiza 2026: techno y esencia underground 
DESCRIPTION:La esperada Pyramid Opening Party 2026 marca el inicio de la temporada\, dando el pistoletazo de salida a una de las residencias más auténticas del verano. Fiel a su identidad\, la fiesta volverá a celebrarse cada domingo hasta el final de temproada\, consolidándose como uno de los pilares del clubbing underground en la isla. \nMás que una fiesta\, Pyramid se ha consolidado como un refugio para los amantes del sonido más puro\, apostando por sets largos\, narrativa musical y conexión real en la pista. En un club histórico como Amnesia\, la experiencia se centra en la música y la energía colectiva\, manteniendo viva la esencia original del clubbing en Ibiza. \nMás información en Pyramid Opening 2026: lineup confirmado y una temporada de autenticidad en Amnesia Ibiza
URL:https://lavozdeibiza.com/event/pyramid-en-amnesia-ibiza-2026-techno-y-esencia-underground/2026-07-05/
LOCATION:Amnesia\, Ctra. Ibiza a San Antonio\, Km 5\, 07816 Eivissa\, Balearic Islands\, España\, Ibiza\, Baleares\, Spain
CATEGORIES:OCIO
ATTACH;FMTTYPE=image/png:https://lavozdeibiza.com/wp-content/uploads/2025/06/Pyramid-en-Amnesia-Ibiza.-Archivo.png
END:VEVENT
BEGIN:VEVENT
DTSTART;TZID=Europe/Madrid:20260712T230000
DTEND;TZID=Europe/Madrid:20260712T230000
DTSTAMP:20260422T021856
CREATED:20260420T131743Z
LAST-MODIFIED:20260420T131743Z
UID:10026609-1783897200-1783897200@lavozdeibiza.com
SUMMARY:Pyramid en Amnesia Ibiza 2026: techno y esencia underground 
DESCRIPTION:La esperada Pyramid Opening Party 2026 marca el inicio de la temporada\, dando el pistoletazo de salida a una de las residencias más auténticas del verano. Fiel a su identidad\, la fiesta volverá a celebrarse cada domingo hasta el final de temproada\, consolidándose como uno de los pilares del clubbing underground en la isla. \nMás que una fiesta\, Pyramid se ha consolidado como un refugio para los amantes del sonido más puro\, apostando por sets largos\, narrativa musical y conexión real en la pista. En un club histórico como Amnesia\, la experiencia se centra en la música y la energía colectiva\, manteniendo viva la esencia original del clubbing en Ibiza. \nMás información en Pyramid Opening 2026: lineup confirmado y una temporada de autenticidad en Amnesia Ibiza
URL:https://lavozdeibiza.com/event/pyramid-en-amnesia-ibiza-2026-techno-y-esencia-underground/2026-07-12/
LOCATION:Amnesia\, Ctra. Ibiza a San Antonio\, Km 5\, 07816 Eivissa\, Balearic Islands\, España\, Ibiza\, Baleares\, Spain
CATEGORIES:OCIO
ATTACH;FMTTYPE=image/png:https://lavozdeibiza.com/wp-content/uploads/2025/06/Pyramid-en-Amnesia-Ibiza.-Archivo.png
END:VEVENT
BEGIN:VEVENT
DTSTART;TZID=Europe/Madrid:20260719T230000
DTEND;TZID=Europe/Madrid:20260719T230000
DTSTAMP:20260422T021856
CREATED:20260420T131743Z
LAST-MODIFIED:20260420T131743Z
UID:10026610-1784502000-1784502000@lavozdeibiza.com
SUMMARY:Pyramid en Amnesia Ibiza 2026: techno y esencia underground 
DESCRIPTION:La esperada Pyramid Opening Party 2026 marca el inicio de la temporada\, dando el pistoletazo de salida a una de las residencias más auténticas del verano. Fiel a su identidad\, la fiesta volverá a celebrarse cada domingo hasta el final de temproada\, consolidándose como uno de los pilares del clubbing underground en la isla. \nMás que una fiesta\, Pyramid se ha consolidado como un refugio para los amantes del sonido más puro\, apostando por sets largos\, narrativa musical y conexión real en la pista. En un club histórico como Amnesia\, la experiencia se centra en la música y la energía colectiva\, manteniendo viva la esencia original del clubbing en Ibiza. \nMás información en Pyramid Opening 2026: lineup confirmado y una temporada de autenticidad en Amnesia Ibiza
URL:https://lavozdeibiza.com/event/pyramid-en-amnesia-ibiza-2026-techno-y-esencia-underground/2026-07-19/
LOCATION:Amnesia\, Ctra. Ibiza a San Antonio\, Km 5\, 07816 Eivissa\, Balearic Islands\, España\, Ibiza\, Baleares\, Spain
CATEGORIES:OCIO
ATTACH;FMTTYPE=image/png:https://lavozdeibiza.com/wp-content/uploads/2025/06/Pyramid-en-Amnesia-Ibiza.-Archivo.png
END:VEVENT
BEGIN:VEVENT
DTSTART;TZID=Europe/Madrid:20260726T230000
DTEND;TZID=Europe/Madrid:20260726T230000
DTSTAMP:20260422T021856
CREATED:20260420T131743Z
LAST-MODIFIED:20260420T131743Z
UID:10026611-1785106800-1785106800@lavozdeibiza.com
SUMMARY:Pyramid en Amnesia Ibiza 2026: techno y esencia underground 
DESCRIPTION:La esperada Pyramid Opening Party 2026 marca el inicio de la temporada\, dando el pistoletazo de salida a una de las residencias más auténticas del verano. Fiel a su identidad\, la fiesta volverá a celebrarse cada domingo hasta el final de temproada\, consolidándose como uno de los pilares del clubbing underground en la isla. \nMás que una fiesta\, Pyramid se ha consolidado como un refugio para los amantes del sonido más puro\, apostando por sets largos\, narrativa musical y conexión real en la pista. En un club histórico como Amnesia\, la experiencia se centra en la música y la energía colectiva\, manteniendo viva la esencia original del clubbing en Ibiza. \nMás información en Pyramid Opening 2026: lineup confirmado y una temporada de autenticidad en Amnesia Ibiza
URL:https://lavozdeibiza.com/event/pyramid-en-amnesia-ibiza-2026-techno-y-esencia-underground/2026-07-26/
LOCATION:Amnesia\, Ctra. Ibiza a San Antonio\, Km 5\, 07816 Eivissa\, Balearic Islands\, España\, Ibiza\, Baleares\, Spain
CATEGORIES:OCIO
ATTACH;FMTTYPE=image/png:https://lavozdeibiza.com/wp-content/uploads/2025/06/Pyramid-en-Amnesia-Ibiza.-Archivo.png
END:VEVENT
BEGIN:VEVENT
DTSTART;TZID=Europe/Madrid:20260802T230000
DTEND;TZID=Europe/Madrid:20260802T230000
DTSTAMP:20260422T021856
CREATED:20260420T131743Z
LAST-MODIFIED:20260420T131743Z
UID:10026612-1785711600-1785711600@lavozdeibiza.com
SUMMARY:Pyramid en Amnesia Ibiza 2026: techno y esencia underground 
DESCRIPTION:La esperada Pyramid Opening Party 2026 marca el inicio de la temporada\, dando el pistoletazo de salida a una de las residencias más auténticas del verano. Fiel a su identidad\, la fiesta volverá a celebrarse cada domingo hasta el final de temproada\, consolidándose como uno de los pilares del clubbing underground en la isla. \nMás que una fiesta\, Pyramid se ha consolidado como un refugio para los amantes del sonido más puro\, apostando por sets largos\, narrativa musical y conexión real en la pista. En un club histórico como Amnesia\, la experiencia se centra en la música y la energía colectiva\, manteniendo viva la esencia original del clubbing en Ibiza. \nMás información en Pyramid Opening 2026: lineup confirmado y una temporada de autenticidad en Amnesia Ibiza
URL:https://lavozdeibiza.com/event/pyramid-en-amnesia-ibiza-2026-techno-y-esencia-underground/2026-08-02/
LOCATION:Amnesia\, Ctra. Ibiza a San Antonio\, Km 5\, 07816 Eivissa\, Balearic Islands\, España\, Ibiza\, Baleares\, Spain
CATEGORIES:OCIO
ATTACH;FMTTYPE=image/png:https://lavozdeibiza.com/wp-content/uploads/2025/06/Pyramid-en-Amnesia-Ibiza.-Archivo.png
END:VEVENT
BEGIN:VEVENT
DTSTART;TZID=Europe/Madrid:20260809T230000
DTEND;TZID=Europe/Madrid:20260809T230000
DTSTAMP:20260422T021856
CREATED:20260420T131743Z
LAST-MODIFIED:20260420T131743Z
UID:10026613-1786316400-1786316400@lavozdeibiza.com
SUMMARY:Pyramid en Amnesia Ibiza 2026: techno y esencia underground 
DESCRIPTION:La esperada Pyramid Opening Party 2026 marca el inicio de la temporada\, dando el pistoletazo de salida a una de las residencias más auténticas del verano. Fiel a su identidad\, la fiesta volverá a celebrarse cada domingo hasta el final de temproada\, consolidándose como uno de los pilares del clubbing underground en la isla. \nMás que una fiesta\, Pyramid se ha consolidado como un refugio para los amantes del sonido más puro\, apostando por sets largos\, narrativa musical y conexión real en la pista. En un club histórico como Amnesia\, la experiencia se centra en la música y la energía colectiva\, manteniendo viva la esencia original del clubbing en Ibiza. \nMás información en Pyramid Opening 2026: lineup confirmado y una temporada de autenticidad en Amnesia Ibiza
URL:https://lavozdeibiza.com/event/pyramid-en-amnesia-ibiza-2026-techno-y-esencia-underground/2026-08-09/
LOCATION:Amnesia\, Ctra. Ibiza a San Antonio\, Km 5\, 07816 Eivissa\, Balearic Islands\, España\, Ibiza\, Baleares\, Spain
CATEGORIES:OCIO
ATTACH;FMTTYPE=image/png:https://lavozdeibiza.com/wp-content/uploads/2025/06/Pyramid-en-Amnesia-Ibiza.-Archivo.png
END:VEVENT
BEGIN:VEVENT
DTSTART;TZID=Europe/Madrid:20260816T230000
DTEND;TZID=Europe/Madrid:20260816T230000
DTSTAMP:20260422T021856
CREATED:20260420T131743Z
LAST-MODIFIED:20260420T131743Z
UID:10026614-1786921200-1786921200@lavozdeibiza.com
SUMMARY:Pyramid en Amnesia Ibiza 2026: techno y esencia underground 
DESCRIPTION:La esperada Pyramid Opening Party 2026 marca el inicio de la temporada\, dando el pistoletazo de salida a una de las residencias más auténticas del verano. Fiel a su identidad\, la fiesta volverá a celebrarse cada domingo hasta el final de temproada\, consolidándose como uno de los pilares del clubbing underground en la isla. \nMás que una fiesta\, Pyramid se ha consolidado como un refugio para los amantes del sonido más puro\, apostando por sets largos\, narrativa musical y conexión real en la pista. En un club histórico como Amnesia\, la experiencia se centra en la música y la energía colectiva\, manteniendo viva la esencia original del clubbing en Ibiza. \nMás información en Pyramid Opening 2026: lineup confirmado y una temporada de autenticidad en Amnesia Ibiza
URL:https://lavozdeibiza.com/event/pyramid-en-amnesia-ibiza-2026-techno-y-esencia-underground/2026-08-16/
LOCATION:Amnesia\, Ctra. Ibiza a San Antonio\, Km 5\, 07816 Eivissa\, Balearic Islands\, España\, Ibiza\, Baleares\, Spain
CATEGORIES:OCIO
ATTACH;FMTTYPE=image/png:https://lavozdeibiza.com/wp-content/uploads/2025/06/Pyramid-en-Amnesia-Ibiza.-Archivo.png
END:VEVENT
BEGIN:VEVENT
DTSTART;TZID=Europe/Madrid:20260823T230000
DTEND;TZID=Europe/Madrid:20260823T230000
DTSTAMP:20260422T021856
CREATED:20260420T131743Z
LAST-MODIFIED:20260420T131743Z
UID:10026615-1787526000-1787526000@lavozdeibiza.com
SUMMARY:Pyramid en Amnesia Ibiza 2026: techno y esencia underground 
DESCRIPTION:La esperada Pyramid Opening Party 2026 marca el inicio de la temporada\, dando el pistoletazo de salida a una de las residencias más auténticas del verano. Fiel a su identidad\, la fiesta volverá a celebrarse cada domingo hasta el final de temproada\, consolidándose como uno de los pilares del clubbing underground en la isla. \nMás que una fiesta\, Pyramid se ha consolidado como un refugio para los amantes del sonido más puro\, apostando por sets largos\, narrativa musical y conexión real en la pista. En un club histórico como Amnesia\, la experiencia se centra en la música y la energía colectiva\, manteniendo viva la esencia original del clubbing en Ibiza. \nMás información en Pyramid Opening 2026: lineup confirmado y una temporada de autenticidad en Amnesia Ibiza
URL:https://lavozdeibiza.com/event/pyramid-en-amnesia-ibiza-2026-techno-y-esencia-underground/2026-08-23/
LOCATION:Amnesia\, Ctra. Ibiza a San Antonio\, Km 5\, 07816 Eivissa\, Balearic Islands\, España\, Ibiza\, Baleares\, Spain
CATEGORIES:OCIO
ATTACH;FMTTYPE=image/png:https://lavozdeibiza.com/wp-content/uploads/2025/06/Pyramid-en-Amnesia-Ibiza.-Archivo.png
END:VEVENT
BEGIN:VEVENT
DTSTART;TZID=Europe/Madrid:20260830T230000
DTEND;TZID=Europe/Madrid:20260830T230000
DTSTAMP:20260422T021856
CREATED:20260420T131743Z
LAST-MODIFIED:20260420T131743Z
UID:10026616-1788130800-1788130800@lavozdeibiza.com
SUMMARY:Pyramid en Amnesia Ibiza 2026: techno y esencia underground 
DESCRIPTION:La esperada Pyramid Opening Party 2026 marca el inicio de la temporada\, dando el pistoletazo de salida a una de las residencias más auténticas del verano. Fiel a su identidad\, la fiesta volverá a celebrarse cada domingo hasta el final de temproada\, consolidándose como uno de los pilares del clubbing underground en la isla. \nMás que una fiesta\, Pyramid se ha consolidado como un refugio para los amantes del sonido más puro\, apostando por sets largos\, narrativa musical y conexión real en la pista. En un club histórico como Amnesia\, la experiencia se centra en la música y la energía colectiva\, manteniendo viva la esencia original del clubbing en Ibiza. \nMás información en Pyramid Opening 2026: lineup confirmado y una temporada de autenticidad en Amnesia Ibiza
URL:https://lavozdeibiza.com/event/pyramid-en-amnesia-ibiza-2026-techno-y-esencia-underground/2026-08-30/
LOCATION:Amnesia\, Ctra. Ibiza a San Antonio\, Km 5\, 07816 Eivissa\, Balearic Islands\, España\, Ibiza\, Baleares\, Spain
CATEGORIES:OCIO
ATTACH;FMTTYPE=image/png:https://lavozdeibiza.com/wp-content/uploads/2025/06/Pyramid-en-Amnesia-Ibiza.-Archivo.png
END:VEVENT
BEGIN:VEVENT
DTSTART;TZID=Europe/Madrid:20260906T230000
DTEND;TZID=Europe/Madrid:20260906T230000
DTSTAMP:20260422T021856
CREATED:20260420T131743Z
LAST-MODIFIED:20260420T131743Z
UID:10026617-1788735600-1788735600@lavozdeibiza.com
SUMMARY:Pyramid en Amnesia Ibiza 2026: techno y esencia underground 
DESCRIPTION:La esperada Pyramid Opening Party 2026 marca el inicio de la temporada\, dando el pistoletazo de salida a una de las residencias más auténticas del verano. Fiel a su identidad\, la fiesta volverá a celebrarse cada domingo hasta el final de temproada\, consolidándose como uno de los pilares del clubbing underground en la isla. \nMás que una fiesta\, Pyramid se ha consolidado como un refugio para los amantes del sonido más puro\, apostando por sets largos\, narrativa musical y conexión real en la pista. En un club histórico como Amnesia\, la experiencia se centra en la música y la energía colectiva\, manteniendo viva la esencia original del clubbing en Ibiza. \nMás información en Pyramid Opening 2026: lineup confirmado y una temporada de autenticidad en Amnesia Ibiza
URL:https://lavozdeibiza.com/event/pyramid-en-amnesia-ibiza-2026-techno-y-esencia-underground/2026-09-06/
LOCATION:Amnesia\, Ctra. Ibiza a San Antonio\, Km 5\, 07816 Eivissa\, Balearic Islands\, España\, Ibiza\, Baleares\, Spain
CATEGORIES:OCIO
ATTACH;FMTTYPE=image/png:https://lavozdeibiza.com/wp-content/uploads/2025/06/Pyramid-en-Amnesia-Ibiza.-Archivo.png
END:VEVENT
BEGIN:VEVENT
DTSTART;TZID=Europe/Madrid:20260913T230000
DTEND;TZID=Europe/Madrid:20260913T230000
DTSTAMP:20260422T021856
CREATED:20260420T131743Z
LAST-MODIFIED:20260420T131743Z
UID:10026618-1789340400-1789340400@lavozdeibiza.com
SUMMARY:Pyramid en Amnesia Ibiza 2026: techno y esencia underground 
DESCRIPTION:La esperada Pyramid Opening Party 2026 marca el inicio de la temporada\, dando el pistoletazo de salida a una de las residencias más auténticas del verano. Fiel a su identidad\, la fiesta volverá a celebrarse cada domingo hasta el final de temproada\, consolidándose como uno de los pilares del clubbing underground en la isla. \nMás que una fiesta\, Pyramid se ha consolidado como un refugio para los amantes del sonido más puro\, apostando por sets largos\, narrativa musical y conexión real en la pista. En un club histórico como Amnesia\, la experiencia se centra en la música y la energía colectiva\, manteniendo viva la esencia original del clubbing en Ibiza. \nMás información en Pyramid Opening 2026: lineup confirmado y una temporada de autenticidad en Amnesia Ibiza
URL:https://lavozdeibiza.com/event/pyramid-en-amnesia-ibiza-2026-techno-y-esencia-underground/2026-09-13/
LOCATION:Amnesia\, Ctra. Ibiza a San Antonio\, Km 5\, 07816 Eivissa\, Balearic Islands\, España\, Ibiza\, Baleares\, Spain
CATEGORIES:OCIO
ATTACH;FMTTYPE=image/png:https://lavozdeibiza.com/wp-content/uploads/2025/06/Pyramid-en-Amnesia-Ibiza.-Archivo.png
END:VEVENT
BEGIN:VEVENT
DTSTART;TZID=Europe/Madrid:20260920T230000
DTEND;TZID=Europe/Madrid:20260920T230000
DTSTAMP:20260422T021856
CREATED:20260420T131743Z
LAST-MODIFIED:20260420T131743Z
UID:10026619-1789945200-1789945200@lavozdeibiza.com
SUMMARY:Pyramid en Amnesia Ibiza 2026: techno y esencia underground 
DESCRIPTION:La esperada Pyramid Opening Party 2026 marca el inicio de la temporada\, dando el pistoletazo de salida a una de las residencias más auténticas del verano. Fiel a su identidad\, la fiesta volverá a celebrarse cada domingo hasta el final de temproada\, consolidándose como uno de los pilares del clubbing underground en la isla. \nMás que una fiesta\, Pyramid se ha consolidado como un refugio para los amantes del sonido más puro\, apostando por sets largos\, narrativa musical y conexión real en la pista. En un club histórico como Amnesia\, la experiencia se centra en la música y la energía colectiva\, manteniendo viva la esencia original del clubbing en Ibiza. \nMás información en Pyramid Opening 2026: lineup confirmado y una temporada de autenticidad en Amnesia Ibiza
URL:https://lavozdeibiza.com/event/pyramid-en-amnesia-ibiza-2026-techno-y-esencia-underground/2026-09-20/
LOCATION:Amnesia\, Ctra. Ibiza a San Antonio\, Km 5\, 07816 Eivissa\, Balearic Islands\, España\, Ibiza\, Baleares\, Spain
CATEGORIES:OCIO
ATTACH;FMTTYPE=image/png:https://lavozdeibiza.com/wp-content/uploads/2025/06/Pyramid-en-Amnesia-Ibiza.-Archivo.png
END:VEVENT
BEGIN:VEVENT
DTSTART;TZID=Europe/Madrid:20260927T230000
DTEND;TZID=Europe/Madrid:20260927T230000
DTSTAMP:20260422T021856
CREATED:20260420T131743Z
LAST-MODIFIED:20260420T131743Z
UID:10026620-1790550000-1790550000@lavozdeibiza.com
SUMMARY:Pyramid en Amnesia Ibiza 2026: techno y esencia underground 
DESCRIPTION:La esperada Pyramid Opening Party 2026 marca el inicio de la temporada\, dando el pistoletazo de salida a una de las residencias más auténticas del verano. Fiel a su identidad\, la fiesta volverá a celebrarse cada domingo hasta el final de temproada\, consolidándose como uno de los pilares del clubbing underground en la isla. \nMás que una fiesta\, Pyramid se ha consolidado como un refugio para los amantes del sonido más puro\, apostando por sets largos\, narrativa musical y conexión real en la pista. En un club histórico como Amnesia\, la experiencia se centra en la música y la energía colectiva\, manteniendo viva la esencia original del clubbing en Ibiza. \nMás información en Pyramid Opening 2026: lineup confirmado y una temporada de autenticidad en Amnesia Ibiza
URL:https://lavozdeibiza.com/event/pyramid-en-amnesia-ibiza-2026-techno-y-esencia-underground/2026-09-27/
LOCATION:Amnesia\, Ctra. Ibiza a San Antonio\, Km 5\, 07816 Eivissa\, Balearic Islands\, España\, Ibiza\, Baleares\, Spain
CATEGORIES:OCIO
ATTACH;FMTTYPE=image/png:https://lavozdeibiza.com/wp-content/uploads/2025/06/Pyramid-en-Amnesia-Ibiza.-Archivo.png
END:VEVENT
BEGIN:VEVENT
DTSTART;TZID=Europe/Madrid:20261004T230000
DTEND;TZID=Europe/Madrid:20261004T230000
DTSTAMP:20260422T021856
CREATED:20260420T131743Z
LAST-MODIFIED:20260420T131743Z
UID:10026621-1791154800-1791154800@lavozdeibiza.com
SUMMARY:Pyramid en Amnesia Ibiza 2026: techno y esencia underground 
DESCRIPTION:La esperada Pyramid Opening Party 2026 marca el inicio de la temporada\, dando el pistoletazo de salida a una de las residencias más auténticas del verano. Fiel a su identidad\, la fiesta volverá a celebrarse cada domingo hasta el final de temproada\, consolidándose como uno de los pilares del clubbing underground en la isla. \nMás que una fiesta\, Pyramid se ha consolidado como un refugio para los amantes del sonido más puro\, apostando por sets largos\, narrativa musical y conexión real en la pista. En un club histórico como Amnesia\, la experiencia se centra en la música y la energía colectiva\, manteniendo viva la esencia original del clubbing en Ibiza. \nMás información en Pyramid Opening 2026: lineup confirmado y una temporada de autenticidad en Amnesia Ibiza
URL:https://lavozdeibiza.com/event/pyramid-en-amnesia-ibiza-2026-techno-y-esencia-underground/2026-10-04/
LOCATION:Amnesia\, Ctra. Ibiza a San Antonio\, Km 5\, 07816 Eivissa\, Balearic Islands\, España\, Ibiza\, Baleares\, Spain
CATEGORIES:OCIO
ATTACH;FMTTYPE=image/png:https://lavozdeibiza.com/wp-content/uploads/2025/06/Pyramid-en-Amnesia-Ibiza.-Archivo.png
END:VEVENT
END:VCALENDAR