BEGIN:VCALENDAR
VERSION:2.0
PRODID:-//La Voz De Ibiza - ECPv6.15.20//NONSGML v1.0//EN
CALSCALE:GREGORIAN
METHOD:PUBLISH
X-WR-CALNAME:La Voz De Ibiza
X-ORIGINAL-URL:https://lavozdeibiza.com
X-WR-CALDESC:Eventos para La Voz De Ibiza
REFRESH-INTERVAL;VALUE=DURATION:PT1H
X-Robots-Tag:noindex
X-PUBLISHED-TTL:PT1H
BEGIN:VTIMEZONE
TZID:Europe/Madrid
BEGIN:DAYLIGHT
TZOFFSETFROM:+0100
TZOFFSETTO:+0200
TZNAME:CEST
DTSTART:20250330T010000
END:DAYLIGHT
BEGIN:STANDARD
TZOFFSETFROM:+0200
TZOFFSETTO:+0100
TZNAME:CET
DTSTART:20251026T010000
END:STANDARD
BEGIN:DAYLIGHT
TZOFFSETFROM:+0100
TZOFFSETTO:+0200
TZNAME:CEST
DTSTART:20260329T010000
END:DAYLIGHT
BEGIN:STANDARD
TZOFFSETFROM:+0200
TZOFFSETTO:+0100
TZNAME:CET
DTSTART:20261025T010000
END:STANDARD
BEGIN:DAYLIGHT
TZOFFSETFROM:+0100
TZOFFSETTO:+0200
TZNAME:CEST
DTSTART:20270328T010000
END:DAYLIGHT
BEGIN:STANDARD
TZOFFSETFROM:+0200
TZOFFSETTO:+0100
TZNAME:CET
DTSTART:20271031T010000
END:STANDARD
END:VTIMEZONE
BEGIN:VEVENT
DTSTART;TZID=Europe/Madrid:20260514T230000
DTEND;TZID=Europe/Madrid:20260514T230000
DTSTAMP:20260422T021856
CREATED:20260420T140604Z
LAST-MODIFIED:20260420T140604Z
UID:10026626-1778799600-1778799600@lavozdeibiza.com
SUMMARY:Do Not Sleep en Amnesia Ibiza 2026: siete fechas 
DESCRIPTION:La reconocida fiesta Do Not Sleep regresa a Amnesia Ibiza en 2026 con una serie de siete eventos entre mayo y junio\, reafirmando su lugar como uno de los referentes del sonido underground en la isla. \nFiel a su ADN\, Do Not Sleep apuesta por una experiencia sin artificios\, donde la música y la energía de la pista son protagonistas absolutos. Con su regreso a Amnesia\, la marca reafirma su esencia: rave auténtica\, comunidad y sonido underground en estado puro\, consolidándose como una de las propuestas más respetadas del inicio del verano 2026 en Ibiza. \nMás información en Do Not Sleep regresa a Amnesia Ibiza en 2026: siete fechas y un opening que mantiene su esencia underground
URL:https://lavozdeibiza.com/event/do-not-sleep-en-amnesia-ibiza-2026-siete-fechas/2026-05-14/
LOCATION:Amnesia\, Ctra. Ibiza a San Antonio\, Km 5\, 07816 Eivissa\, Balearic Islands\, España\, Ibiza\, Baleares\, Spain
CATEGORIES:OCIO
ATTACH;FMTTYPE=image/jpeg:https://lavozdeibiza.com/wp-content/uploads/2026/01/Do-Not-Sleep-Ibiza.-Archivo.jpg
END:VEVENT
BEGIN:VEVENT
DTSTART;TZID=Europe/Madrid:20260521T230000
DTEND;TZID=Europe/Madrid:20260521T230000
DTSTAMP:20260422T021856
CREATED:20260420T140604Z
LAST-MODIFIED:20260420T140604Z
UID:10026627-1779404400-1779404400@lavozdeibiza.com
SUMMARY:Do Not Sleep en Amnesia Ibiza 2026: siete fechas 
DESCRIPTION:La reconocida fiesta Do Not Sleep regresa a Amnesia Ibiza en 2026 con una serie de siete eventos entre mayo y junio\, reafirmando su lugar como uno de los referentes del sonido underground en la isla. \nFiel a su ADN\, Do Not Sleep apuesta por una experiencia sin artificios\, donde la música y la energía de la pista son protagonistas absolutos. Con su regreso a Amnesia\, la marca reafirma su esencia: rave auténtica\, comunidad y sonido underground en estado puro\, consolidándose como una de las propuestas más respetadas del inicio del verano 2026 en Ibiza. \nMás información en Do Not Sleep regresa a Amnesia Ibiza en 2026: siete fechas y un opening que mantiene su esencia underground
URL:https://lavozdeibiza.com/event/do-not-sleep-en-amnesia-ibiza-2026-siete-fechas/2026-05-21/
LOCATION:Amnesia\, Ctra. Ibiza a San Antonio\, Km 5\, 07816 Eivissa\, Balearic Islands\, España\, Ibiza\, Baleares\, Spain
CATEGORIES:OCIO
ATTACH;FMTTYPE=image/jpeg:https://lavozdeibiza.com/wp-content/uploads/2026/01/Do-Not-Sleep-Ibiza.-Archivo.jpg
END:VEVENT
BEGIN:VEVENT
DTSTART;TZID=Europe/Madrid:20260528T230000
DTEND;TZID=Europe/Madrid:20260528T230000
DTSTAMP:20260422T021856
CREATED:20260420T140604Z
LAST-MODIFIED:20260420T140604Z
UID:10026628-1780009200-1780009200@lavozdeibiza.com
SUMMARY:Do Not Sleep en Amnesia Ibiza 2026: siete fechas 
DESCRIPTION:La reconocida fiesta Do Not Sleep regresa a Amnesia Ibiza en 2026 con una serie de siete eventos entre mayo y junio\, reafirmando su lugar como uno de los referentes del sonido underground en la isla. \nFiel a su ADN\, Do Not Sleep apuesta por una experiencia sin artificios\, donde la música y la energía de la pista son protagonistas absolutos. Con su regreso a Amnesia\, la marca reafirma su esencia: rave auténtica\, comunidad y sonido underground en estado puro\, consolidándose como una de las propuestas más respetadas del inicio del verano 2026 en Ibiza. \nMás información en Do Not Sleep regresa a Amnesia Ibiza en 2026: siete fechas y un opening que mantiene su esencia underground
URL:https://lavozdeibiza.com/event/do-not-sleep-en-amnesia-ibiza-2026-siete-fechas/2026-05-28/
LOCATION:Amnesia\, Ctra. Ibiza a San Antonio\, Km 5\, 07816 Eivissa\, Balearic Islands\, España\, Ibiza\, Baleares\, Spain
CATEGORIES:OCIO
ATTACH;FMTTYPE=image/jpeg:https://lavozdeibiza.com/wp-content/uploads/2026/01/Do-Not-Sleep-Ibiza.-Archivo.jpg
END:VEVENT
BEGIN:VEVENT
DTSTART;TZID=Europe/Madrid:20260604T230000
DTEND;TZID=Europe/Madrid:20260604T230000
DTSTAMP:20260422T021856
CREATED:20260420T140604Z
LAST-MODIFIED:20260420T140604Z
UID:10026629-1780614000-1780614000@lavozdeibiza.com
SUMMARY:Do Not Sleep en Amnesia Ibiza 2026: siete fechas 
DESCRIPTION:La reconocida fiesta Do Not Sleep regresa a Amnesia Ibiza en 2026 con una serie de siete eventos entre mayo y junio\, reafirmando su lugar como uno de los referentes del sonido underground en la isla. \nFiel a su ADN\, Do Not Sleep apuesta por una experiencia sin artificios\, donde la música y la energía de la pista son protagonistas absolutos. Con su regreso a Amnesia\, la marca reafirma su esencia: rave auténtica\, comunidad y sonido underground en estado puro\, consolidándose como una de las propuestas más respetadas del inicio del verano 2026 en Ibiza. \nMás información en Do Not Sleep regresa a Amnesia Ibiza en 2026: siete fechas y un opening que mantiene su esencia underground
URL:https://lavozdeibiza.com/event/do-not-sleep-en-amnesia-ibiza-2026-siete-fechas/2026-06-04/
LOCATION:Amnesia\, Ctra. Ibiza a San Antonio\, Km 5\, 07816 Eivissa\, Balearic Islands\, España\, Ibiza\, Baleares\, Spain
CATEGORIES:OCIO
ATTACH;FMTTYPE=image/jpeg:https://lavozdeibiza.com/wp-content/uploads/2026/01/Do-Not-Sleep-Ibiza.-Archivo.jpg
END:VEVENT
BEGIN:VEVENT
DTSTART;TZID=Europe/Madrid:20260609T230000
DTEND;TZID=Europe/Madrid:20260609T230000
DTSTAMP:20260422T021856
CREATED:20260420T140604Z
LAST-MODIFIED:20260420T140604Z
UID:10026630-1781046000-1781046000@lavozdeibiza.com
SUMMARY:Do Not Sleep en Amnesia Ibiza 2026: siete fechas 
DESCRIPTION:La reconocida fiesta Do Not Sleep regresa a Amnesia Ibiza en 2026 con una serie de siete eventos entre mayo y junio\, reafirmando su lugar como uno de los referentes del sonido underground en la isla. \nFiel a su ADN\, Do Not Sleep apuesta por una experiencia sin artificios\, donde la música y la energía de la pista son protagonistas absolutos. Con su regreso a Amnesia\, la marca reafirma su esencia: rave auténtica\, comunidad y sonido underground en estado puro\, consolidándose como una de las propuestas más respetadas del inicio del verano 2026 en Ibiza. \nMás información en Do Not Sleep regresa a Amnesia Ibiza en 2026: siete fechas y un opening que mantiene su esencia underground
URL:https://lavozdeibiza.com/event/do-not-sleep-en-amnesia-ibiza-2026-siete-fechas/2026-06-09/
LOCATION:Amnesia\, Ctra. Ibiza a San Antonio\, Km 5\, 07816 Eivissa\, Balearic Islands\, España\, Ibiza\, Baleares\, Spain
CATEGORIES:OCIO
ATTACH;FMTTYPE=image/jpeg:https://lavozdeibiza.com/wp-content/uploads/2026/01/Do-Not-Sleep-Ibiza.-Archivo.jpg
END:VEVENT
BEGIN:VEVENT
DTSTART;TZID=Europe/Madrid:20260616T230000
DTEND;TZID=Europe/Madrid:20260616T230000
DTSTAMP:20260422T021856
CREATED:20260420T140604Z
LAST-MODIFIED:20260420T140604Z
UID:10026631-1781650800-1781650800@lavozdeibiza.com
SUMMARY:Do Not Sleep en Amnesia Ibiza 2026: siete fechas 
DESCRIPTION:La reconocida fiesta Do Not Sleep regresa a Amnesia Ibiza en 2026 con una serie de siete eventos entre mayo y junio\, reafirmando su lugar como uno de los referentes del sonido underground en la isla. \nFiel a su ADN\, Do Not Sleep apuesta por una experiencia sin artificios\, donde la música y la energía de la pista son protagonistas absolutos. Con su regreso a Amnesia\, la marca reafirma su esencia: rave auténtica\, comunidad y sonido underground en estado puro\, consolidándose como una de las propuestas más respetadas del inicio del verano 2026 en Ibiza. \nMás información en Do Not Sleep regresa a Amnesia Ibiza en 2026: siete fechas y un opening que mantiene su esencia underground
URL:https://lavozdeibiza.com/event/do-not-sleep-en-amnesia-ibiza-2026-siete-fechas/2026-06-16/
LOCATION:Amnesia\, Ctra. Ibiza a San Antonio\, Km 5\, 07816 Eivissa\, Balearic Islands\, España\, Ibiza\, Baleares\, Spain
CATEGORIES:OCIO
ATTACH;FMTTYPE=image/jpeg:https://lavozdeibiza.com/wp-content/uploads/2026/01/Do-Not-Sleep-Ibiza.-Archivo.jpg
END:VEVENT
BEGIN:VEVENT
DTSTART;TZID=Europe/Madrid:20260623T230000
DTEND;TZID=Europe/Madrid:20260623T230000
DTSTAMP:20260422T021856
CREATED:20260420T140604Z
LAST-MODIFIED:20260420T140604Z
UID:10026632-1782255600-1782255600@lavozdeibiza.com
SUMMARY:Do Not Sleep en Amnesia Ibiza 2026: siete fechas 
DESCRIPTION:La reconocida fiesta Do Not Sleep regresa a Amnesia Ibiza en 2026 con una serie de siete eventos entre mayo y junio\, reafirmando su lugar como uno de los referentes del sonido underground en la isla. \nFiel a su ADN\, Do Not Sleep apuesta por una experiencia sin artificios\, donde la música y la energía de la pista son protagonistas absolutos. Con su regreso a Amnesia\, la marca reafirma su esencia: rave auténtica\, comunidad y sonido underground en estado puro\, consolidándose como una de las propuestas más respetadas del inicio del verano 2026 en Ibiza. \nMás información en Do Not Sleep regresa a Amnesia Ibiza en 2026: siete fechas y un opening que mantiene su esencia underground
URL:https://lavozdeibiza.com/event/do-not-sleep-en-amnesia-ibiza-2026-siete-fechas/2026-06-23/
LOCATION:Amnesia\, Ctra. Ibiza a San Antonio\, Km 5\, 07816 Eivissa\, Balearic Islands\, España\, Ibiza\, Baleares\, Spain
CATEGORIES:OCIO
ATTACH;FMTTYPE=image/jpeg:https://lavozdeibiza.com/wp-content/uploads/2026/01/Do-Not-Sleep-Ibiza.-Archivo.jpg
END:VEVENT
BEGIN:VEVENT
DTSTART;TZID=Europe/Madrid:20260630T230000
DTEND;TZID=Europe/Madrid:20260630T230000
DTSTAMP:20260422T021856
CREATED:20260420T140604Z
LAST-MODIFIED:20260420T140604Z
UID:10026633-1782860400-1782860400@lavozdeibiza.com
SUMMARY:Do Not Sleep en Amnesia Ibiza 2026: siete fechas 
DESCRIPTION:La reconocida fiesta Do Not Sleep regresa a Amnesia Ibiza en 2026 con una serie de siete eventos entre mayo y junio\, reafirmando su lugar como uno de los referentes del sonido underground en la isla. \nFiel a su ADN\, Do Not Sleep apuesta por una experiencia sin artificios\, donde la música y la energía de la pista son protagonistas absolutos. Con su regreso a Amnesia\, la marca reafirma su esencia: rave auténtica\, comunidad y sonido underground en estado puro\, consolidándose como una de las propuestas más respetadas del inicio del verano 2026 en Ibiza. \nMás información en Do Not Sleep regresa a Amnesia Ibiza en 2026: siete fechas y un opening que mantiene su esencia underground
URL:https://lavozdeibiza.com/event/do-not-sleep-en-amnesia-ibiza-2026-siete-fechas/2026-06-30/
LOCATION:Amnesia\, Ctra. Ibiza a San Antonio\, Km 5\, 07816 Eivissa\, Balearic Islands\, España\, Ibiza\, Baleares\, Spain
CATEGORIES:OCIO
ATTACH;FMTTYPE=image/jpeg:https://lavozdeibiza.com/wp-content/uploads/2026/01/Do-Not-Sleep-Ibiza.-Archivo.jpg
END:VEVENT
END:VCALENDAR