BEGIN:VCALENDAR
VERSION:2.0
PRODID:-//La Voz De Ibiza - ECPv6.15.20//NONSGML v1.0//EN
CALSCALE:GREGORIAN
METHOD:PUBLISH
X-WR-CALNAME:La Voz De Ibiza
X-ORIGINAL-URL:https://lavozdeibiza.com
X-WR-CALDESC:Eventos para La Voz De Ibiza
REFRESH-INTERVAL;VALUE=DURATION:PT1H
X-Robots-Tag:noindex
X-PUBLISHED-TTL:PT1H
BEGIN:VTIMEZONE
TZID:Europe/Madrid
BEGIN:DAYLIGHT
TZOFFSETFROM:+0100
TZOFFSETTO:+0200
TZNAME:CEST
DTSTART:20250330T010000
END:DAYLIGHT
BEGIN:STANDARD
TZOFFSETFROM:+0200
TZOFFSETTO:+0100
TZNAME:CET
DTSTART:20251026T010000
END:STANDARD
BEGIN:DAYLIGHT
TZOFFSETFROM:+0100
TZOFFSETTO:+0200
TZNAME:CEST
DTSTART:20260329T010000
END:DAYLIGHT
BEGIN:STANDARD
TZOFFSETFROM:+0200
TZOFFSETTO:+0100
TZNAME:CET
DTSTART:20261025T010000
END:STANDARD
BEGIN:DAYLIGHT
TZOFFSETFROM:+0100
TZOFFSETTO:+0200
TZNAME:CEST
DTSTART:20270328T010000
END:DAYLIGHT
BEGIN:STANDARD
TZOFFSETFROM:+0200
TZOFFSETTO:+0100
TZNAME:CET
DTSTART:20271031T010000
END:STANDARD
END:VTIMEZONE
BEGIN:VEVENT
DTSTART;TZID=Europe/Madrid:20260507T170000
DTEND;TZID=Europe/Madrid:20260507T200000
DTSTAMP:20260422T021855
CREATED:20260421T160259Z
LAST-MODIFIED:20260421T160259Z
UID:10026679-1778173200-1778184000@lavozdeibiza.com
SUMMARY:Taller de cestería tradicional en Sant Joan de Labritja
DESCRIPTION:El Ayuntamiento de Sant Joan de Labritja impulsa un taller de cestería campesina dirigido a residentes del municipio\, con el objetivo de preservar y difundir las tradiciones artesanales de la isla. \nLa actividad será impartida por Vicent Marí Serra (Palermet)\, referente en esta disciplina\, e incluirá todos los materiales necesarios para su desarrollo. \nLas plazas son limitadas y la inscripción debe realizarse previamente por correo electrónico. \n inscripciones@santjoandelabritja.com
URL:https://lavozdeibiza.com/event/taller-de-cesteria-tradicional-en-sant-joan-de-labritja/2026-05-07/
LOCATION:Sant Joan de Labritja
CATEGORIES:FORMACIÓN Y TALLERES
ATTACH;FMTTYPE=image/jpeg:https://lavozdeibiza.com/wp-content/uploads/2026/04/cesteria.jpg
END:VEVENT
BEGIN:VEVENT
DTSTART;TZID=Europe/Madrid:20260514T170000
DTEND;TZID=Europe/Madrid:20260514T200000
DTSTAMP:20260422T021855
CREATED:20260421T160259Z
LAST-MODIFIED:20260421T160259Z
UID:10026680-1778778000-1778788800@lavozdeibiza.com
SUMMARY:Taller de cestería tradicional en Sant Joan de Labritja
DESCRIPTION:El Ayuntamiento de Sant Joan de Labritja impulsa un taller de cestería campesina dirigido a residentes del municipio\, con el objetivo de preservar y difundir las tradiciones artesanales de la isla. \nLa actividad será impartida por Vicent Marí Serra (Palermet)\, referente en esta disciplina\, e incluirá todos los materiales necesarios para su desarrollo. \nLas plazas son limitadas y la inscripción debe realizarse previamente por correo electrónico. \n inscripciones@santjoandelabritja.com
URL:https://lavozdeibiza.com/event/taller-de-cesteria-tradicional-en-sant-joan-de-labritja/2026-05-14/
LOCATION:Sant Joan de Labritja
CATEGORIES:FORMACIÓN Y TALLERES
ATTACH;FMTTYPE=image/jpeg:https://lavozdeibiza.com/wp-content/uploads/2026/04/cesteria.jpg
END:VEVENT
BEGIN:VEVENT
DTSTART;TZID=Europe/Madrid:20260521T170000
DTEND;TZID=Europe/Madrid:20260521T200000
DTSTAMP:20260422T021855
CREATED:20260421T160259Z
LAST-MODIFIED:20260421T160259Z
UID:10026681-1779382800-1779393600@lavozdeibiza.com
SUMMARY:Taller de cestería tradicional en Sant Joan de Labritja
DESCRIPTION:El Ayuntamiento de Sant Joan de Labritja impulsa un taller de cestería campesina dirigido a residentes del municipio\, con el objetivo de preservar y difundir las tradiciones artesanales de la isla. \nLa actividad será impartida por Vicent Marí Serra (Palermet)\, referente en esta disciplina\, e incluirá todos los materiales necesarios para su desarrollo. \nLas plazas son limitadas y la inscripción debe realizarse previamente por correo electrónico. \n inscripciones@santjoandelabritja.com
URL:https://lavozdeibiza.com/event/taller-de-cesteria-tradicional-en-sant-joan-de-labritja/2026-05-21/
LOCATION:Sant Joan de Labritja
CATEGORIES:FORMACIÓN Y TALLERES
ATTACH;FMTTYPE=image/jpeg:https://lavozdeibiza.com/wp-content/uploads/2026/04/cesteria.jpg
END:VEVENT
END:VCALENDAR