BEGIN:VCALENDAR
VERSION:2.0
PRODID:-//La Voz De Ibiza - ECPv6.15.20//NONSGML v1.0//EN
CALSCALE:GREGORIAN
METHOD:PUBLISH
X-WR-CALNAME:La Voz De Ibiza
X-ORIGINAL-URL:https://lavozdeibiza.com
X-WR-CALDESC:Eventos para La Voz De Ibiza
REFRESH-INTERVAL;VALUE=DURATION:PT1H
X-Robots-Tag:noindex
X-PUBLISHED-TTL:PT1H
BEGIN:VTIMEZONE
TZID:Europe/Madrid
BEGIN:DAYLIGHT
TZOFFSETFROM:+0100
TZOFFSETTO:+0200
TZNAME:CEST
DTSTART:20250330T010000
END:DAYLIGHT
BEGIN:STANDARD
TZOFFSETFROM:+0200
TZOFFSETTO:+0100
TZNAME:CET
DTSTART:20251026T010000
END:STANDARD
BEGIN:DAYLIGHT
TZOFFSETFROM:+0100
TZOFFSETTO:+0200
TZNAME:CEST
DTSTART:20260329T010000
END:DAYLIGHT
BEGIN:STANDARD
TZOFFSETFROM:+0200
TZOFFSETTO:+0100
TZNAME:CET
DTSTART:20261025T010000
END:STANDARD
BEGIN:DAYLIGHT
TZOFFSETFROM:+0100
TZOFFSETTO:+0200
TZNAME:CEST
DTSTART:20270328T010000
END:DAYLIGHT
BEGIN:STANDARD
TZOFFSETFROM:+0200
TZOFFSETTO:+0100
TZNAME:CET
DTSTART:20271031T010000
END:STANDARD
END:VTIMEZONE
BEGIN:VEVENT
DTSTART;TZID=Europe/Madrid:20260422T220000
DTEND;TZID=Europe/Madrid:20260422T220000
DTSTAMP:20260422T010644
CREATED:20260421T162733Z
LAST-MODIFIED:20260421T162733Z
UID:10026683-1776895200-1776895200@lavozdeibiza.com
SUMMARY:IMS Akasha Ibiza 2026: cinco días de fiestas
DESCRIPTION:El ciclo IMS en Akasha Ibiza regresa en 2026 con una intensa programación de cinco días convirtiendo el club de Las Dalias en uno de los epicentros del arranque de temporada en la isla. Coincidiendo con el International Music Summit (IMS)\, este conjunto de eventos combina industria y pista de baile en un formato íntimo y cuidadosamente curado. \nLa semana arranca con la IMS Opening Party\, encabezada por 2manydjs\, junto a Perel y Greta Levska\, en una noche que mezcla géneros y estilos con total libertad. \nA lo largo de los días siguientes\, el programa incluye el Beatport Awards Afterparty con Cécille Records\, el tercer día una jornada dedicada al drum & bass con Hospital Records\, el ante último día el esperado All Day I Dream de Lee Burridge y el cierre con Beat Hotel x IMS\, conectando el ambiente del garden con el club indoor. \nMás allá de los nombres\, IMS en Akasha representa una experiencia diferente dentro del calendario ibicenco: cercana\, musical y profundamente conectada con la esencia de la isla.
URL:https://lavozdeibiza.com/event/ims-akasha-ibiza-2026-cinco-dias-de-fiestas/2026-04-22/
LOCATION:Akasha y Las Dalias\, Carretera de San Carlos kilómetro 12\, Santa Eulalia del Río\, Islas Baleares\, Spain
CATEGORIES:OCIO
ATTACH;FMTTYPE=image/png:https://lavozdeibiza.com/wp-content/uploads/2025/04/IMS-Ibiza-celebra-el-25-de-abril-su-afterparty-.png
END:VEVENT
BEGIN:VEVENT
DTSTART;TZID=Europe/Madrid:20260423T230000
DTEND;TZID=Europe/Madrid:20260423T230000
DTSTAMP:20260422T010644
CREATED:20260421T162733Z
LAST-MODIFIED:20260421T162733Z
UID:10026684-1776985200-1776985200@lavozdeibiza.com
SUMMARY:IMS Akasha Ibiza 2026: cinco días de fiestas
DESCRIPTION:El ciclo IMS en Akasha Ibiza regresa en 2026 con una intensa programación de cinco días convirtiendo el club de Las Dalias en uno de los epicentros del arranque de temporada en la isla. Coincidiendo con el International Music Summit (IMS)\, este conjunto de eventos combina industria y pista de baile en un formato íntimo y cuidadosamente curado. \nLa semana arranca con la IMS Opening Party\, encabezada por 2manydjs\, junto a Perel y Greta Levska\, en una noche que mezcla géneros y estilos con total libertad. \nA lo largo de los días siguientes\, el programa incluye el Beatport Awards Afterparty con Cécille Records\, el tercer día una jornada dedicada al drum & bass con Hospital Records\, el ante último día el esperado All Day I Dream de Lee Burridge y el cierre con Beat Hotel x IMS\, conectando el ambiente del garden con el club indoor. \nMás allá de los nombres\, IMS en Akasha representa una experiencia diferente dentro del calendario ibicenco: cercana\, musical y profundamente conectada con la esencia de la isla.
URL:https://lavozdeibiza.com/event/ims-akasha-ibiza-2026-cinco-dias-de-fiestas/2026-04-23/
LOCATION:Akasha y Las Dalias\, Carretera de San Carlos kilómetro 12\, Santa Eulalia del Río\, Islas Baleares\, Spain
CATEGORIES:OCIO
ATTACH;FMTTYPE=image/png:https://lavozdeibiza.com/wp-content/uploads/2025/04/IMS-Ibiza-celebra-el-25-de-abril-su-afterparty-.png
END:VEVENT
BEGIN:VEVENT
DTSTART;TZID=Europe/Madrid:20260424T230000
DTEND;TZID=Europe/Madrid:20260424T230000
DTSTAMP:20260422T010644
CREATED:20260421T162733Z
LAST-MODIFIED:20260421T162733Z
UID:10026685-1777071600-1777071600@lavozdeibiza.com
SUMMARY:IMS Akasha Ibiza 2026: cinco días de fiestas
DESCRIPTION:El ciclo IMS en Akasha Ibiza regresa en 2026 con una intensa programación de cinco días convirtiendo el club de Las Dalias en uno de los epicentros del arranque de temporada en la isla. Coincidiendo con el International Music Summit (IMS)\, este conjunto de eventos combina industria y pista de baile en un formato íntimo y cuidadosamente curado. \nLa semana arranca con la IMS Opening Party\, encabezada por 2manydjs\, junto a Perel y Greta Levska\, en una noche que mezcla géneros y estilos con total libertad. \nA lo largo de los días siguientes\, el programa incluye el Beatport Awards Afterparty con Cécille Records\, el tercer día una jornada dedicada al drum & bass con Hospital Records\, el ante último día el esperado All Day I Dream de Lee Burridge y el cierre con Beat Hotel x IMS\, conectando el ambiente del garden con el club indoor. \nMás allá de los nombres\, IMS en Akasha representa una experiencia diferente dentro del calendario ibicenco: cercana\, musical y profundamente conectada con la esencia de la isla.
URL:https://lavozdeibiza.com/event/ims-akasha-ibiza-2026-cinco-dias-de-fiestas/2026-04-24/
LOCATION:Akasha y Las Dalias\, Carretera de San Carlos kilómetro 12\, Santa Eulalia del Río\, Islas Baleares\, Spain
CATEGORIES:OCIO
ATTACH;FMTTYPE=image/png:https://lavozdeibiza.com/wp-content/uploads/2025/04/IMS-Ibiza-celebra-el-25-de-abril-su-afterparty-.png
END:VEVENT
BEGIN:VEVENT
DTSTART;TZID=Europe/Madrid:20260425T180000
DTEND;TZID=Europe/Madrid:20260425T180000
DTSTAMP:20260422T010644
CREATED:20260421T162733Z
LAST-MODIFIED:20260421T162733Z
UID:10026686-1777140000-1777140000@lavozdeibiza.com
SUMMARY:IMS Akasha Ibiza 2026: cinco días de fiestas
DESCRIPTION:El ciclo IMS en Akasha Ibiza regresa en 2026 con una intensa programación de cinco días convirtiendo el club de Las Dalias en uno de los epicentros del arranque de temporada en la isla. Coincidiendo con el International Music Summit (IMS)\, este conjunto de eventos combina industria y pista de baile en un formato íntimo y cuidadosamente curado. \nLa semana arranca con la IMS Opening Party\, encabezada por 2manydjs\, junto a Perel y Greta Levska\, en una noche que mezcla géneros y estilos con total libertad. \nA lo largo de los días siguientes\, el programa incluye el Beatport Awards Afterparty con Cécille Records\, el tercer día una jornada dedicada al drum & bass con Hospital Records\, el ante último día el esperado All Day I Dream de Lee Burridge y el cierre con Beat Hotel x IMS\, conectando el ambiente del garden con el club indoor. \nMás allá de los nombres\, IMS en Akasha representa una experiencia diferente dentro del calendario ibicenco: cercana\, musical y profundamente conectada con la esencia de la isla.
URL:https://lavozdeibiza.com/event/ims-akasha-ibiza-2026-cinco-dias-de-fiestas/2026-04-25/
LOCATION:Akasha y Las Dalias\, Carretera de San Carlos kilómetro 12\, Santa Eulalia del Río\, Islas Baleares\, Spain
CATEGORIES:OCIO
ATTACH;FMTTYPE=image/png:https://lavozdeibiza.com/wp-content/uploads/2025/04/IMS-Ibiza-celebra-el-25-de-abril-su-afterparty-.png
END:VEVENT
BEGIN:VEVENT
DTSTART;TZID=Europe/Madrid:20260426T160000
DTEND;TZID=Europe/Madrid:20260426T160000
DTSTAMP:20260422T010644
CREATED:20260421T162733Z
LAST-MODIFIED:20260421T162733Z
UID:10026687-1777219200-1777219200@lavozdeibiza.com
SUMMARY:IMS Akasha Ibiza 2026: cinco días de fiestas
DESCRIPTION:El ciclo IMS en Akasha Ibiza regresa en 2026 con una intensa programación de cinco días convirtiendo el club de Las Dalias en uno de los epicentros del arranque de temporada en la isla. Coincidiendo con el International Music Summit (IMS)\, este conjunto de eventos combina industria y pista de baile en un formato íntimo y cuidadosamente curado. \nLa semana arranca con la IMS Opening Party\, encabezada por 2manydjs\, junto a Perel y Greta Levska\, en una noche que mezcla géneros y estilos con total libertad. \nA lo largo de los días siguientes\, el programa incluye el Beatport Awards Afterparty con Cécille Records\, el tercer día una jornada dedicada al drum & bass con Hospital Records\, el ante último día el esperado All Day I Dream de Lee Burridge y el cierre con Beat Hotel x IMS\, conectando el ambiente del garden con el club indoor. \nMás allá de los nombres\, IMS en Akasha representa una experiencia diferente dentro del calendario ibicenco: cercana\, musical y profundamente conectada con la esencia de la isla.
URL:https://lavozdeibiza.com/event/ims-akasha-ibiza-2026-cinco-dias-de-fiestas/2026-04-26/
LOCATION:Akasha y Las Dalias\, Carretera de San Carlos kilómetro 12\, Santa Eulalia del Río\, Islas Baleares\, Spain
CATEGORIES:OCIO
ATTACH;FMTTYPE=image/png:https://lavozdeibiza.com/wp-content/uploads/2025/04/IMS-Ibiza-celebra-el-25-de-abril-su-afterparty-.png
END:VEVENT
END:VCALENDAR