BEGIN:VCALENDAR
VERSION:2.0
PRODID:-//La Voz De Ibiza - ECPv6.15.20//NONSGML v1.0//EN
CALSCALE:GREGORIAN
METHOD:PUBLISH
X-WR-CALNAME:La Voz De Ibiza
X-ORIGINAL-URL:https://lavozdeibiza.com
X-WR-CALDESC:Eventos para La Voz De Ibiza
REFRESH-INTERVAL;VALUE=DURATION:PT1H
X-Robots-Tag:noindex
X-PUBLISHED-TTL:PT1H
BEGIN:VTIMEZONE
TZID:Europe/Madrid
BEGIN:DAYLIGHT
TZOFFSETFROM:+0100
TZOFFSETTO:+0200
TZNAME:CEST
DTSTART:20250330T010000
END:DAYLIGHT
BEGIN:STANDARD
TZOFFSETFROM:+0200
TZOFFSETTO:+0100
TZNAME:CET
DTSTART:20251026T010000
END:STANDARD
BEGIN:DAYLIGHT
TZOFFSETFROM:+0100
TZOFFSETTO:+0200
TZNAME:CEST
DTSTART:20260329T010000
END:DAYLIGHT
BEGIN:STANDARD
TZOFFSETFROM:+0200
TZOFFSETTO:+0100
TZNAME:CET
DTSTART:20261025T010000
END:STANDARD
BEGIN:DAYLIGHT
TZOFFSETFROM:+0100
TZOFFSETTO:+0200
TZNAME:CEST
DTSTART:20270328T010000
END:DAYLIGHT
BEGIN:STANDARD
TZOFFSETFROM:+0200
TZOFFSETTO:+0100
TZNAME:CET
DTSTART:20271031T010000
END:STANDARD
END:VTIMEZONE
BEGIN:VEVENT
DTSTART;VALUE=DATE:20260531
DTEND;VALUE=DATE:20260601
DTSTAMP:20260422T021817
CREATED:20260421T164403Z
LAST-MODIFIED:20260421T164403Z
UID:10026688-1780185600-1780271999@lavozdeibiza.com
SUMMARY:Retiro fitness Kick the Barre con Anna Lewandowska
DESCRIPTION:El Nobu Hotel Ibiza Bay acoge esta primavera “Kick the Barre”\, un exclusivo retiro de bienestar liderado por Anna Lewandowska\, referente internacional del fitness y creadora de este innovador método de entrenamiento. \nDurante cuatro días\, la experiencia combina ejercicio\, mindfulness y lujo relajado frente al mar\, en un entorno diseñado para reconectar cuerpo y mente. \nEl programa gira en torno a Kick the Barre\, una disciplina que fusiona la técnica del ballet con la energía de las artes marciales\, ofreciendo un entrenamiento de bajo impacto pero altamente efectivo enfocado en fuerza\, equilibrio y control. Las sesiones incluyen formatos como Pure\, Glutes\, Total Body y Strong\, adaptados a todos los niveles. \nAdemás de los entrenamientos diarios\, el retiro incluye actividades complementarias como una ruta de senderismo por la isla\, tratamientos de spa\, experiencias de bienestar y propuestas gastronómicas destacadas\, como una cena Omakase en Nobu y desayunos frente al mar en Chambao. \nUna propuesta integral que sitúa a Ibiza como destino clave del turismo wellness.
URL:https://lavozdeibiza.com/event/retiro-fitness-kick-the-barre-con-anna-lewandowska/2026-05-31/
LOCATION:Nobu Hotel Ibiza Bay\, 52 Carrer de Ses Feixes\, Ibiza\, Islas Baleares\, Spain
CATEGORIES:BIENESTAR Y DEPORTE
ATTACH;FMTTYPE=image/jpeg:https://lavozdeibiza.com/wp-content/uploads/2026/04/Anna-Lewandowska-2.jpg
END:VEVENT
BEGIN:VEVENT
DTSTART;VALUE=DATE:20260601
DTEND;VALUE=DATE:20260602
DTSTAMP:20260422T021817
CREATED:20260421T164403Z
LAST-MODIFIED:20260421T164403Z
UID:10026689-1780272000-1780358399@lavozdeibiza.com
SUMMARY:Retiro fitness Kick the Barre con Anna Lewandowska
DESCRIPTION:El Nobu Hotel Ibiza Bay acoge esta primavera “Kick the Barre”\, un exclusivo retiro de bienestar liderado por Anna Lewandowska\, referente internacional del fitness y creadora de este innovador método de entrenamiento. \nDurante cuatro días\, la experiencia combina ejercicio\, mindfulness y lujo relajado frente al mar\, en un entorno diseñado para reconectar cuerpo y mente. \nEl programa gira en torno a Kick the Barre\, una disciplina que fusiona la técnica del ballet con la energía de las artes marciales\, ofreciendo un entrenamiento de bajo impacto pero altamente efectivo enfocado en fuerza\, equilibrio y control. Las sesiones incluyen formatos como Pure\, Glutes\, Total Body y Strong\, adaptados a todos los niveles. \nAdemás de los entrenamientos diarios\, el retiro incluye actividades complementarias como una ruta de senderismo por la isla\, tratamientos de spa\, experiencias de bienestar y propuestas gastronómicas destacadas\, como una cena Omakase en Nobu y desayunos frente al mar en Chambao. \nUna propuesta integral que sitúa a Ibiza como destino clave del turismo wellness.
URL:https://lavozdeibiza.com/event/retiro-fitness-kick-the-barre-con-anna-lewandowska/2026-06-01/
LOCATION:Nobu Hotel Ibiza Bay\, 52 Carrer de Ses Feixes\, Ibiza\, Islas Baleares\, Spain
CATEGORIES:BIENESTAR Y DEPORTE
ATTACH;FMTTYPE=image/jpeg:https://lavozdeibiza.com/wp-content/uploads/2026/04/Anna-Lewandowska-2.jpg
END:VEVENT
BEGIN:VEVENT
DTSTART;VALUE=DATE:20260602
DTEND;VALUE=DATE:20260603
DTSTAMP:20260422T021817
CREATED:20260421T164403Z
LAST-MODIFIED:20260421T164403Z
UID:10026690-1780358400-1780444799@lavozdeibiza.com
SUMMARY:Retiro fitness Kick the Barre con Anna Lewandowska
DESCRIPTION:El Nobu Hotel Ibiza Bay acoge esta primavera “Kick the Barre”\, un exclusivo retiro de bienestar liderado por Anna Lewandowska\, referente internacional del fitness y creadora de este innovador método de entrenamiento. \nDurante cuatro días\, la experiencia combina ejercicio\, mindfulness y lujo relajado frente al mar\, en un entorno diseñado para reconectar cuerpo y mente. \nEl programa gira en torno a Kick the Barre\, una disciplina que fusiona la técnica del ballet con la energía de las artes marciales\, ofreciendo un entrenamiento de bajo impacto pero altamente efectivo enfocado en fuerza\, equilibrio y control. Las sesiones incluyen formatos como Pure\, Glutes\, Total Body y Strong\, adaptados a todos los niveles. \nAdemás de los entrenamientos diarios\, el retiro incluye actividades complementarias como una ruta de senderismo por la isla\, tratamientos de spa\, experiencias de bienestar y propuestas gastronómicas destacadas\, como una cena Omakase en Nobu y desayunos frente al mar en Chambao. \nUna propuesta integral que sitúa a Ibiza como destino clave del turismo wellness.
URL:https://lavozdeibiza.com/event/retiro-fitness-kick-the-barre-con-anna-lewandowska/2026-06-02/
LOCATION:Nobu Hotel Ibiza Bay\, 52 Carrer de Ses Feixes\, Ibiza\, Islas Baleares\, Spain
CATEGORIES:BIENESTAR Y DEPORTE
ATTACH;FMTTYPE=image/jpeg:https://lavozdeibiza.com/wp-content/uploads/2026/04/Anna-Lewandowska-2.jpg
END:VEVENT
BEGIN:VEVENT
DTSTART;VALUE=DATE:20260603
DTEND;VALUE=DATE:20260604
DTSTAMP:20260422T021817
CREATED:20260421T164403Z
LAST-MODIFIED:20260421T164403Z
UID:10026691-1780444800-1780531199@lavozdeibiza.com
SUMMARY:Retiro fitness Kick the Barre con Anna Lewandowska
DESCRIPTION:El Nobu Hotel Ibiza Bay acoge esta primavera “Kick the Barre”\, un exclusivo retiro de bienestar liderado por Anna Lewandowska\, referente internacional del fitness y creadora de este innovador método de entrenamiento. \nDurante cuatro días\, la experiencia combina ejercicio\, mindfulness y lujo relajado frente al mar\, en un entorno diseñado para reconectar cuerpo y mente. \nEl programa gira en torno a Kick the Barre\, una disciplina que fusiona la técnica del ballet con la energía de las artes marciales\, ofreciendo un entrenamiento de bajo impacto pero altamente efectivo enfocado en fuerza\, equilibrio y control. Las sesiones incluyen formatos como Pure\, Glutes\, Total Body y Strong\, adaptados a todos los niveles. \nAdemás de los entrenamientos diarios\, el retiro incluye actividades complementarias como una ruta de senderismo por la isla\, tratamientos de spa\, experiencias de bienestar y propuestas gastronómicas destacadas\, como una cena Omakase en Nobu y desayunos frente al mar en Chambao. \nUna propuesta integral que sitúa a Ibiza como destino clave del turismo wellness.
URL:https://lavozdeibiza.com/event/retiro-fitness-kick-the-barre-con-anna-lewandowska/2026-06-03/
LOCATION:Nobu Hotel Ibiza Bay\, 52 Carrer de Ses Feixes\, Ibiza\, Islas Baleares\, Spain
CATEGORIES:BIENESTAR Y DEPORTE
ATTACH;FMTTYPE=image/jpeg:https://lavozdeibiza.com/wp-content/uploads/2026/04/Anna-Lewandowska-2.jpg
END:VEVENT
BEGIN:VEVENT
DTSTART;VALUE=DATE:20260604
DTEND;VALUE=DATE:20260605
DTSTAMP:20260422T021817
CREATED:20260421T164403Z
LAST-MODIFIED:20260421T164403Z
UID:10026692-1780531200-1780617599@lavozdeibiza.com
SUMMARY:Retiro fitness Kick the Barre con Anna Lewandowska
DESCRIPTION:El Nobu Hotel Ibiza Bay acoge esta primavera “Kick the Barre”\, un exclusivo retiro de bienestar liderado por Anna Lewandowska\, referente internacional del fitness y creadora de este innovador método de entrenamiento. \nDurante cuatro días\, la experiencia combina ejercicio\, mindfulness y lujo relajado frente al mar\, en un entorno diseñado para reconectar cuerpo y mente. \nEl programa gira en torno a Kick the Barre\, una disciplina que fusiona la técnica del ballet con la energía de las artes marciales\, ofreciendo un entrenamiento de bajo impacto pero altamente efectivo enfocado en fuerza\, equilibrio y control. Las sesiones incluyen formatos como Pure\, Glutes\, Total Body y Strong\, adaptados a todos los niveles. \nAdemás de los entrenamientos diarios\, el retiro incluye actividades complementarias como una ruta de senderismo por la isla\, tratamientos de spa\, experiencias de bienestar y propuestas gastronómicas destacadas\, como una cena Omakase en Nobu y desayunos frente al mar en Chambao. \nUna propuesta integral que sitúa a Ibiza como destino clave del turismo wellness.
URL:https://lavozdeibiza.com/event/retiro-fitness-kick-the-barre-con-anna-lewandowska/2026-06-04/
LOCATION:Nobu Hotel Ibiza Bay\, 52 Carrer de Ses Feixes\, Ibiza\, Islas Baleares\, Spain
CATEGORIES:BIENESTAR Y DEPORTE
ATTACH;FMTTYPE=image/jpeg:https://lavozdeibiza.com/wp-content/uploads/2026/04/Anna-Lewandowska-2.jpg
END:VEVENT
BEGIN:VEVENT
DTSTART;VALUE=DATE:20260605
DTEND;VALUE=DATE:20260606
DTSTAMP:20260422T021817
CREATED:20260421T164403Z
LAST-MODIFIED:20260421T164403Z
UID:10026693-1780617600-1780703999@lavozdeibiza.com
SUMMARY:Retiro fitness Kick the Barre con Anna Lewandowska
DESCRIPTION:El Nobu Hotel Ibiza Bay acoge esta primavera “Kick the Barre”\, un exclusivo retiro de bienestar liderado por Anna Lewandowska\, referente internacional del fitness y creadora de este innovador método de entrenamiento. \nDurante cuatro días\, la experiencia combina ejercicio\, mindfulness y lujo relajado frente al mar\, en un entorno diseñado para reconectar cuerpo y mente. \nEl programa gira en torno a Kick the Barre\, una disciplina que fusiona la técnica del ballet con la energía de las artes marciales\, ofreciendo un entrenamiento de bajo impacto pero altamente efectivo enfocado en fuerza\, equilibrio y control. Las sesiones incluyen formatos como Pure\, Glutes\, Total Body y Strong\, adaptados a todos los niveles. \nAdemás de los entrenamientos diarios\, el retiro incluye actividades complementarias como una ruta de senderismo por la isla\, tratamientos de spa\, experiencias de bienestar y propuestas gastronómicas destacadas\, como una cena Omakase en Nobu y desayunos frente al mar en Chambao. \nUna propuesta integral que sitúa a Ibiza como destino clave del turismo wellness.
URL:https://lavozdeibiza.com/event/retiro-fitness-kick-the-barre-con-anna-lewandowska/2026-06-05/
LOCATION:Nobu Hotel Ibiza Bay\, 52 Carrer de Ses Feixes\, Ibiza\, Islas Baleares\, Spain
CATEGORIES:BIENESTAR Y DEPORTE
ATTACH;FMTTYPE=image/jpeg:https://lavozdeibiza.com/wp-content/uploads/2026/04/Anna-Lewandowska-2.jpg
END:VEVENT
BEGIN:VEVENT
DTSTART;VALUE=DATE:20260606
DTEND;VALUE=DATE:20260607
DTSTAMP:20260422T021817
CREATED:20260421T164403Z
LAST-MODIFIED:20260421T164403Z
UID:10026694-1780704000-1780790399@lavozdeibiza.com
SUMMARY:Retiro fitness Kick the Barre con Anna Lewandowska
DESCRIPTION:El Nobu Hotel Ibiza Bay acoge esta primavera “Kick the Barre”\, un exclusivo retiro de bienestar liderado por Anna Lewandowska\, referente internacional del fitness y creadora de este innovador método de entrenamiento. \nDurante cuatro días\, la experiencia combina ejercicio\, mindfulness y lujo relajado frente al mar\, en un entorno diseñado para reconectar cuerpo y mente. \nEl programa gira en torno a Kick the Barre\, una disciplina que fusiona la técnica del ballet con la energía de las artes marciales\, ofreciendo un entrenamiento de bajo impacto pero altamente efectivo enfocado en fuerza\, equilibrio y control. Las sesiones incluyen formatos como Pure\, Glutes\, Total Body y Strong\, adaptados a todos los niveles. \nAdemás de los entrenamientos diarios\, el retiro incluye actividades complementarias como una ruta de senderismo por la isla\, tratamientos de spa\, experiencias de bienestar y propuestas gastronómicas destacadas\, como una cena Omakase en Nobu y desayunos frente al mar en Chambao. \nUna propuesta integral que sitúa a Ibiza como destino clave del turismo wellness.
URL:https://lavozdeibiza.com/event/retiro-fitness-kick-the-barre-con-anna-lewandowska/2026-06-06/
LOCATION:Nobu Hotel Ibiza Bay\, 52 Carrer de Ses Feixes\, Ibiza\, Islas Baleares\, Spain
CATEGORIES:BIENESTAR Y DEPORTE
ATTACH;FMTTYPE=image/jpeg:https://lavozdeibiza.com/wp-content/uploads/2026/04/Anna-Lewandowska-2.jpg
END:VEVENT
END:VCALENDAR