BEGIN:VCALENDAR
VERSION:2.0
PRODID:-//La Voz De Ibiza - ECPv6.15.20//NONSGML v1.0//EN
CALSCALE:GREGORIAN
METHOD:PUBLISH
X-WR-CALNAME:La Voz De Ibiza
X-ORIGINAL-URL:https://lavozdeibiza.com
X-WR-CALDESC:Eventos para La Voz De Ibiza
REFRESH-INTERVAL;VALUE=DURATION:PT1H
X-Robots-Tag:noindex
X-PUBLISHED-TTL:PT1H
BEGIN:VTIMEZONE
TZID:Europe/Madrid
BEGIN:DAYLIGHT
TZOFFSETFROM:+0100
TZOFFSETTO:+0200
TZNAME:CEST
DTSTART:20250330T010000
END:DAYLIGHT
BEGIN:STANDARD
TZOFFSETFROM:+0200
TZOFFSETTO:+0100
TZNAME:CET
DTSTART:20251026T010000
END:STANDARD
BEGIN:DAYLIGHT
TZOFFSETFROM:+0100
TZOFFSETTO:+0200
TZNAME:CEST
DTSTART:20260329T010000
END:DAYLIGHT
BEGIN:STANDARD
TZOFFSETFROM:+0200
TZOFFSETTO:+0100
TZNAME:CET
DTSTART:20261025T010000
END:STANDARD
BEGIN:DAYLIGHT
TZOFFSETFROM:+0100
TZOFFSETTO:+0200
TZNAME:CEST
DTSTART:20270328T010000
END:DAYLIGHT
BEGIN:STANDARD
TZOFFSETFROM:+0200
TZOFFSETTO:+0100
TZNAME:CET
DTSTART:20271031T010000
END:STANDARD
END:VTIMEZONE
BEGIN:VEVENT
DTSTART;TZID=Europe/Madrid:20260702T230000
DTEND;TZID=Europe/Madrid:20260702T230000
DTSTAMP:20260423T045434
CREATED:20260422T111812Z
LAST-MODIFIED:20260422T111812Z
UID:10026745-1783033200-1783033200@lavozdeibiza.com
SUMMARY:Josh Baker presents YOU&ME en Amnesia Ibiza 2026
DESCRIPTION: El DJ británico Josh Baker debuta con su primera residencia semanal en Ibiza con YOU&ME\, que tomará el control de los jueves en Amnesia Ibiza. Este hito marca un momento clave en su carrera y coincide con el 50º aniversario del club\, reforzando el carácter especial de la temporada. \nNacido entre Ibiza y Manchester\, YOU&ME ha evolucionado desde fiestas íntimas hasta convertirse en un movimiento global centrado en la conexión real en la pista de baile. La residencia apuesta por un sonido de house contemporáneo\, minimal y deep tech\, con sets diseñados para mantener un groove constante y una atmósfera cercana entre artista y público. \nCada semana\, la Terraza de Amnesia se transformará en un espacio donde la comunidad\, la energía colectiva y la música son protagonistas\, con line-ups que combinan talento emergente y figuras consolidadas. \nMás información en Josh Baker y YOU&ME debutan con una residencia semanal en Amnesia Ibiza en 2026
URL:https://lavozdeibiza.com/event/josh-baker-presents-youme-en-amnesia-ibiza-2026/2026-07-02/
LOCATION:Amnesia\, Ctra. Ibiza a San Antonio\, Km 5\, 07816 Eivissa\, Balearic Islands\, España\, Ibiza\, Baleares\, Spain
CATEGORIES:OCIO
ATTACH;FMTTYPE=image/jpeg:https://lavozdeibiza.com/wp-content/uploads/2026/01/PHRANK-2024-06-30-13882.jpg
END:VEVENT
BEGIN:VEVENT
DTSTART;TZID=Europe/Madrid:20260709T230000
DTEND;TZID=Europe/Madrid:20260709T230000
DTSTAMP:20260423T045434
CREATED:20260422T111812Z
LAST-MODIFIED:20260422T111812Z
UID:10026746-1783638000-1783638000@lavozdeibiza.com
SUMMARY:Josh Baker presents YOU&ME en Amnesia Ibiza 2026
DESCRIPTION: El DJ británico Josh Baker debuta con su primera residencia semanal en Ibiza con YOU&ME\, que tomará el control de los jueves en Amnesia Ibiza. Este hito marca un momento clave en su carrera y coincide con el 50º aniversario del club\, reforzando el carácter especial de la temporada. \nNacido entre Ibiza y Manchester\, YOU&ME ha evolucionado desde fiestas íntimas hasta convertirse en un movimiento global centrado en la conexión real en la pista de baile. La residencia apuesta por un sonido de house contemporáneo\, minimal y deep tech\, con sets diseñados para mantener un groove constante y una atmósfera cercana entre artista y público. \nCada semana\, la Terraza de Amnesia se transformará en un espacio donde la comunidad\, la energía colectiva y la música son protagonistas\, con line-ups que combinan talento emergente y figuras consolidadas. \nMás información en Josh Baker y YOU&ME debutan con una residencia semanal en Amnesia Ibiza en 2026
URL:https://lavozdeibiza.com/event/josh-baker-presents-youme-en-amnesia-ibiza-2026/2026-07-09/
LOCATION:Amnesia\, Ctra. Ibiza a San Antonio\, Km 5\, 07816 Eivissa\, Balearic Islands\, España\, Ibiza\, Baleares\, Spain
CATEGORIES:OCIO
ATTACH;FMTTYPE=image/jpeg:https://lavozdeibiza.com/wp-content/uploads/2026/01/PHRANK-2024-06-30-13882.jpg
END:VEVENT
BEGIN:VEVENT
DTSTART;TZID=Europe/Madrid:20260716T230000
DTEND;TZID=Europe/Madrid:20260716T230000
DTSTAMP:20260423T045434
CREATED:20260422T111812Z
LAST-MODIFIED:20260422T111812Z
UID:10026747-1784242800-1784242800@lavozdeibiza.com
SUMMARY:Josh Baker presents YOU&ME en Amnesia Ibiza 2026
DESCRIPTION: El DJ británico Josh Baker debuta con su primera residencia semanal en Ibiza con YOU&ME\, que tomará el control de los jueves en Amnesia Ibiza. Este hito marca un momento clave en su carrera y coincide con el 50º aniversario del club\, reforzando el carácter especial de la temporada. \nNacido entre Ibiza y Manchester\, YOU&ME ha evolucionado desde fiestas íntimas hasta convertirse en un movimiento global centrado en la conexión real en la pista de baile. La residencia apuesta por un sonido de house contemporáneo\, minimal y deep tech\, con sets diseñados para mantener un groove constante y una atmósfera cercana entre artista y público. \nCada semana\, la Terraza de Amnesia se transformará en un espacio donde la comunidad\, la energía colectiva y la música son protagonistas\, con line-ups que combinan talento emergente y figuras consolidadas. \nMás información en Josh Baker y YOU&ME debutan con una residencia semanal en Amnesia Ibiza en 2026
URL:https://lavozdeibiza.com/event/josh-baker-presents-youme-en-amnesia-ibiza-2026/2026-07-16/
LOCATION:Amnesia\, Ctra. Ibiza a San Antonio\, Km 5\, 07816 Eivissa\, Balearic Islands\, España\, Ibiza\, Baleares\, Spain
CATEGORIES:OCIO
ATTACH;FMTTYPE=image/jpeg:https://lavozdeibiza.com/wp-content/uploads/2026/01/PHRANK-2024-06-30-13882.jpg
END:VEVENT
BEGIN:VEVENT
DTSTART;TZID=Europe/Madrid:20260723T230000
DTEND;TZID=Europe/Madrid:20260723T230000
DTSTAMP:20260423T045434
CREATED:20260422T111812Z
LAST-MODIFIED:20260422T111812Z
UID:10026748-1784847600-1784847600@lavozdeibiza.com
SUMMARY:Josh Baker presents YOU&ME en Amnesia Ibiza 2026
DESCRIPTION: El DJ británico Josh Baker debuta con su primera residencia semanal en Ibiza con YOU&ME\, que tomará el control de los jueves en Amnesia Ibiza. Este hito marca un momento clave en su carrera y coincide con el 50º aniversario del club\, reforzando el carácter especial de la temporada. \nNacido entre Ibiza y Manchester\, YOU&ME ha evolucionado desde fiestas íntimas hasta convertirse en un movimiento global centrado en la conexión real en la pista de baile. La residencia apuesta por un sonido de house contemporáneo\, minimal y deep tech\, con sets diseñados para mantener un groove constante y una atmósfera cercana entre artista y público. \nCada semana\, la Terraza de Amnesia se transformará en un espacio donde la comunidad\, la energía colectiva y la música son protagonistas\, con line-ups que combinan talento emergente y figuras consolidadas. \nMás información en Josh Baker y YOU&ME debutan con una residencia semanal en Amnesia Ibiza en 2026
URL:https://lavozdeibiza.com/event/josh-baker-presents-youme-en-amnesia-ibiza-2026/2026-07-23/
LOCATION:Amnesia\, Ctra. Ibiza a San Antonio\, Km 5\, 07816 Eivissa\, Balearic Islands\, España\, Ibiza\, Baleares\, Spain
CATEGORIES:OCIO
ATTACH;FMTTYPE=image/jpeg:https://lavozdeibiza.com/wp-content/uploads/2026/01/PHRANK-2024-06-30-13882.jpg
END:VEVENT
BEGIN:VEVENT
DTSTART;TZID=Europe/Madrid:20260730T230000
DTEND;TZID=Europe/Madrid:20260730T230000
DTSTAMP:20260423T045434
CREATED:20260422T111812Z
LAST-MODIFIED:20260422T111812Z
UID:10026749-1785452400-1785452400@lavozdeibiza.com
SUMMARY:Josh Baker presents YOU&ME en Amnesia Ibiza 2026
DESCRIPTION: El DJ británico Josh Baker debuta con su primera residencia semanal en Ibiza con YOU&ME\, que tomará el control de los jueves en Amnesia Ibiza. Este hito marca un momento clave en su carrera y coincide con el 50º aniversario del club\, reforzando el carácter especial de la temporada. \nNacido entre Ibiza y Manchester\, YOU&ME ha evolucionado desde fiestas íntimas hasta convertirse en un movimiento global centrado en la conexión real en la pista de baile. La residencia apuesta por un sonido de house contemporáneo\, minimal y deep tech\, con sets diseñados para mantener un groove constante y una atmósfera cercana entre artista y público. \nCada semana\, la Terraza de Amnesia se transformará en un espacio donde la comunidad\, la energía colectiva y la música son protagonistas\, con line-ups que combinan talento emergente y figuras consolidadas. \nMás información en Josh Baker y YOU&ME debutan con una residencia semanal en Amnesia Ibiza en 2026
URL:https://lavozdeibiza.com/event/josh-baker-presents-youme-en-amnesia-ibiza-2026/2026-07-30/
LOCATION:Amnesia\, Ctra. Ibiza a San Antonio\, Km 5\, 07816 Eivissa\, Balearic Islands\, España\, Ibiza\, Baleares\, Spain
CATEGORIES:OCIO
ATTACH;FMTTYPE=image/jpeg:https://lavozdeibiza.com/wp-content/uploads/2026/01/PHRANK-2024-06-30-13882.jpg
END:VEVENT
BEGIN:VEVENT
DTSTART;TZID=Europe/Madrid:20260806T230000
DTEND;TZID=Europe/Madrid:20260806T230000
DTSTAMP:20260423T045434
CREATED:20260422T111812Z
LAST-MODIFIED:20260422T111812Z
UID:10026750-1786057200-1786057200@lavozdeibiza.com
SUMMARY:Josh Baker presents YOU&ME en Amnesia Ibiza 2026
DESCRIPTION: El DJ británico Josh Baker debuta con su primera residencia semanal en Ibiza con YOU&ME\, que tomará el control de los jueves en Amnesia Ibiza. Este hito marca un momento clave en su carrera y coincide con el 50º aniversario del club\, reforzando el carácter especial de la temporada. \nNacido entre Ibiza y Manchester\, YOU&ME ha evolucionado desde fiestas íntimas hasta convertirse en un movimiento global centrado en la conexión real en la pista de baile. La residencia apuesta por un sonido de house contemporáneo\, minimal y deep tech\, con sets diseñados para mantener un groove constante y una atmósfera cercana entre artista y público. \nCada semana\, la Terraza de Amnesia se transformará en un espacio donde la comunidad\, la energía colectiva y la música son protagonistas\, con line-ups que combinan talento emergente y figuras consolidadas. \nMás información en Josh Baker y YOU&ME debutan con una residencia semanal en Amnesia Ibiza en 2026
URL:https://lavozdeibiza.com/event/josh-baker-presents-youme-en-amnesia-ibiza-2026/2026-08-06/
LOCATION:Amnesia\, Ctra. Ibiza a San Antonio\, Km 5\, 07816 Eivissa\, Balearic Islands\, España\, Ibiza\, Baleares\, Spain
CATEGORIES:OCIO
ATTACH;FMTTYPE=image/jpeg:https://lavozdeibiza.com/wp-content/uploads/2026/01/PHRANK-2024-06-30-13882.jpg
END:VEVENT
BEGIN:VEVENT
DTSTART;TZID=Europe/Madrid:20260813T230000
DTEND;TZID=Europe/Madrid:20260813T230000
DTSTAMP:20260423T045434
CREATED:20260422T111812Z
LAST-MODIFIED:20260422T111812Z
UID:10026751-1786662000-1786662000@lavozdeibiza.com
SUMMARY:Josh Baker presents YOU&ME en Amnesia Ibiza 2026
DESCRIPTION: El DJ británico Josh Baker debuta con su primera residencia semanal en Ibiza con YOU&ME\, que tomará el control de los jueves en Amnesia Ibiza. Este hito marca un momento clave en su carrera y coincide con el 50º aniversario del club\, reforzando el carácter especial de la temporada. \nNacido entre Ibiza y Manchester\, YOU&ME ha evolucionado desde fiestas íntimas hasta convertirse en un movimiento global centrado en la conexión real en la pista de baile. La residencia apuesta por un sonido de house contemporáneo\, minimal y deep tech\, con sets diseñados para mantener un groove constante y una atmósfera cercana entre artista y público. \nCada semana\, la Terraza de Amnesia se transformará en un espacio donde la comunidad\, la energía colectiva y la música son protagonistas\, con line-ups que combinan talento emergente y figuras consolidadas. \nMás información en Josh Baker y YOU&ME debutan con una residencia semanal en Amnesia Ibiza en 2026
URL:https://lavozdeibiza.com/event/josh-baker-presents-youme-en-amnesia-ibiza-2026/2026-08-13/
LOCATION:Amnesia\, Ctra. Ibiza a San Antonio\, Km 5\, 07816 Eivissa\, Balearic Islands\, España\, Ibiza\, Baleares\, Spain
CATEGORIES:OCIO
ATTACH;FMTTYPE=image/jpeg:https://lavozdeibiza.com/wp-content/uploads/2026/01/PHRANK-2024-06-30-13882.jpg
END:VEVENT
BEGIN:VEVENT
DTSTART;TZID=Europe/Madrid:20260820T230000
DTEND;TZID=Europe/Madrid:20260820T230000
DTSTAMP:20260423T045434
CREATED:20260422T111812Z
LAST-MODIFIED:20260422T111812Z
UID:10026752-1787266800-1787266800@lavozdeibiza.com
SUMMARY:Josh Baker presents YOU&ME en Amnesia Ibiza 2026
DESCRIPTION: El DJ británico Josh Baker debuta con su primera residencia semanal en Ibiza con YOU&ME\, que tomará el control de los jueves en Amnesia Ibiza. Este hito marca un momento clave en su carrera y coincide con el 50º aniversario del club\, reforzando el carácter especial de la temporada. \nNacido entre Ibiza y Manchester\, YOU&ME ha evolucionado desde fiestas íntimas hasta convertirse en un movimiento global centrado en la conexión real en la pista de baile. La residencia apuesta por un sonido de house contemporáneo\, minimal y deep tech\, con sets diseñados para mantener un groove constante y una atmósfera cercana entre artista y público. \nCada semana\, la Terraza de Amnesia se transformará en un espacio donde la comunidad\, la energía colectiva y la música son protagonistas\, con line-ups que combinan talento emergente y figuras consolidadas. \nMás información en Josh Baker y YOU&ME debutan con una residencia semanal en Amnesia Ibiza en 2026
URL:https://lavozdeibiza.com/event/josh-baker-presents-youme-en-amnesia-ibiza-2026/2026-08-20/
LOCATION:Amnesia\, Ctra. Ibiza a San Antonio\, Km 5\, 07816 Eivissa\, Balearic Islands\, España\, Ibiza\, Baleares\, Spain
CATEGORIES:OCIO
ATTACH;FMTTYPE=image/jpeg:https://lavozdeibiza.com/wp-content/uploads/2026/01/PHRANK-2024-06-30-13882.jpg
END:VEVENT
BEGIN:VEVENT
DTSTART;TZID=Europe/Madrid:20260827T230000
DTEND;TZID=Europe/Madrid:20260827T230000
DTSTAMP:20260423T045434
CREATED:20260422T111812Z
LAST-MODIFIED:20260422T111812Z
UID:10026753-1787871600-1787871600@lavozdeibiza.com
SUMMARY:Josh Baker presents YOU&ME en Amnesia Ibiza 2026
DESCRIPTION: El DJ británico Josh Baker debuta con su primera residencia semanal en Ibiza con YOU&ME\, que tomará el control de los jueves en Amnesia Ibiza. Este hito marca un momento clave en su carrera y coincide con el 50º aniversario del club\, reforzando el carácter especial de la temporada. \nNacido entre Ibiza y Manchester\, YOU&ME ha evolucionado desde fiestas íntimas hasta convertirse en un movimiento global centrado en la conexión real en la pista de baile. La residencia apuesta por un sonido de house contemporáneo\, minimal y deep tech\, con sets diseñados para mantener un groove constante y una atmósfera cercana entre artista y público. \nCada semana\, la Terraza de Amnesia se transformará en un espacio donde la comunidad\, la energía colectiva y la música son protagonistas\, con line-ups que combinan talento emergente y figuras consolidadas. \nMás información en Josh Baker y YOU&ME debutan con una residencia semanal en Amnesia Ibiza en 2026
URL:https://lavozdeibiza.com/event/josh-baker-presents-youme-en-amnesia-ibiza-2026/2026-08-27/
LOCATION:Amnesia\, Ctra. Ibiza a San Antonio\, Km 5\, 07816 Eivissa\, Balearic Islands\, España\, Ibiza\, Baleares\, Spain
CATEGORIES:OCIO
ATTACH;FMTTYPE=image/jpeg:https://lavozdeibiza.com/wp-content/uploads/2026/01/PHRANK-2024-06-30-13882.jpg
END:VEVENT
BEGIN:VEVENT
DTSTART;TZID=Europe/Madrid:20260903T230000
DTEND;TZID=Europe/Madrid:20260903T230000
DTSTAMP:20260423T045434
CREATED:20260422T111812Z
LAST-MODIFIED:20260422T111812Z
UID:10026754-1788476400-1788476400@lavozdeibiza.com
SUMMARY:Josh Baker presents YOU&ME en Amnesia Ibiza 2026
DESCRIPTION: El DJ británico Josh Baker debuta con su primera residencia semanal en Ibiza con YOU&ME\, que tomará el control de los jueves en Amnesia Ibiza. Este hito marca un momento clave en su carrera y coincide con el 50º aniversario del club\, reforzando el carácter especial de la temporada. \nNacido entre Ibiza y Manchester\, YOU&ME ha evolucionado desde fiestas íntimas hasta convertirse en un movimiento global centrado en la conexión real en la pista de baile. La residencia apuesta por un sonido de house contemporáneo\, minimal y deep tech\, con sets diseñados para mantener un groove constante y una atmósfera cercana entre artista y público. \nCada semana\, la Terraza de Amnesia se transformará en un espacio donde la comunidad\, la energía colectiva y la música son protagonistas\, con line-ups que combinan talento emergente y figuras consolidadas. \nMás información en Josh Baker y YOU&ME debutan con una residencia semanal en Amnesia Ibiza en 2026
URL:https://lavozdeibiza.com/event/josh-baker-presents-youme-en-amnesia-ibiza-2026/2026-09-03/
LOCATION:Amnesia\, Ctra. Ibiza a San Antonio\, Km 5\, 07816 Eivissa\, Balearic Islands\, España\, Ibiza\, Baleares\, Spain
CATEGORIES:OCIO
ATTACH;FMTTYPE=image/jpeg:https://lavozdeibiza.com/wp-content/uploads/2026/01/PHRANK-2024-06-30-13882.jpg
END:VEVENT
BEGIN:VEVENT
DTSTART;TZID=Europe/Madrid:20260910T230000
DTEND;TZID=Europe/Madrid:20260910T230000
DTSTAMP:20260423T045434
CREATED:20260422T111812Z
LAST-MODIFIED:20260422T111812Z
UID:10026755-1789081200-1789081200@lavozdeibiza.com
SUMMARY:Josh Baker presents YOU&ME en Amnesia Ibiza 2026
DESCRIPTION: El DJ británico Josh Baker debuta con su primera residencia semanal en Ibiza con YOU&ME\, que tomará el control de los jueves en Amnesia Ibiza. Este hito marca un momento clave en su carrera y coincide con el 50º aniversario del club\, reforzando el carácter especial de la temporada. \nNacido entre Ibiza y Manchester\, YOU&ME ha evolucionado desde fiestas íntimas hasta convertirse en un movimiento global centrado en la conexión real en la pista de baile. La residencia apuesta por un sonido de house contemporáneo\, minimal y deep tech\, con sets diseñados para mantener un groove constante y una atmósfera cercana entre artista y público. \nCada semana\, la Terraza de Amnesia se transformará en un espacio donde la comunidad\, la energía colectiva y la música son protagonistas\, con line-ups que combinan talento emergente y figuras consolidadas. \nMás información en Josh Baker y YOU&ME debutan con una residencia semanal en Amnesia Ibiza en 2026
URL:https://lavozdeibiza.com/event/josh-baker-presents-youme-en-amnesia-ibiza-2026/2026-09-10/
LOCATION:Amnesia\, Ctra. Ibiza a San Antonio\, Km 5\, 07816 Eivissa\, Balearic Islands\, España\, Ibiza\, Baleares\, Spain
CATEGORIES:OCIO
ATTACH;FMTTYPE=image/jpeg:https://lavozdeibiza.com/wp-content/uploads/2026/01/PHRANK-2024-06-30-13882.jpg
END:VEVENT
BEGIN:VEVENT
DTSTART;TZID=Europe/Madrid:20260917T230000
DTEND;TZID=Europe/Madrid:20260917T230000
DTSTAMP:20260423T045434
CREATED:20260422T111812Z
LAST-MODIFIED:20260422T111812Z
UID:10026756-1789686000-1789686000@lavozdeibiza.com
SUMMARY:Josh Baker presents YOU&ME en Amnesia Ibiza 2026
DESCRIPTION: El DJ británico Josh Baker debuta con su primera residencia semanal en Ibiza con YOU&ME\, que tomará el control de los jueves en Amnesia Ibiza. Este hito marca un momento clave en su carrera y coincide con el 50º aniversario del club\, reforzando el carácter especial de la temporada. \nNacido entre Ibiza y Manchester\, YOU&ME ha evolucionado desde fiestas íntimas hasta convertirse en un movimiento global centrado en la conexión real en la pista de baile. La residencia apuesta por un sonido de house contemporáneo\, minimal y deep tech\, con sets diseñados para mantener un groove constante y una atmósfera cercana entre artista y público. \nCada semana\, la Terraza de Amnesia se transformará en un espacio donde la comunidad\, la energía colectiva y la música son protagonistas\, con line-ups que combinan talento emergente y figuras consolidadas. \nMás información en Josh Baker y YOU&ME debutan con una residencia semanal en Amnesia Ibiza en 2026
URL:https://lavozdeibiza.com/event/josh-baker-presents-youme-en-amnesia-ibiza-2026/2026-09-17/
LOCATION:Amnesia\, Ctra. Ibiza a San Antonio\, Km 5\, 07816 Eivissa\, Balearic Islands\, España\, Ibiza\, Baleares\, Spain
CATEGORIES:OCIO
ATTACH;FMTTYPE=image/jpeg:https://lavozdeibiza.com/wp-content/uploads/2026/01/PHRANK-2024-06-30-13882.jpg
END:VEVENT
BEGIN:VEVENT
DTSTART;TZID=Europe/Madrid:20260924T230000
DTEND;TZID=Europe/Madrid:20260924T230000
DTSTAMP:20260423T045434
CREATED:20260422T111812Z
LAST-MODIFIED:20260422T111812Z
UID:10026757-1790290800-1790290800@lavozdeibiza.com
SUMMARY:Josh Baker presents YOU&ME en Amnesia Ibiza 2026
DESCRIPTION: El DJ británico Josh Baker debuta con su primera residencia semanal en Ibiza con YOU&ME\, que tomará el control de los jueves en Amnesia Ibiza. Este hito marca un momento clave en su carrera y coincide con el 50º aniversario del club\, reforzando el carácter especial de la temporada. \nNacido entre Ibiza y Manchester\, YOU&ME ha evolucionado desde fiestas íntimas hasta convertirse en un movimiento global centrado en la conexión real en la pista de baile. La residencia apuesta por un sonido de house contemporáneo\, minimal y deep tech\, con sets diseñados para mantener un groove constante y una atmósfera cercana entre artista y público. \nCada semana\, la Terraza de Amnesia se transformará en un espacio donde la comunidad\, la energía colectiva y la música son protagonistas\, con line-ups que combinan talento emergente y figuras consolidadas. \nMás información en Josh Baker y YOU&ME debutan con una residencia semanal en Amnesia Ibiza en 2026
URL:https://lavozdeibiza.com/event/josh-baker-presents-youme-en-amnesia-ibiza-2026/2026-09-24/
LOCATION:Amnesia\, Ctra. Ibiza a San Antonio\, Km 5\, 07816 Eivissa\, Balearic Islands\, España\, Ibiza\, Baleares\, Spain
CATEGORIES:OCIO
ATTACH;FMTTYPE=image/jpeg:https://lavozdeibiza.com/wp-content/uploads/2026/01/PHRANK-2024-06-30-13882.jpg
END:VEVENT
BEGIN:VEVENT
DTSTART;TZID=Europe/Madrid:20261001T230000
DTEND;TZID=Europe/Madrid:20261001T230000
DTSTAMP:20260423T045434
CREATED:20260422T111812Z
LAST-MODIFIED:20260422T111812Z
UID:10026758-1790895600-1790895600@lavozdeibiza.com
SUMMARY:Josh Baker presents YOU&ME en Amnesia Ibiza 2026
DESCRIPTION: El DJ británico Josh Baker debuta con su primera residencia semanal en Ibiza con YOU&ME\, que tomará el control de los jueves en Amnesia Ibiza. Este hito marca un momento clave en su carrera y coincide con el 50º aniversario del club\, reforzando el carácter especial de la temporada. \nNacido entre Ibiza y Manchester\, YOU&ME ha evolucionado desde fiestas íntimas hasta convertirse en un movimiento global centrado en la conexión real en la pista de baile. La residencia apuesta por un sonido de house contemporáneo\, minimal y deep tech\, con sets diseñados para mantener un groove constante y una atmósfera cercana entre artista y público. \nCada semana\, la Terraza de Amnesia se transformará en un espacio donde la comunidad\, la energía colectiva y la música son protagonistas\, con line-ups que combinan talento emergente y figuras consolidadas. \nMás información en Josh Baker y YOU&ME debutan con una residencia semanal en Amnesia Ibiza en 2026
URL:https://lavozdeibiza.com/event/josh-baker-presents-youme-en-amnesia-ibiza-2026/2026-10-01/
LOCATION:Amnesia\, Ctra. Ibiza a San Antonio\, Km 5\, 07816 Eivissa\, Balearic Islands\, España\, Ibiza\, Baleares\, Spain
CATEGORIES:OCIO
ATTACH;FMTTYPE=image/jpeg:https://lavozdeibiza.com/wp-content/uploads/2026/01/PHRANK-2024-06-30-13882.jpg
END:VEVENT
END:VCALENDAR