BEGIN:VCALENDAR
VERSION:2.0
PRODID:-//La Voz De Ibiza - ECPv6.15.20//NONSGML v1.0//EN
CALSCALE:GREGORIAN
METHOD:PUBLISH
X-WR-CALNAME:La Voz De Ibiza
X-ORIGINAL-URL:https://lavozdeibiza.com
X-WR-CALDESC:Eventos para La Voz De Ibiza
REFRESH-INTERVAL;VALUE=DURATION:PT1H
X-Robots-Tag:noindex
X-PUBLISHED-TTL:PT1H
BEGIN:VTIMEZONE
TZID:Europe/Madrid
BEGIN:DAYLIGHT
TZOFFSETFROM:+0100
TZOFFSETTO:+0200
TZNAME:CEST
DTSTART:20250330T010000
END:DAYLIGHT
BEGIN:STANDARD
TZOFFSETFROM:+0200
TZOFFSETTO:+0100
TZNAME:CET
DTSTART:20251026T010000
END:STANDARD
BEGIN:DAYLIGHT
TZOFFSETFROM:+0100
TZOFFSETTO:+0200
TZNAME:CEST
DTSTART:20260329T010000
END:DAYLIGHT
BEGIN:STANDARD
TZOFFSETFROM:+0200
TZOFFSETTO:+0100
TZNAME:CET
DTSTART:20261025T010000
END:STANDARD
BEGIN:DAYLIGHT
TZOFFSETFROM:+0100
TZOFFSETTO:+0200
TZNAME:CEST
DTSTART:20270328T010000
END:DAYLIGHT
BEGIN:STANDARD
TZOFFSETFROM:+0200
TZOFFSETTO:+0100
TZNAME:CET
DTSTART:20271031T010000
END:STANDARD
END:VTIMEZONE
BEGIN:VEVENT
DTSTART;TZID=Europe/Madrid:20260606T230000
DTEND;TZID=Europe/Madrid:20260606T230000
DTSTAMP:20260423T034623
CREATED:20260422T115625Z
LAST-MODIFIED:20260422T115625Z
UID:10026763-1780786800-1780786800@lavozdeibiza.com
SUMMARY:Bresh en Amnesia Ibiza 2026: la “fiesta más linda del mundo” 
DESCRIPTION:La popular fiesta Bresh regresa a Amnesia Ibiza en 2026\, consolidándose como una de las residencias más diferentes del verano en la isla. Por tercer año consecutivo\, el fenómeno nacido en Argentina se instala en el club con una propuesta que ya forma parte imprescindible del calendario ibicenco. \nLejos del dominio del techno\, Bresh apuesta por una mezcla abierta de reggaetón\, pop\, electrónica y grandes hits de distintas décadas\, creando una experiencia donde el público es el verdadero protagonista. \nSu fórmula\, basada en la celebración\, la diversidad y el buen rollo\, ha logrado reunir a una comunidad internacional e intergeneracional que convierte cada noche en una auténtica fiesta colectiva. \nTras temporadas anteriores con llenos masivos y artistas invitados de primer nivel\, la edición 2026 promete seguir evolucionando con nuevas sorpresas y una producción aún más ambiciosa. \nMás información en Bresh conquista los sábados de Amnesia Ibiza: residencia confirmada para este 2026
URL:https://lavozdeibiza.com/event/bresh-en-amnesia-ibiza-2026-la-fiesta-mas-linda-del-mundo/2026-06-06/
LOCATION:Amnesia\, Ctra. Ibiza a San Antonio\, Km 5\, 07816 Eivissa\, Balearic Islands\, España\, Ibiza\, Baleares\, Spain
CATEGORIES:OCIO
ATTACH;FMTTYPE=image/png:https://lavozdeibiza.com/wp-content/uploads/2024/07/Fiesta-Bresh-en-Amnesia-Ibiza.png
END:VEVENT
BEGIN:VEVENT
DTSTART;TZID=Europe/Madrid:20260613T230000
DTEND;TZID=Europe/Madrid:20260613T230000
DTSTAMP:20260423T034623
CREATED:20260422T115625Z
LAST-MODIFIED:20260422T115625Z
UID:10026764-1781391600-1781391600@lavozdeibiza.com
SUMMARY:Bresh en Amnesia Ibiza 2026: la “fiesta más linda del mundo” 
DESCRIPTION:La popular fiesta Bresh regresa a Amnesia Ibiza en 2026\, consolidándose como una de las residencias más diferentes del verano en la isla. Por tercer año consecutivo\, el fenómeno nacido en Argentina se instala en el club con una propuesta que ya forma parte imprescindible del calendario ibicenco. \nLejos del dominio del techno\, Bresh apuesta por una mezcla abierta de reggaetón\, pop\, electrónica y grandes hits de distintas décadas\, creando una experiencia donde el público es el verdadero protagonista. \nSu fórmula\, basada en la celebración\, la diversidad y el buen rollo\, ha logrado reunir a una comunidad internacional e intergeneracional que convierte cada noche en una auténtica fiesta colectiva. \nTras temporadas anteriores con llenos masivos y artistas invitados de primer nivel\, la edición 2026 promete seguir evolucionando con nuevas sorpresas y una producción aún más ambiciosa. \nMás información en Bresh conquista los sábados de Amnesia Ibiza: residencia confirmada para este 2026
URL:https://lavozdeibiza.com/event/bresh-en-amnesia-ibiza-2026-la-fiesta-mas-linda-del-mundo/2026-06-13/
LOCATION:Amnesia\, Ctra. Ibiza a San Antonio\, Km 5\, 07816 Eivissa\, Balearic Islands\, España\, Ibiza\, Baleares\, Spain
CATEGORIES:OCIO
ATTACH;FMTTYPE=image/png:https://lavozdeibiza.com/wp-content/uploads/2024/07/Fiesta-Bresh-en-Amnesia-Ibiza.png
END:VEVENT
BEGIN:VEVENT
DTSTART;TZID=Europe/Madrid:20260620T230000
DTEND;TZID=Europe/Madrid:20260620T230000
DTSTAMP:20260423T034623
CREATED:20260422T115625Z
LAST-MODIFIED:20260422T115625Z
UID:10026765-1781996400-1781996400@lavozdeibiza.com
SUMMARY:Bresh en Amnesia Ibiza 2026: la “fiesta más linda del mundo” 
DESCRIPTION:La popular fiesta Bresh regresa a Amnesia Ibiza en 2026\, consolidándose como una de las residencias más diferentes del verano en la isla. Por tercer año consecutivo\, el fenómeno nacido en Argentina se instala en el club con una propuesta que ya forma parte imprescindible del calendario ibicenco. \nLejos del dominio del techno\, Bresh apuesta por una mezcla abierta de reggaetón\, pop\, electrónica y grandes hits de distintas décadas\, creando una experiencia donde el público es el verdadero protagonista. \nSu fórmula\, basada en la celebración\, la diversidad y el buen rollo\, ha logrado reunir a una comunidad internacional e intergeneracional que convierte cada noche en una auténtica fiesta colectiva. \nTras temporadas anteriores con llenos masivos y artistas invitados de primer nivel\, la edición 2026 promete seguir evolucionando con nuevas sorpresas y una producción aún más ambiciosa. \nMás información en Bresh conquista los sábados de Amnesia Ibiza: residencia confirmada para este 2026
URL:https://lavozdeibiza.com/event/bresh-en-amnesia-ibiza-2026-la-fiesta-mas-linda-del-mundo/2026-06-20/
LOCATION:Amnesia\, Ctra. Ibiza a San Antonio\, Km 5\, 07816 Eivissa\, Balearic Islands\, España\, Ibiza\, Baleares\, Spain
CATEGORIES:OCIO
ATTACH;FMTTYPE=image/png:https://lavozdeibiza.com/wp-content/uploads/2024/07/Fiesta-Bresh-en-Amnesia-Ibiza.png
END:VEVENT
BEGIN:VEVENT
DTSTART;TZID=Europe/Madrid:20260627T230000
DTEND;TZID=Europe/Madrid:20260627T230000
DTSTAMP:20260423T034623
CREATED:20260422T115625Z
LAST-MODIFIED:20260422T115625Z
UID:10026766-1782601200-1782601200@lavozdeibiza.com
SUMMARY:Bresh en Amnesia Ibiza 2026: la “fiesta más linda del mundo” 
DESCRIPTION:La popular fiesta Bresh regresa a Amnesia Ibiza en 2026\, consolidándose como una de las residencias más diferentes del verano en la isla. Por tercer año consecutivo\, el fenómeno nacido en Argentina se instala en el club con una propuesta que ya forma parte imprescindible del calendario ibicenco. \nLejos del dominio del techno\, Bresh apuesta por una mezcla abierta de reggaetón\, pop\, electrónica y grandes hits de distintas décadas\, creando una experiencia donde el público es el verdadero protagonista. \nSu fórmula\, basada en la celebración\, la diversidad y el buen rollo\, ha logrado reunir a una comunidad internacional e intergeneracional que convierte cada noche en una auténtica fiesta colectiva. \nTras temporadas anteriores con llenos masivos y artistas invitados de primer nivel\, la edición 2026 promete seguir evolucionando con nuevas sorpresas y una producción aún más ambiciosa. \nMás información en Bresh conquista los sábados de Amnesia Ibiza: residencia confirmada para este 2026
URL:https://lavozdeibiza.com/event/bresh-en-amnesia-ibiza-2026-la-fiesta-mas-linda-del-mundo/2026-06-27/
LOCATION:Amnesia\, Ctra. Ibiza a San Antonio\, Km 5\, 07816 Eivissa\, Balearic Islands\, España\, Ibiza\, Baleares\, Spain
CATEGORIES:OCIO
ATTACH;FMTTYPE=image/png:https://lavozdeibiza.com/wp-content/uploads/2024/07/Fiesta-Bresh-en-Amnesia-Ibiza.png
END:VEVENT
BEGIN:VEVENT
DTSTART;TZID=Europe/Madrid:20260704T230000
DTEND;TZID=Europe/Madrid:20260704T230000
DTSTAMP:20260423T034623
CREATED:20260422T115625Z
LAST-MODIFIED:20260422T115625Z
UID:10026767-1783206000-1783206000@lavozdeibiza.com
SUMMARY:Bresh en Amnesia Ibiza 2026: la “fiesta más linda del mundo” 
DESCRIPTION:La popular fiesta Bresh regresa a Amnesia Ibiza en 2026\, consolidándose como una de las residencias más diferentes del verano en la isla. Por tercer año consecutivo\, el fenómeno nacido en Argentina se instala en el club con una propuesta que ya forma parte imprescindible del calendario ibicenco. \nLejos del dominio del techno\, Bresh apuesta por una mezcla abierta de reggaetón\, pop\, electrónica y grandes hits de distintas décadas\, creando una experiencia donde el público es el verdadero protagonista. \nSu fórmula\, basada en la celebración\, la diversidad y el buen rollo\, ha logrado reunir a una comunidad internacional e intergeneracional que convierte cada noche en una auténtica fiesta colectiva. \nTras temporadas anteriores con llenos masivos y artistas invitados de primer nivel\, la edición 2026 promete seguir evolucionando con nuevas sorpresas y una producción aún más ambiciosa. \nMás información en Bresh conquista los sábados de Amnesia Ibiza: residencia confirmada para este 2026
URL:https://lavozdeibiza.com/event/bresh-en-amnesia-ibiza-2026-la-fiesta-mas-linda-del-mundo/2026-07-04/
LOCATION:Amnesia\, Ctra. Ibiza a San Antonio\, Km 5\, 07816 Eivissa\, Balearic Islands\, España\, Ibiza\, Baleares\, Spain
CATEGORIES:OCIO
ATTACH;FMTTYPE=image/png:https://lavozdeibiza.com/wp-content/uploads/2024/07/Fiesta-Bresh-en-Amnesia-Ibiza.png
END:VEVENT
BEGIN:VEVENT
DTSTART;TZID=Europe/Madrid:20260711T230000
DTEND;TZID=Europe/Madrid:20260711T230000
DTSTAMP:20260423T034623
CREATED:20260422T115625Z
LAST-MODIFIED:20260422T115625Z
UID:10026768-1783810800-1783810800@lavozdeibiza.com
SUMMARY:Bresh en Amnesia Ibiza 2026: la “fiesta más linda del mundo” 
DESCRIPTION:La popular fiesta Bresh regresa a Amnesia Ibiza en 2026\, consolidándose como una de las residencias más diferentes del verano en la isla. Por tercer año consecutivo\, el fenómeno nacido en Argentina se instala en el club con una propuesta que ya forma parte imprescindible del calendario ibicenco. \nLejos del dominio del techno\, Bresh apuesta por una mezcla abierta de reggaetón\, pop\, electrónica y grandes hits de distintas décadas\, creando una experiencia donde el público es el verdadero protagonista. \nSu fórmula\, basada en la celebración\, la diversidad y el buen rollo\, ha logrado reunir a una comunidad internacional e intergeneracional que convierte cada noche en una auténtica fiesta colectiva. \nTras temporadas anteriores con llenos masivos y artistas invitados de primer nivel\, la edición 2026 promete seguir evolucionando con nuevas sorpresas y una producción aún más ambiciosa. \nMás información en Bresh conquista los sábados de Amnesia Ibiza: residencia confirmada para este 2026
URL:https://lavozdeibiza.com/event/bresh-en-amnesia-ibiza-2026-la-fiesta-mas-linda-del-mundo/2026-07-11/
LOCATION:Amnesia\, Ctra. Ibiza a San Antonio\, Km 5\, 07816 Eivissa\, Balearic Islands\, España\, Ibiza\, Baleares\, Spain
CATEGORIES:OCIO
ATTACH;FMTTYPE=image/png:https://lavozdeibiza.com/wp-content/uploads/2024/07/Fiesta-Bresh-en-Amnesia-Ibiza.png
END:VEVENT
BEGIN:VEVENT
DTSTART;TZID=Europe/Madrid:20260718T230000
DTEND;TZID=Europe/Madrid:20260718T230000
DTSTAMP:20260423T034623
CREATED:20260422T115625Z
LAST-MODIFIED:20260422T115625Z
UID:10026769-1784415600-1784415600@lavozdeibiza.com
SUMMARY:Bresh en Amnesia Ibiza 2026: la “fiesta más linda del mundo” 
DESCRIPTION:La popular fiesta Bresh regresa a Amnesia Ibiza en 2026\, consolidándose como una de las residencias más diferentes del verano en la isla. Por tercer año consecutivo\, el fenómeno nacido en Argentina se instala en el club con una propuesta que ya forma parte imprescindible del calendario ibicenco. \nLejos del dominio del techno\, Bresh apuesta por una mezcla abierta de reggaetón\, pop\, electrónica y grandes hits de distintas décadas\, creando una experiencia donde el público es el verdadero protagonista. \nSu fórmula\, basada en la celebración\, la diversidad y el buen rollo\, ha logrado reunir a una comunidad internacional e intergeneracional que convierte cada noche en una auténtica fiesta colectiva. \nTras temporadas anteriores con llenos masivos y artistas invitados de primer nivel\, la edición 2026 promete seguir evolucionando con nuevas sorpresas y una producción aún más ambiciosa. \nMás información en Bresh conquista los sábados de Amnesia Ibiza: residencia confirmada para este 2026
URL:https://lavozdeibiza.com/event/bresh-en-amnesia-ibiza-2026-la-fiesta-mas-linda-del-mundo/2026-07-18/
LOCATION:Amnesia\, Ctra. Ibiza a San Antonio\, Km 5\, 07816 Eivissa\, Balearic Islands\, España\, Ibiza\, Baleares\, Spain
CATEGORIES:OCIO
ATTACH;FMTTYPE=image/png:https://lavozdeibiza.com/wp-content/uploads/2024/07/Fiesta-Bresh-en-Amnesia-Ibiza.png
END:VEVENT
BEGIN:VEVENT
DTSTART;TZID=Europe/Madrid:20260725T230000
DTEND;TZID=Europe/Madrid:20260725T230000
DTSTAMP:20260423T034623
CREATED:20260422T115625Z
LAST-MODIFIED:20260422T115625Z
UID:10026770-1785020400-1785020400@lavozdeibiza.com
SUMMARY:Bresh en Amnesia Ibiza 2026: la “fiesta más linda del mundo” 
DESCRIPTION:La popular fiesta Bresh regresa a Amnesia Ibiza en 2026\, consolidándose como una de las residencias más diferentes del verano en la isla. Por tercer año consecutivo\, el fenómeno nacido en Argentina se instala en el club con una propuesta que ya forma parte imprescindible del calendario ibicenco. \nLejos del dominio del techno\, Bresh apuesta por una mezcla abierta de reggaetón\, pop\, electrónica y grandes hits de distintas décadas\, creando una experiencia donde el público es el verdadero protagonista. \nSu fórmula\, basada en la celebración\, la diversidad y el buen rollo\, ha logrado reunir a una comunidad internacional e intergeneracional que convierte cada noche en una auténtica fiesta colectiva. \nTras temporadas anteriores con llenos masivos y artistas invitados de primer nivel\, la edición 2026 promete seguir evolucionando con nuevas sorpresas y una producción aún más ambiciosa. \nMás información en Bresh conquista los sábados de Amnesia Ibiza: residencia confirmada para este 2026
URL:https://lavozdeibiza.com/event/bresh-en-amnesia-ibiza-2026-la-fiesta-mas-linda-del-mundo/2026-07-25/
LOCATION:Amnesia\, Ctra. Ibiza a San Antonio\, Km 5\, 07816 Eivissa\, Balearic Islands\, España\, Ibiza\, Baleares\, Spain
CATEGORIES:OCIO
ATTACH;FMTTYPE=image/png:https://lavozdeibiza.com/wp-content/uploads/2024/07/Fiesta-Bresh-en-Amnesia-Ibiza.png
END:VEVENT
BEGIN:VEVENT
DTSTART;TZID=Europe/Madrid:20260801T230000
DTEND;TZID=Europe/Madrid:20260801T230000
DTSTAMP:20260423T034623
CREATED:20260422T115625Z
LAST-MODIFIED:20260422T115625Z
UID:10026771-1785625200-1785625200@lavozdeibiza.com
SUMMARY:Bresh en Amnesia Ibiza 2026: la “fiesta más linda del mundo” 
DESCRIPTION:La popular fiesta Bresh regresa a Amnesia Ibiza en 2026\, consolidándose como una de las residencias más diferentes del verano en la isla. Por tercer año consecutivo\, el fenómeno nacido en Argentina se instala en el club con una propuesta que ya forma parte imprescindible del calendario ibicenco. \nLejos del dominio del techno\, Bresh apuesta por una mezcla abierta de reggaetón\, pop\, electrónica y grandes hits de distintas décadas\, creando una experiencia donde el público es el verdadero protagonista. \nSu fórmula\, basada en la celebración\, la diversidad y el buen rollo\, ha logrado reunir a una comunidad internacional e intergeneracional que convierte cada noche en una auténtica fiesta colectiva. \nTras temporadas anteriores con llenos masivos y artistas invitados de primer nivel\, la edición 2026 promete seguir evolucionando con nuevas sorpresas y una producción aún más ambiciosa. \nMás información en Bresh conquista los sábados de Amnesia Ibiza: residencia confirmada para este 2026
URL:https://lavozdeibiza.com/event/bresh-en-amnesia-ibiza-2026-la-fiesta-mas-linda-del-mundo/2026-08-01/
LOCATION:Amnesia\, Ctra. Ibiza a San Antonio\, Km 5\, 07816 Eivissa\, Balearic Islands\, España\, Ibiza\, Baleares\, Spain
CATEGORIES:OCIO
ATTACH;FMTTYPE=image/png:https://lavozdeibiza.com/wp-content/uploads/2024/07/Fiesta-Bresh-en-Amnesia-Ibiza.png
END:VEVENT
BEGIN:VEVENT
DTSTART;TZID=Europe/Madrid:20260808T230000
DTEND;TZID=Europe/Madrid:20260808T230000
DTSTAMP:20260423T034623
CREATED:20260422T115625Z
LAST-MODIFIED:20260422T115625Z
UID:10026772-1786230000-1786230000@lavozdeibiza.com
SUMMARY:Bresh en Amnesia Ibiza 2026: la “fiesta más linda del mundo” 
DESCRIPTION:La popular fiesta Bresh regresa a Amnesia Ibiza en 2026\, consolidándose como una de las residencias más diferentes del verano en la isla. Por tercer año consecutivo\, el fenómeno nacido en Argentina se instala en el club con una propuesta que ya forma parte imprescindible del calendario ibicenco. \nLejos del dominio del techno\, Bresh apuesta por una mezcla abierta de reggaetón\, pop\, electrónica y grandes hits de distintas décadas\, creando una experiencia donde el público es el verdadero protagonista. \nSu fórmula\, basada en la celebración\, la diversidad y el buen rollo\, ha logrado reunir a una comunidad internacional e intergeneracional que convierte cada noche en una auténtica fiesta colectiva. \nTras temporadas anteriores con llenos masivos y artistas invitados de primer nivel\, la edición 2026 promete seguir evolucionando con nuevas sorpresas y una producción aún más ambiciosa. \nMás información en Bresh conquista los sábados de Amnesia Ibiza: residencia confirmada para este 2026
URL:https://lavozdeibiza.com/event/bresh-en-amnesia-ibiza-2026-la-fiesta-mas-linda-del-mundo/2026-08-08/
LOCATION:Amnesia\, Ctra. Ibiza a San Antonio\, Km 5\, 07816 Eivissa\, Balearic Islands\, España\, Ibiza\, Baleares\, Spain
CATEGORIES:OCIO
ATTACH;FMTTYPE=image/png:https://lavozdeibiza.com/wp-content/uploads/2024/07/Fiesta-Bresh-en-Amnesia-Ibiza.png
END:VEVENT
BEGIN:VEVENT
DTSTART;TZID=Europe/Madrid:20260815T230000
DTEND;TZID=Europe/Madrid:20260815T230000
DTSTAMP:20260423T034623
CREATED:20260422T115625Z
LAST-MODIFIED:20260422T115625Z
UID:10026773-1786834800-1786834800@lavozdeibiza.com
SUMMARY:Bresh en Amnesia Ibiza 2026: la “fiesta más linda del mundo” 
DESCRIPTION:La popular fiesta Bresh regresa a Amnesia Ibiza en 2026\, consolidándose como una de las residencias más diferentes del verano en la isla. Por tercer año consecutivo\, el fenómeno nacido en Argentina se instala en el club con una propuesta que ya forma parte imprescindible del calendario ibicenco. \nLejos del dominio del techno\, Bresh apuesta por una mezcla abierta de reggaetón\, pop\, electrónica y grandes hits de distintas décadas\, creando una experiencia donde el público es el verdadero protagonista. \nSu fórmula\, basada en la celebración\, la diversidad y el buen rollo\, ha logrado reunir a una comunidad internacional e intergeneracional que convierte cada noche en una auténtica fiesta colectiva. \nTras temporadas anteriores con llenos masivos y artistas invitados de primer nivel\, la edición 2026 promete seguir evolucionando con nuevas sorpresas y una producción aún más ambiciosa. \nMás información en Bresh conquista los sábados de Amnesia Ibiza: residencia confirmada para este 2026
URL:https://lavozdeibiza.com/event/bresh-en-amnesia-ibiza-2026-la-fiesta-mas-linda-del-mundo/2026-08-15/
LOCATION:Amnesia\, Ctra. Ibiza a San Antonio\, Km 5\, 07816 Eivissa\, Balearic Islands\, España\, Ibiza\, Baleares\, Spain
CATEGORIES:OCIO
ATTACH;FMTTYPE=image/png:https://lavozdeibiza.com/wp-content/uploads/2024/07/Fiesta-Bresh-en-Amnesia-Ibiza.png
END:VEVENT
BEGIN:VEVENT
DTSTART;TZID=Europe/Madrid:20260822T230000
DTEND;TZID=Europe/Madrid:20260822T230000
DTSTAMP:20260423T034623
CREATED:20260422T115625Z
LAST-MODIFIED:20260422T115625Z
UID:10026774-1787439600-1787439600@lavozdeibiza.com
SUMMARY:Bresh en Amnesia Ibiza 2026: la “fiesta más linda del mundo” 
DESCRIPTION:La popular fiesta Bresh regresa a Amnesia Ibiza en 2026\, consolidándose como una de las residencias más diferentes del verano en la isla. Por tercer año consecutivo\, el fenómeno nacido en Argentina se instala en el club con una propuesta que ya forma parte imprescindible del calendario ibicenco. \nLejos del dominio del techno\, Bresh apuesta por una mezcla abierta de reggaetón\, pop\, electrónica y grandes hits de distintas décadas\, creando una experiencia donde el público es el verdadero protagonista. \nSu fórmula\, basada en la celebración\, la diversidad y el buen rollo\, ha logrado reunir a una comunidad internacional e intergeneracional que convierte cada noche en una auténtica fiesta colectiva. \nTras temporadas anteriores con llenos masivos y artistas invitados de primer nivel\, la edición 2026 promete seguir evolucionando con nuevas sorpresas y una producción aún más ambiciosa. \nMás información en Bresh conquista los sábados de Amnesia Ibiza: residencia confirmada para este 2026
URL:https://lavozdeibiza.com/event/bresh-en-amnesia-ibiza-2026-la-fiesta-mas-linda-del-mundo/2026-08-22/
LOCATION:Amnesia\, Ctra. Ibiza a San Antonio\, Km 5\, 07816 Eivissa\, Balearic Islands\, España\, Ibiza\, Baleares\, Spain
CATEGORIES:OCIO
ATTACH;FMTTYPE=image/png:https://lavozdeibiza.com/wp-content/uploads/2024/07/Fiesta-Bresh-en-Amnesia-Ibiza.png
END:VEVENT
BEGIN:VEVENT
DTSTART;TZID=Europe/Madrid:20260829T230000
DTEND;TZID=Europe/Madrid:20260829T230000
DTSTAMP:20260423T034623
CREATED:20260422T115625Z
LAST-MODIFIED:20260422T115625Z
UID:10026775-1788044400-1788044400@lavozdeibiza.com
SUMMARY:Bresh en Amnesia Ibiza 2026: la “fiesta más linda del mundo” 
DESCRIPTION:La popular fiesta Bresh regresa a Amnesia Ibiza en 2026\, consolidándose como una de las residencias más diferentes del verano en la isla. Por tercer año consecutivo\, el fenómeno nacido en Argentina se instala en el club con una propuesta que ya forma parte imprescindible del calendario ibicenco. \nLejos del dominio del techno\, Bresh apuesta por una mezcla abierta de reggaetón\, pop\, electrónica y grandes hits de distintas décadas\, creando una experiencia donde el público es el verdadero protagonista. \nSu fórmula\, basada en la celebración\, la diversidad y el buen rollo\, ha logrado reunir a una comunidad internacional e intergeneracional que convierte cada noche en una auténtica fiesta colectiva. \nTras temporadas anteriores con llenos masivos y artistas invitados de primer nivel\, la edición 2026 promete seguir evolucionando con nuevas sorpresas y una producción aún más ambiciosa. \nMás información en Bresh conquista los sábados de Amnesia Ibiza: residencia confirmada para este 2026
URL:https://lavozdeibiza.com/event/bresh-en-amnesia-ibiza-2026-la-fiesta-mas-linda-del-mundo/2026-08-29/
LOCATION:Amnesia\, Ctra. Ibiza a San Antonio\, Km 5\, 07816 Eivissa\, Balearic Islands\, España\, Ibiza\, Baleares\, Spain
CATEGORIES:OCIO
ATTACH;FMTTYPE=image/png:https://lavozdeibiza.com/wp-content/uploads/2024/07/Fiesta-Bresh-en-Amnesia-Ibiza.png
END:VEVENT
BEGIN:VEVENT
DTSTART;TZID=Europe/Madrid:20260905T230000
DTEND;TZID=Europe/Madrid:20260905T230000
DTSTAMP:20260423T034623
CREATED:20260422T115625Z
LAST-MODIFIED:20260422T115625Z
UID:10026776-1788649200-1788649200@lavozdeibiza.com
SUMMARY:Bresh en Amnesia Ibiza 2026: la “fiesta más linda del mundo” 
DESCRIPTION:La popular fiesta Bresh regresa a Amnesia Ibiza en 2026\, consolidándose como una de las residencias más diferentes del verano en la isla. Por tercer año consecutivo\, el fenómeno nacido en Argentina se instala en el club con una propuesta que ya forma parte imprescindible del calendario ibicenco. \nLejos del dominio del techno\, Bresh apuesta por una mezcla abierta de reggaetón\, pop\, electrónica y grandes hits de distintas décadas\, creando una experiencia donde el público es el verdadero protagonista. \nSu fórmula\, basada en la celebración\, la diversidad y el buen rollo\, ha logrado reunir a una comunidad internacional e intergeneracional que convierte cada noche en una auténtica fiesta colectiva. \nTras temporadas anteriores con llenos masivos y artistas invitados de primer nivel\, la edición 2026 promete seguir evolucionando con nuevas sorpresas y una producción aún más ambiciosa. \nMás información en Bresh conquista los sábados de Amnesia Ibiza: residencia confirmada para este 2026
URL:https://lavozdeibiza.com/event/bresh-en-amnesia-ibiza-2026-la-fiesta-mas-linda-del-mundo/2026-09-05/
LOCATION:Amnesia\, Ctra. Ibiza a San Antonio\, Km 5\, 07816 Eivissa\, Balearic Islands\, España\, Ibiza\, Baleares\, Spain
CATEGORIES:OCIO
ATTACH;FMTTYPE=image/png:https://lavozdeibiza.com/wp-content/uploads/2024/07/Fiesta-Bresh-en-Amnesia-Ibiza.png
END:VEVENT
END:VCALENDAR