BEGIN:VCALENDAR
VERSION:2.0
PRODID:-//La Voz De Ibiza - ECPv6.15.20//NONSGML v1.0//EN
CALSCALE:GREGORIAN
METHOD:PUBLISH
X-WR-CALNAME:La Voz De Ibiza
X-ORIGINAL-URL:https://lavozdeibiza.com
X-WR-CALDESC:Eventos para La Voz De Ibiza
REFRESH-INTERVAL;VALUE=DURATION:PT1H
X-Robots-Tag:noindex
X-PUBLISHED-TTL:PT1H
BEGIN:VTIMEZONE
TZID:Europe/Madrid
BEGIN:DAYLIGHT
TZOFFSETFROM:+0100
TZOFFSETTO:+0200
TZNAME:CEST
DTSTART:20250330T010000
END:DAYLIGHT
BEGIN:STANDARD
TZOFFSETFROM:+0200
TZOFFSETTO:+0100
TZNAME:CET
DTSTART:20251026T010000
END:STANDARD
BEGIN:DAYLIGHT
TZOFFSETFROM:+0100
TZOFFSETTO:+0200
TZNAME:CEST
DTSTART:20260329T010000
END:DAYLIGHT
BEGIN:STANDARD
TZOFFSETFROM:+0200
TZOFFSETTO:+0100
TZNAME:CET
DTSTART:20261025T010000
END:STANDARD
BEGIN:DAYLIGHT
TZOFFSETFROM:+0100
TZOFFSETTO:+0200
TZNAME:CEST
DTSTART:20270328T010000
END:DAYLIGHT
BEGIN:STANDARD
TZOFFSETFROM:+0200
TZOFFSETTO:+0100
TZNAME:CET
DTSTART:20271031T010000
END:STANDARD
END:VTIMEZONE
BEGIN:VEVENT
DTSTART;TZID=Europe/Madrid:20260423T180000
DTEND;TZID=Europe/Madrid:20260423T180000
DTSTAMP:20260423T023053
CREATED:20260422T123449Z
LAST-MODIFIED:20260422T123449Z
UID:10026782-1776967200-1776967200@lavozdeibiza.com
SUMMARY:Cine Regio en Ibiza: cartelera del 23 al 30 de abril
DESCRIPTION:El Cine Regio presenta la película “Michael”\, un recorrido por la vida de Michael Jackson que muestra su evolución desde sus inicios como líder de los Jackson Five hasta convertirse en uno de los mayores iconos de la industria musical. \nLa película se proyectará del 23 al 30 de abril de 2026 en el Cine Regio (Ibiza)\, con sesiones diarias a las 18:00 y 20:40 horas\, incluyendo una sesión en versión original subtitulada (VOSE) el martes 28 de abril. El jueves 30 será el último día en cartel. \nUna propuesta imprescindible para los fans del artista y para quienes quieran descubrir la historia detrás de una de las mayores leyendas de la música.
URL:https://lavozdeibiza.com/event/cine-regio-en-ibiza-cartelera-del-23-al-30-de-abril/2026-04-23/
LOCATION:Cine Regio\, Carrer Barcelona\, 5\, Sant Antoni de Portmany\, Islas Baleares\, Spain
CATEGORIES:CULTURA Y SOCIEDAD
ATTACH;FMTTYPE=image/jpeg:https://lavozdeibiza.com/wp-content/uploads/2026/04/Cine-Regio.jpg
END:VEVENT
BEGIN:VEVENT
DTSTART;TZID=Europe/Madrid:20260424T180000
DTEND;TZID=Europe/Madrid:20260424T180000
DTSTAMP:20260423T023054
CREATED:20260422T123449Z
LAST-MODIFIED:20260422T123449Z
UID:10026783-1777053600-1777053600@lavozdeibiza.com
SUMMARY:Cine Regio en Ibiza: cartelera del 23 al 30 de abril
DESCRIPTION:El Cine Regio presenta la película “Michael”\, un recorrido por la vida de Michael Jackson que muestra su evolución desde sus inicios como líder de los Jackson Five hasta convertirse en uno de los mayores iconos de la industria musical. \nLa película se proyectará del 23 al 30 de abril de 2026 en el Cine Regio (Ibiza)\, con sesiones diarias a las 18:00 y 20:40 horas\, incluyendo una sesión en versión original subtitulada (VOSE) el martes 28 de abril. El jueves 30 será el último día en cartel. \nUna propuesta imprescindible para los fans del artista y para quienes quieran descubrir la historia detrás de una de las mayores leyendas de la música.
URL:https://lavozdeibiza.com/event/cine-regio-en-ibiza-cartelera-del-23-al-30-de-abril/2026-04-24/
LOCATION:Cine Regio\, Carrer Barcelona\, 5\, Sant Antoni de Portmany\, Islas Baleares\, Spain
CATEGORIES:CULTURA Y SOCIEDAD
ATTACH;FMTTYPE=image/jpeg:https://lavozdeibiza.com/wp-content/uploads/2026/04/Cine-Regio.jpg
END:VEVENT
BEGIN:VEVENT
DTSTART;TZID=Europe/Madrid:20260425T180000
DTEND;TZID=Europe/Madrid:20260425T180000
DTSTAMP:20260423T023054
CREATED:20260422T123449Z
LAST-MODIFIED:20260422T123449Z
UID:10026784-1777140000-1777140000@lavozdeibiza.com
SUMMARY:Cine Regio en Ibiza: cartelera del 23 al 30 de abril
DESCRIPTION:El Cine Regio presenta la película “Michael”\, un recorrido por la vida de Michael Jackson que muestra su evolución desde sus inicios como líder de los Jackson Five hasta convertirse en uno de los mayores iconos de la industria musical. \nLa película se proyectará del 23 al 30 de abril de 2026 en el Cine Regio (Ibiza)\, con sesiones diarias a las 18:00 y 20:40 horas\, incluyendo una sesión en versión original subtitulada (VOSE) el martes 28 de abril. El jueves 30 será el último día en cartel. \nUna propuesta imprescindible para los fans del artista y para quienes quieran descubrir la historia detrás de una de las mayores leyendas de la música.
URL:https://lavozdeibiza.com/event/cine-regio-en-ibiza-cartelera-del-23-al-30-de-abril/2026-04-25/
LOCATION:Cine Regio\, Carrer Barcelona\, 5\, Sant Antoni de Portmany\, Islas Baleares\, Spain
CATEGORIES:CULTURA Y SOCIEDAD
ATTACH;FMTTYPE=image/jpeg:https://lavozdeibiza.com/wp-content/uploads/2026/04/Cine-Regio.jpg
END:VEVENT
BEGIN:VEVENT
DTSTART;TZID=Europe/Madrid:20260426T180000
DTEND;TZID=Europe/Madrid:20260426T180000
DTSTAMP:20260423T023054
CREATED:20260422T123449Z
LAST-MODIFIED:20260422T123449Z
UID:10026785-1777226400-1777226400@lavozdeibiza.com
SUMMARY:Cine Regio en Ibiza: cartelera del 23 al 30 de abril
DESCRIPTION:El Cine Regio presenta la película “Michael”\, un recorrido por la vida de Michael Jackson que muestra su evolución desde sus inicios como líder de los Jackson Five hasta convertirse en uno de los mayores iconos de la industria musical. \nLa película se proyectará del 23 al 30 de abril de 2026 en el Cine Regio (Ibiza)\, con sesiones diarias a las 18:00 y 20:40 horas\, incluyendo una sesión en versión original subtitulada (VOSE) el martes 28 de abril. El jueves 30 será el último día en cartel. \nUna propuesta imprescindible para los fans del artista y para quienes quieran descubrir la historia detrás de una de las mayores leyendas de la música.
URL:https://lavozdeibiza.com/event/cine-regio-en-ibiza-cartelera-del-23-al-30-de-abril/2026-04-26/
LOCATION:Cine Regio\, Carrer Barcelona\, 5\, Sant Antoni de Portmany\, Islas Baleares\, Spain
CATEGORIES:CULTURA Y SOCIEDAD
ATTACH;FMTTYPE=image/jpeg:https://lavozdeibiza.com/wp-content/uploads/2026/04/Cine-Regio.jpg
END:VEVENT
BEGIN:VEVENT
DTSTART;TZID=Europe/Madrid:20260427T180000
DTEND;TZID=Europe/Madrid:20260427T180000
DTSTAMP:20260423T023054
CREATED:20260422T123449Z
LAST-MODIFIED:20260422T123449Z
UID:10026786-1777312800-1777312800@lavozdeibiza.com
SUMMARY:Cine Regio en Ibiza: cartelera del 23 al 30 de abril
DESCRIPTION:El Cine Regio presenta la película “Michael”\, un recorrido por la vida de Michael Jackson que muestra su evolución desde sus inicios como líder de los Jackson Five hasta convertirse en uno de los mayores iconos de la industria musical. \nLa película se proyectará del 23 al 30 de abril de 2026 en el Cine Regio (Ibiza)\, con sesiones diarias a las 18:00 y 20:40 horas\, incluyendo una sesión en versión original subtitulada (VOSE) el martes 28 de abril. El jueves 30 será el último día en cartel. \nUna propuesta imprescindible para los fans del artista y para quienes quieran descubrir la historia detrás de una de las mayores leyendas de la música.
URL:https://lavozdeibiza.com/event/cine-regio-en-ibiza-cartelera-del-23-al-30-de-abril/2026-04-27/
LOCATION:Cine Regio\, Carrer Barcelona\, 5\, Sant Antoni de Portmany\, Islas Baleares\, Spain
CATEGORIES:CULTURA Y SOCIEDAD
ATTACH;FMTTYPE=image/jpeg:https://lavozdeibiza.com/wp-content/uploads/2026/04/Cine-Regio.jpg
END:VEVENT
BEGIN:VEVENT
DTSTART;TZID=Europe/Madrid:20260428T180000
DTEND;TZID=Europe/Madrid:20260428T180000
DTSTAMP:20260423T023054
CREATED:20260422T123449Z
LAST-MODIFIED:20260422T123449Z
UID:10026787-1777399200-1777399200@lavozdeibiza.com
SUMMARY:Cine Regio en Ibiza: cartelera del 23 al 30 de abril
DESCRIPTION:El Cine Regio presenta la película “Michael”\, un recorrido por la vida de Michael Jackson que muestra su evolución desde sus inicios como líder de los Jackson Five hasta convertirse en uno de los mayores iconos de la industria musical. \nLa película se proyectará del 23 al 30 de abril de 2026 en el Cine Regio (Ibiza)\, con sesiones diarias a las 18:00 y 20:40 horas\, incluyendo una sesión en versión original subtitulada (VOSE) el martes 28 de abril. El jueves 30 será el último día en cartel. \nUna propuesta imprescindible para los fans del artista y para quienes quieran descubrir la historia detrás de una de las mayores leyendas de la música.
URL:https://lavozdeibiza.com/event/cine-regio-en-ibiza-cartelera-del-23-al-30-de-abril/2026-04-28/
LOCATION:Cine Regio\, Carrer Barcelona\, 5\, Sant Antoni de Portmany\, Islas Baleares\, Spain
CATEGORIES:CULTURA Y SOCIEDAD
ATTACH;FMTTYPE=image/jpeg:https://lavozdeibiza.com/wp-content/uploads/2026/04/Cine-Regio.jpg
END:VEVENT
BEGIN:VEVENT
DTSTART;TZID=Europe/Madrid:20260429T180000
DTEND;TZID=Europe/Madrid:20260429T180000
DTSTAMP:20260423T023054
CREATED:20260422T123449Z
LAST-MODIFIED:20260422T123449Z
UID:10026788-1777485600-1777485600@lavozdeibiza.com
SUMMARY:Cine Regio en Ibiza: cartelera del 23 al 30 de abril
DESCRIPTION:El Cine Regio presenta la película “Michael”\, un recorrido por la vida de Michael Jackson que muestra su evolución desde sus inicios como líder de los Jackson Five hasta convertirse en uno de los mayores iconos de la industria musical. \nLa película se proyectará del 23 al 30 de abril de 2026 en el Cine Regio (Ibiza)\, con sesiones diarias a las 18:00 y 20:40 horas\, incluyendo una sesión en versión original subtitulada (VOSE) el martes 28 de abril. El jueves 30 será el último día en cartel. \nUna propuesta imprescindible para los fans del artista y para quienes quieran descubrir la historia detrás de una de las mayores leyendas de la música.
URL:https://lavozdeibiza.com/event/cine-regio-en-ibiza-cartelera-del-23-al-30-de-abril/2026-04-29/
LOCATION:Cine Regio\, Carrer Barcelona\, 5\, Sant Antoni de Portmany\, Islas Baleares\, Spain
CATEGORIES:CULTURA Y SOCIEDAD
ATTACH;FMTTYPE=image/jpeg:https://lavozdeibiza.com/wp-content/uploads/2026/04/Cine-Regio.jpg
END:VEVENT
BEGIN:VEVENT
DTSTART;TZID=Europe/Madrid:20260430T180000
DTEND;TZID=Europe/Madrid:20260430T180000
DTSTAMP:20260423T023054
CREATED:20260422T123449Z
LAST-MODIFIED:20260422T123449Z
UID:10026789-1777572000-1777572000@lavozdeibiza.com
SUMMARY:Cine Regio en Ibiza: cartelera del 23 al 30 de abril
DESCRIPTION:El Cine Regio presenta la película “Michael”\, un recorrido por la vida de Michael Jackson que muestra su evolución desde sus inicios como líder de los Jackson Five hasta convertirse en uno de los mayores iconos de la industria musical. \nLa película se proyectará del 23 al 30 de abril de 2026 en el Cine Regio (Ibiza)\, con sesiones diarias a las 18:00 y 20:40 horas\, incluyendo una sesión en versión original subtitulada (VOSE) el martes 28 de abril. El jueves 30 será el último día en cartel. \nUna propuesta imprescindible para los fans del artista y para quienes quieran descubrir la historia detrás de una de las mayores leyendas de la música.
URL:https://lavozdeibiza.com/event/cine-regio-en-ibiza-cartelera-del-23-al-30-de-abril/2026-04-30/
LOCATION:Cine Regio\, Carrer Barcelona\, 5\, Sant Antoni de Portmany\, Islas Baleares\, Spain
CATEGORIES:CULTURA Y SOCIEDAD
ATTACH;FMTTYPE=image/jpeg:https://lavozdeibiza.com/wp-content/uploads/2026/04/Cine-Regio.jpg
END:VEVENT
END:VCALENDAR