BEGIN:VCALENDAR
VERSION:2.0
PRODID:-//La Voz De Ibiza - ECPv6.15.20//NONSGML v1.0//EN
CALSCALE:GREGORIAN
METHOD:PUBLISH
X-WR-CALNAME:La Voz De Ibiza
X-ORIGINAL-URL:https://lavozdeibiza.com
X-WR-CALDESC:Eventos para La Voz De Ibiza
REFRESH-INTERVAL;VALUE=DURATION:PT1H
X-Robots-Tag:noindex
X-PUBLISHED-TTL:PT1H
BEGIN:VTIMEZONE
TZID:Europe/Madrid
BEGIN:DAYLIGHT
TZOFFSETFROM:+0100
TZOFFSETTO:+0200
TZNAME:CEST
DTSTART:20250330T010000
END:DAYLIGHT
BEGIN:STANDARD
TZOFFSETFROM:+0200
TZOFFSETTO:+0100
TZNAME:CET
DTSTART:20251026T010000
END:STANDARD
BEGIN:DAYLIGHT
TZOFFSETFROM:+0100
TZOFFSETTO:+0200
TZNAME:CEST
DTSTART:20260329T010000
END:DAYLIGHT
BEGIN:STANDARD
TZOFFSETFROM:+0200
TZOFFSETTO:+0100
TZNAME:CET
DTSTART:20261025T010000
END:STANDARD
BEGIN:DAYLIGHT
TZOFFSETFROM:+0100
TZOFFSETTO:+0200
TZNAME:CEST
DTSTART:20270328T010000
END:DAYLIGHT
BEGIN:STANDARD
TZOFFSETFROM:+0200
TZOFFSETTO:+0100
TZNAME:CET
DTSTART:20271031T010000
END:STANDARD
END:VTIMEZONE
BEGIN:VEVENT
DTSTART;TZID=Europe/Madrid:20260525T080000
DTEND;TZID=Europe/Madrid:20260525T220000
DTSTAMP:20260423T034617
CREATED:20260422T131527Z
LAST-MODIFIED:20260422T131527Z
UID:10026791-1779696000-1779746400@lavozdeibiza.com
SUMMARY:Ray of Light Awards 2026 en Ibiza: festival internacional de cine y transformación
DESCRIPTION:Ibiza acoge la segunda edición de Ray of Light Awards (ROLA)\, un festival internacional que apuesta por el cine como motor de cambio personal y colectivo\, reuniendo a cineastas\, músicos y creadores de todo el mundo. \nEl evento se celebrará del 25 al 31 de mayo de 2026 en diferentes espacios de la isla\, como Boutique Hostal La Curandera de Salinas\, Fundación La Nave Salinas\, Juntos Farm y el Baluarte de Santa Lucía en Dalt Vila\, donde tendrá lugar la gala final. \nDurante varios días\, el festival ofrecerá proyecciones\, encuentros entre artistas y conversaciones abiertas al público\, en una propuesta que combina cine\, música y reflexión. \nInspirado en la memoria del actor Ray Stevenson\, ROLA pone el foco en historias que abordan la transformación\, la conexión humana y el crecimiento personal. \nUna cita cultural internacional que consolida a Ibiza como escenario de propuestas creativas que van más allá del entretenimiento.
URL:https://lavozdeibiza.com/event/ray-of-light-awards-2026-en-ibiza-festival-internacional-de-cine-y-transformacion/2026-05-25/
CATEGORIES:ARTE
ATTACH;FMTTYPE=image/jpeg:https://lavozdeibiza.com/wp-content/uploads/2026/04/Arola.jpg
END:VEVENT
BEGIN:VEVENT
DTSTART;TZID=Europe/Madrid:20260526T080000
DTEND;TZID=Europe/Madrid:20260526T220000
DTSTAMP:20260423T034617
CREATED:20260422T131527Z
LAST-MODIFIED:20260422T131527Z
UID:10026792-1779782400-1779832800@lavozdeibiza.com
SUMMARY:Ray of Light Awards 2026 en Ibiza: festival internacional de cine y transformación
DESCRIPTION:Ibiza acoge la segunda edición de Ray of Light Awards (ROLA)\, un festival internacional que apuesta por el cine como motor de cambio personal y colectivo\, reuniendo a cineastas\, músicos y creadores de todo el mundo. \nEl evento se celebrará del 25 al 31 de mayo de 2026 en diferentes espacios de la isla\, como Boutique Hostal La Curandera de Salinas\, Fundación La Nave Salinas\, Juntos Farm y el Baluarte de Santa Lucía en Dalt Vila\, donde tendrá lugar la gala final. \nDurante varios días\, el festival ofrecerá proyecciones\, encuentros entre artistas y conversaciones abiertas al público\, en una propuesta que combina cine\, música y reflexión. \nInspirado en la memoria del actor Ray Stevenson\, ROLA pone el foco en historias que abordan la transformación\, la conexión humana y el crecimiento personal. \nUna cita cultural internacional que consolida a Ibiza como escenario de propuestas creativas que van más allá del entretenimiento.
URL:https://lavozdeibiza.com/event/ray-of-light-awards-2026-en-ibiza-festival-internacional-de-cine-y-transformacion/2026-05-26/
CATEGORIES:ARTE
ATTACH;FMTTYPE=image/jpeg:https://lavozdeibiza.com/wp-content/uploads/2026/04/Arola.jpg
END:VEVENT
BEGIN:VEVENT
DTSTART;TZID=Europe/Madrid:20260527T080000
DTEND;TZID=Europe/Madrid:20260527T220000
DTSTAMP:20260423T034617
CREATED:20260422T131527Z
LAST-MODIFIED:20260422T131527Z
UID:10026793-1779868800-1779919200@lavozdeibiza.com
SUMMARY:Ray of Light Awards 2026 en Ibiza: festival internacional de cine y transformación
DESCRIPTION:Ibiza acoge la segunda edición de Ray of Light Awards (ROLA)\, un festival internacional que apuesta por el cine como motor de cambio personal y colectivo\, reuniendo a cineastas\, músicos y creadores de todo el mundo. \nEl evento se celebrará del 25 al 31 de mayo de 2026 en diferentes espacios de la isla\, como Boutique Hostal La Curandera de Salinas\, Fundación La Nave Salinas\, Juntos Farm y el Baluarte de Santa Lucía en Dalt Vila\, donde tendrá lugar la gala final. \nDurante varios días\, el festival ofrecerá proyecciones\, encuentros entre artistas y conversaciones abiertas al público\, en una propuesta que combina cine\, música y reflexión. \nInspirado en la memoria del actor Ray Stevenson\, ROLA pone el foco en historias que abordan la transformación\, la conexión humana y el crecimiento personal. \nUna cita cultural internacional que consolida a Ibiza como escenario de propuestas creativas que van más allá del entretenimiento.
URL:https://lavozdeibiza.com/event/ray-of-light-awards-2026-en-ibiza-festival-internacional-de-cine-y-transformacion/2026-05-27/
CATEGORIES:ARTE
ATTACH;FMTTYPE=image/jpeg:https://lavozdeibiza.com/wp-content/uploads/2026/04/Arola.jpg
END:VEVENT
BEGIN:VEVENT
DTSTART;TZID=Europe/Madrid:20260528T080000
DTEND;TZID=Europe/Madrid:20260528T220000
DTSTAMP:20260423T034617
CREATED:20260422T131527Z
LAST-MODIFIED:20260422T131527Z
UID:10026794-1779955200-1780005600@lavozdeibiza.com
SUMMARY:Ray of Light Awards 2026 en Ibiza: festival internacional de cine y transformación
DESCRIPTION:Ibiza acoge la segunda edición de Ray of Light Awards (ROLA)\, un festival internacional que apuesta por el cine como motor de cambio personal y colectivo\, reuniendo a cineastas\, músicos y creadores de todo el mundo. \nEl evento se celebrará del 25 al 31 de mayo de 2026 en diferentes espacios de la isla\, como Boutique Hostal La Curandera de Salinas\, Fundación La Nave Salinas\, Juntos Farm y el Baluarte de Santa Lucía en Dalt Vila\, donde tendrá lugar la gala final. \nDurante varios días\, el festival ofrecerá proyecciones\, encuentros entre artistas y conversaciones abiertas al público\, en una propuesta que combina cine\, música y reflexión. \nInspirado en la memoria del actor Ray Stevenson\, ROLA pone el foco en historias que abordan la transformación\, la conexión humana y el crecimiento personal. \nUna cita cultural internacional que consolida a Ibiza como escenario de propuestas creativas que van más allá del entretenimiento.
URL:https://lavozdeibiza.com/event/ray-of-light-awards-2026-en-ibiza-festival-internacional-de-cine-y-transformacion/2026-05-28/
CATEGORIES:ARTE
ATTACH;FMTTYPE=image/jpeg:https://lavozdeibiza.com/wp-content/uploads/2026/04/Arola.jpg
END:VEVENT
BEGIN:VEVENT
DTSTART;TZID=Europe/Madrid:20260529T080000
DTEND;TZID=Europe/Madrid:20260529T220000
DTSTAMP:20260423T034617
CREATED:20260422T131527Z
LAST-MODIFIED:20260422T131527Z
UID:10026795-1780041600-1780092000@lavozdeibiza.com
SUMMARY:Ray of Light Awards 2026 en Ibiza: festival internacional de cine y transformación
DESCRIPTION:Ibiza acoge la segunda edición de Ray of Light Awards (ROLA)\, un festival internacional que apuesta por el cine como motor de cambio personal y colectivo\, reuniendo a cineastas\, músicos y creadores de todo el mundo. \nEl evento se celebrará del 25 al 31 de mayo de 2026 en diferentes espacios de la isla\, como Boutique Hostal La Curandera de Salinas\, Fundación La Nave Salinas\, Juntos Farm y el Baluarte de Santa Lucía en Dalt Vila\, donde tendrá lugar la gala final. \nDurante varios días\, el festival ofrecerá proyecciones\, encuentros entre artistas y conversaciones abiertas al público\, en una propuesta que combina cine\, música y reflexión. \nInspirado en la memoria del actor Ray Stevenson\, ROLA pone el foco en historias que abordan la transformación\, la conexión humana y el crecimiento personal. \nUna cita cultural internacional que consolida a Ibiza como escenario de propuestas creativas que van más allá del entretenimiento.
URL:https://lavozdeibiza.com/event/ray-of-light-awards-2026-en-ibiza-festival-internacional-de-cine-y-transformacion/2026-05-29/
CATEGORIES:ARTE
ATTACH;FMTTYPE=image/jpeg:https://lavozdeibiza.com/wp-content/uploads/2026/04/Arola.jpg
END:VEVENT
BEGIN:VEVENT
DTSTART;TZID=Europe/Madrid:20260530T080000
DTEND;TZID=Europe/Madrid:20260530T220000
DTSTAMP:20260423T034618
CREATED:20260422T131527Z
LAST-MODIFIED:20260422T131527Z
UID:10026796-1780128000-1780178400@lavozdeibiza.com
SUMMARY:Ray of Light Awards 2026 en Ibiza: festival internacional de cine y transformación
DESCRIPTION:Ibiza acoge la segunda edición de Ray of Light Awards (ROLA)\, un festival internacional que apuesta por el cine como motor de cambio personal y colectivo\, reuniendo a cineastas\, músicos y creadores de todo el mundo. \nEl evento se celebrará del 25 al 31 de mayo de 2026 en diferentes espacios de la isla\, como Boutique Hostal La Curandera de Salinas\, Fundación La Nave Salinas\, Juntos Farm y el Baluarte de Santa Lucía en Dalt Vila\, donde tendrá lugar la gala final. \nDurante varios días\, el festival ofrecerá proyecciones\, encuentros entre artistas y conversaciones abiertas al público\, en una propuesta que combina cine\, música y reflexión. \nInspirado en la memoria del actor Ray Stevenson\, ROLA pone el foco en historias que abordan la transformación\, la conexión humana y el crecimiento personal. \nUna cita cultural internacional que consolida a Ibiza como escenario de propuestas creativas que van más allá del entretenimiento.
URL:https://lavozdeibiza.com/event/ray-of-light-awards-2026-en-ibiza-festival-internacional-de-cine-y-transformacion/2026-05-30/
CATEGORIES:ARTE
ATTACH;FMTTYPE=image/jpeg:https://lavozdeibiza.com/wp-content/uploads/2026/04/Arola.jpg
END:VEVENT
BEGIN:VEVENT
DTSTART;TZID=Europe/Madrid:20260531T080000
DTEND;TZID=Europe/Madrid:20260531T220000
DTSTAMP:20260423T034618
CREATED:20260422T131527Z
LAST-MODIFIED:20260422T131527Z
UID:10026797-1780214400-1780264800@lavozdeibiza.com
SUMMARY:Ray of Light Awards 2026 en Ibiza: festival internacional de cine y transformación
DESCRIPTION:Ibiza acoge la segunda edición de Ray of Light Awards (ROLA)\, un festival internacional que apuesta por el cine como motor de cambio personal y colectivo\, reuniendo a cineastas\, músicos y creadores de todo el mundo. \nEl evento se celebrará del 25 al 31 de mayo de 2026 en diferentes espacios de la isla\, como Boutique Hostal La Curandera de Salinas\, Fundación La Nave Salinas\, Juntos Farm y el Baluarte de Santa Lucía en Dalt Vila\, donde tendrá lugar la gala final. \nDurante varios días\, el festival ofrecerá proyecciones\, encuentros entre artistas y conversaciones abiertas al público\, en una propuesta que combina cine\, música y reflexión. \nInspirado en la memoria del actor Ray Stevenson\, ROLA pone el foco en historias que abordan la transformación\, la conexión humana y el crecimiento personal. \nUna cita cultural internacional que consolida a Ibiza como escenario de propuestas creativas que van más allá del entretenimiento.
URL:https://lavozdeibiza.com/event/ray-of-light-awards-2026-en-ibiza-festival-internacional-de-cine-y-transformacion/2026-05-31/
CATEGORIES:ARTE
ATTACH;FMTTYPE=image/jpeg:https://lavozdeibiza.com/wp-content/uploads/2026/04/Arola.jpg
END:VEVENT
END:VCALENDAR