BEGIN:VCALENDAR
VERSION:2.0
PRODID:-//La Voz De Ibiza - ECPv6.15.20//NONSGML v1.0//EN
CALSCALE:GREGORIAN
METHOD:PUBLISH
X-WR-CALNAME:La Voz De Ibiza
X-ORIGINAL-URL:https://lavozdeibiza.com
X-WR-CALDESC:Eventos para La Voz De Ibiza
REFRESH-INTERVAL;VALUE=DURATION:PT1H
X-Robots-Tag:noindex
X-PUBLISHED-TTL:PT1H
BEGIN:VTIMEZONE
TZID:Europe/Madrid
BEGIN:DAYLIGHT
TZOFFSETFROM:+0100
TZOFFSETTO:+0200
TZNAME:CEST
DTSTART:20250330T010000
END:DAYLIGHT
BEGIN:STANDARD
TZOFFSETFROM:+0200
TZOFFSETTO:+0100
TZNAME:CET
DTSTART:20251026T010000
END:STANDARD
BEGIN:DAYLIGHT
TZOFFSETFROM:+0100
TZOFFSETTO:+0200
TZNAME:CEST
DTSTART:20260329T010000
END:DAYLIGHT
BEGIN:STANDARD
TZOFFSETFROM:+0200
TZOFFSETTO:+0100
TZNAME:CET
DTSTART:20261025T010000
END:STANDARD
BEGIN:DAYLIGHT
TZOFFSETFROM:+0100
TZOFFSETTO:+0200
TZNAME:CEST
DTSTART:20270328T010000
END:DAYLIGHT
BEGIN:STANDARD
TZOFFSETFROM:+0200
TZOFFSETTO:+0100
TZNAME:CET
DTSTART:20271031T010000
END:STANDARD
END:VTIMEZONE
BEGIN:VEVENT
DTSTART;TZID=Europe/Madrid:20260425T100000
DTEND;TZID=Europe/Madrid:20260425T200000
DTSTAMP:20260423T044503
CREATED:20260422T144334Z
LAST-MODIFIED:20260422T144334Z
UID:10026803-1777111200-1777147200@lavozdeibiza.com
SUMMARY:Exposición “Veus del Sud” de Maria Antònia Barceló
DESCRIPTION:La artista mallorquina Maria Antònia Barceló presenta “Veus del Sud” dentro de la Ruta d’Art Eivissa 2026\, una muestra con un fuerte contenido social inspirada en la labor de la Fundación Vicente Ferrer. \nLa exposición se podrá visitar el 25 de abril de 2026 de 10:00 a 20:00 horas y el 26 de abril de 2026 de 10:00 a 14:00 horas en el Casino des Moll (Ibiza). \nUna propuesta artística que transforma el arte en una herramienta de conciencia y conexión con realidades sociales.
URL:https://lavozdeibiza.com/event/exposicion-veus-del-sud-de-maria-antonia-barcelo/2026-04-25/
LOCATION:Casino des Moll\, Barcelona N°1\, Ibiza\, Islas Baleares\, Spain
CATEGORIES:ARTE
ATTACH;FMTTYPE=image/jpeg:https://lavozdeibiza.com/wp-content/uploads/2026/04/veusdelsud.jpg
END:VEVENT
BEGIN:VEVENT
DTSTART;TZID=Europe/Madrid:20260426T100000
DTEND;TZID=Europe/Madrid:20260426T140000
DTSTAMP:20260423T044503
CREATED:20260422T144334Z
LAST-MODIFIED:20260422T144334Z
UID:10026804-1777197600-1777212000@lavozdeibiza.com
SUMMARY:Exposición “Veus del Sud” de Maria Antònia Barceló
DESCRIPTION:La artista mallorquina Maria Antònia Barceló presenta “Veus del Sud” dentro de la Ruta d’Art Eivissa 2026\, una muestra con un fuerte contenido social inspirada en la labor de la Fundación Vicente Ferrer. \nLa exposición se podrá visitar el 25 de abril de 2026 de 10:00 a 20:00 horas y el 26 de abril de 2026 de 10:00 a 14:00 horas en el Casino des Moll (Ibiza). \nUna propuesta artística que transforma el arte en una herramienta de conciencia y conexión con realidades sociales.
URL:https://lavozdeibiza.com/event/exposicion-veus-del-sud-de-maria-antonia-barcelo/2026-04-26/
LOCATION:Casino des Moll\, Barcelona N°1\, Ibiza\, Islas Baleares\, Spain
CATEGORIES:ARTE
ATTACH;FMTTYPE=image/jpeg:https://lavozdeibiza.com/wp-content/uploads/2026/04/veusdelsud.jpg
END:VEVENT
END:VCALENDAR