BEGIN:VCALENDAR
VERSION:2.0
PRODID:-//La Voz De Ibiza - ECPv6.15.20//NONSGML v1.0//EN
CALSCALE:GREGORIAN
METHOD:PUBLISH
X-WR-CALNAME:La Voz De Ibiza
X-ORIGINAL-URL:https://lavozdeibiza.com
X-WR-CALDESC:Eventos para La Voz De Ibiza
REFRESH-INTERVAL;VALUE=DURATION:PT1H
X-Robots-Tag:noindex
X-PUBLISHED-TTL:PT1H
BEGIN:VTIMEZONE
TZID:Europe/Madrid
BEGIN:DAYLIGHT
TZOFFSETFROM:+0100
TZOFFSETTO:+0200
TZNAME:CEST
DTSTART:20250330T010000
END:DAYLIGHT
BEGIN:STANDARD
TZOFFSETFROM:+0200
TZOFFSETTO:+0100
TZNAME:CET
DTSTART:20251026T010000
END:STANDARD
BEGIN:DAYLIGHT
TZOFFSETFROM:+0100
TZOFFSETTO:+0200
TZNAME:CEST
DTSTART:20260329T010000
END:DAYLIGHT
BEGIN:STANDARD
TZOFFSETFROM:+0200
TZOFFSETTO:+0100
TZNAME:CET
DTSTART:20261025T010000
END:STANDARD
BEGIN:DAYLIGHT
TZOFFSETFROM:+0100
TZOFFSETTO:+0200
TZNAME:CEST
DTSTART:20270328T010000
END:DAYLIGHT
BEGIN:STANDARD
TZOFFSETFROM:+0200
TZOFFSETTO:+0100
TZNAME:CET
DTSTART:20271031T010000
END:STANDARD
END:VTIMEZONE
BEGIN:VEVENT
DTSTART;TZID=Europe/Madrid:20260425T100000
DTEND;TZID=Europe/Madrid:20260425T200000
DTSTAMP:20260423T055353
CREATED:20260422T144657Z
LAST-MODIFIED:20260422T144657Z
UID:10026805-1777111200-1777147200@lavozdeibiza.com
SUMMARY:Instalación artística “Soperas y paraguas” en Vara de Rey\, arte en la calle en Ibiza
DESCRIPTION:La Ruta d’Art Eivissa 2026 lleva el arte al espacio público con la instalación colectiva “Soperas y paraguas”\, una original propuesta que transforma objetos cotidianos en piezas artísticas intervenidas por creadores mediterráneos. \nLa instalación se podrá visitar el 25 de abril de 2026 de 10:00 a 20:00 horas y el 26 de abril de 2026 de 10:00 a 18:00 horas en el Passeig de Vara de Rey (Ibiza). \nUna intervención urbana que acerca el arte contemporáneo a todos los públicos en pleno centro de la ciudad.
URL:https://lavozdeibiza.com/event/instalacion-artistica-soperas-y-paraguas-en-vara-de-rey-arte-en-la-calle-en-ibiza/2026-04-25/
LOCATION:Paseo Vara del Rey\, Vara del Rey\, Ibiza\, Islas Baleares\, 07800\, Spain
CATEGORIES:ARTE
ATTACH;FMTTYPE=image/jpeg:https://lavozdeibiza.com/wp-content/uploads/2026/04/dart.jpg
END:VEVENT
BEGIN:VEVENT
DTSTART;TZID=Europe/Madrid:20260426T100000
DTEND;TZID=Europe/Madrid:20260426T180000
DTSTAMP:20260423T055353
CREATED:20260422T144657Z
LAST-MODIFIED:20260422T144657Z
UID:10026806-1777197600-1777226400@lavozdeibiza.com
SUMMARY:Instalación artística “Soperas y paraguas” en Vara de Rey\, arte en la calle en Ibiza
DESCRIPTION:La Ruta d’Art Eivissa 2026 lleva el arte al espacio público con la instalación colectiva “Soperas y paraguas”\, una original propuesta que transforma objetos cotidianos en piezas artísticas intervenidas por creadores mediterráneos. \nLa instalación se podrá visitar el 25 de abril de 2026 de 10:00 a 20:00 horas y el 26 de abril de 2026 de 10:00 a 18:00 horas en el Passeig de Vara de Rey (Ibiza). \nUna intervención urbana que acerca el arte contemporáneo a todos los públicos en pleno centro de la ciudad.
URL:https://lavozdeibiza.com/event/instalacion-artistica-soperas-y-paraguas-en-vara-de-rey-arte-en-la-calle-en-ibiza/2026-04-26/
LOCATION:Paseo Vara del Rey\, Vara del Rey\, Ibiza\, Islas Baleares\, 07800\, Spain
CATEGORIES:ARTE
ATTACH;FMTTYPE=image/jpeg:https://lavozdeibiza.com/wp-content/uploads/2026/04/dart.jpg
END:VEVENT
END:VCALENDAR