BEGIN:VCALENDAR
VERSION:2.0
PRODID:-//La Voz De Ibiza - ECPv6.15.20//NONSGML v1.0//EN
CALSCALE:GREGORIAN
METHOD:PUBLISH
X-WR-CALNAME:La Voz De Ibiza
X-ORIGINAL-URL:https://lavozdeibiza.com
X-WR-CALDESC:Eventos para La Voz De Ibiza
REFRESH-INTERVAL;VALUE=DURATION:PT1H
X-Robots-Tag:noindex
X-PUBLISHED-TTL:PT1H
BEGIN:VTIMEZONE
TZID:Europe/Madrid
BEGIN:DAYLIGHT
TZOFFSETFROM:+0100
TZOFFSETTO:+0200
TZNAME:CEST
DTSTART:20250330T010000
END:DAYLIGHT
BEGIN:STANDARD
TZOFFSETFROM:+0200
TZOFFSETTO:+0100
TZNAME:CET
DTSTART:20251026T010000
END:STANDARD
BEGIN:DAYLIGHT
TZOFFSETFROM:+0100
TZOFFSETTO:+0200
TZNAME:CEST
DTSTART:20260329T010000
END:DAYLIGHT
BEGIN:STANDARD
TZOFFSETFROM:+0200
TZOFFSETTO:+0100
TZNAME:CET
DTSTART:20261025T010000
END:STANDARD
BEGIN:DAYLIGHT
TZOFFSETFROM:+0100
TZOFFSETTO:+0200
TZNAME:CEST
DTSTART:20270328T010000
END:DAYLIGHT
BEGIN:STANDARD
TZOFFSETFROM:+0200
TZOFFSETTO:+0100
TZNAME:CET
DTSTART:20271031T010000
END:STANDARD
END:VTIMEZONE
BEGIN:VEVENT
DTSTART;TZID=Europe/Madrid:20260418T130000
DTEND;TZID=Europe/Madrid:20260418T160000
DTSTAMP:20260422T055402
CREATED:20260413T161516Z
LAST-MODIFIED:20260413T161516Z
UID:10026162-1776517200-1776528000@lavozdeibiza.com
SUMMARY:Dunes Ibiza Opening Party 2026: fiesta gratuita 
DESCRIPTION:El beach club Dunes Ibiza inaugura la temporada 2026 con su Opening Party con un formato diurno que combina música\, ambiente relajado y espíritu mediterráneo. \n\n\n\n\nLa jornada con entrada gratuita contará con sesiones de Abel Pons y Dirty Hands\, en una propuesta centrada en el house y los sonidos electrónicos accesibles. El evento mantiene el estilo desenfadado del venue\, ideal para disfrutar desde el día hasta la noche junto al mar.
URL:https://lavozdeibiza.com/event/dunes-ibiza-opening-party-2026-fiesta-gratuita/
LOCATION:Dunes Music Club Ibiza\, Ctra. de Platja d’en Bossa\, 07817 Sant Josep de sa Talaia\, Illes Balears\, Ibiza\, Spain
CATEGORIES:OCIO
ATTACH;FMTTYPE=image/jpeg:https://lavozdeibiza.com/wp-content/uploads/2026/04/Dunes-Ibiza.-Archivo.jpg
END:VEVENT
END:VCALENDAR