BEGIN:VCALENDAR
VERSION:2.0
PRODID:-//La Voz De Ibiza - ECPv6.15.20//NONSGML v1.0//EN
CALSCALE:GREGORIAN
METHOD:PUBLISH
X-ORIGINAL-URL:https://lavozdeibiza.com
X-WR-CALDESC:Eventos para La Voz De Ibiza
REFRESH-INTERVAL;VALUE=DURATION:PT1H
X-Robots-Tag:noindex
X-PUBLISHED-TTL:PT1H
BEGIN:VTIMEZONE
TZID:Europe/Madrid
BEGIN:DAYLIGHT
TZOFFSETFROM:+0100
TZOFFSETTO:+0200
TZNAME:CEST
DTSTART:20250330T010000
END:DAYLIGHT
BEGIN:STANDARD
TZOFFSETFROM:+0200
TZOFFSETTO:+0100
TZNAME:CET
DTSTART:20251026T010000
END:STANDARD
BEGIN:DAYLIGHT
TZOFFSETFROM:+0100
TZOFFSETTO:+0200
TZNAME:CEST
DTSTART:20260329T010000
END:DAYLIGHT
BEGIN:STANDARD
TZOFFSETFROM:+0200
TZOFFSETTO:+0100
TZNAME:CET
DTSTART:20261025T010000
END:STANDARD
BEGIN:DAYLIGHT
TZOFFSETFROM:+0100
TZOFFSETTO:+0200
TZNAME:CEST
DTSTART:20270328T010000
END:DAYLIGHT
BEGIN:STANDARD
TZOFFSETFROM:+0200
TZOFFSETTO:+0100
TZNAME:CET
DTSTART:20271031T010000
END:STANDARD
END:VTIMEZONE
BEGIN:VEVENT
DTSTART;VALUE=DATE:20260423
DTEND;VALUE=DATE:20260424
DTSTAMP:20260422T035526
CREATED:20260420T115832Z
LAST-MODIFIED:20260420T115832Z
UID:10026597-1776902400-1776988799@lavozdeibiza.com
SUMMARY:Edicions Aïllades celebra el Día del Libro con firmas de autores y actividades literarias
DESCRIPTION:Edicions Aïllades celebra el Día del Libro con una programación especial que conecta las cuatro islas baleares\, aunque uno de los momentos centrales tendrá lugar en Ibiza con una gran firma colectiva de autores en el Passeig de Vara de Rey. \n\n\n\n\nEn este encuentro participarán destacados escritores de la editorial como Toni Roca\, Ramon Mayol\, Pere Vilàs y el equipo de Lletres Pitiüses\, en una cita abierta al público que convierte el corazón de la ciudad en un punto de encuentro literario. \n\nLa jornada forma parte de una iniciativa más amplia con presentaciones y firmas en Menorca\, Mallorca y Formentera\, reforzando el diálogo cultural entre islas y poniendo en valor la literatura de las Pitiüses. Edicions Aïllades\, con más de una década de trayectoria\, se consolida así como un referente en la difusión de autores locales y la dinamización cultural del archipiélago.
URL:https://lavozdeibiza.com/event/edicions-aillades-celebra-el-dia-del-libro-con-firmas-de-autores-y-actividades-literarias/
LOCATION:Ibiza\, Ibiza\, Islas Baleares\, 07800\, Spain
CATEGORIES:CULTURA Y SOCIEDAD
ATTACH;FMTTYPE=image/jpeg:https://lavozdeibiza.com/wp-content/uploads/2026/04/a-8.jpg
END:VEVENT
BEGIN:VEVENT
DTSTART;TZID=Europe/Madrid:20260423T080000
DTEND;TZID=Europe/Madrid:20260423T080000
DTSTAMP:20260422T035526
CREATED:20260317T124101Z
LAST-MODIFIED:20260317T124101Z
UID:10023178-1776931200-1776931200@lavozdeibiza.com
SUMMARY:Bridges For Music IMS Ibiza Cycle 2026
DESCRIPTION:La iniciativa solidaria Bridges For Music IMS Ibiza Cycle regresa a la International Music Summit con una ruta ciclista benéfica de 100 kilómetros por la isla de Ibiza. \n\n\n\n\nEl evento reúne a artistas\, profesionales de la industria musical\, deportistas y ciclistas aficionados con el objetivo de recaudar fondos para programas educativos y becas musicales destinados a jóvenes de comunidades desfavorecidas en Sudáfrica. \n\nEntre los participantes confirmados se encuentran la DJ y productora Miss Monique\, el exciclista profesional Taylor Phinney y el cinco veces campeón del mundo de ciclocrós Zdenek Stybar. \nLos participantes contarán con equipamiento exclusivo\, guías profesionales y asistencia mecánica\, además de acceso gratuito a la conferencia IMS en Cala Llonga y a su evento final en Dalt Vila. \n\n\n\n\n\nLa iniciativa forma parte del trabajo de la fundación Bridges for Music\, que utiliza la música como herramienta de transformación social mediante programas educativos y de desarrollo creativo para jóvenes con menos oportunidades. \n\n\n\n\nRecorrido por Ibiza con actividades vinculadas a la International Music Summit en Cala Llonga y celebración final en Dalt Vila
URL:https://lavozdeibiza.com/event/bridges-for-music-ims-ibiza-cycle-2026/
LOCATION:Ibiza\, Ibiza\, Islas Baleares\, 07800\, Spain
CATEGORIES:BIENESTAR Y DEPORTE
ATTACH;FMTTYPE=image/jpeg:https://lavozdeibiza.com/wp-content/uploads/2026/03/IMS-IBIZA-team-celebration.jpg
END:VEVENT
BEGIN:VEVENT
DTSTART;TZID=Europe/Madrid:20260423T100000
DTEND;TZID=Europe/Madrid:20260423T200000
DTSTAMP:20260422T035526
CREATED:20260420T134147Z
LAST-MODIFIED:20260420T134147Z
UID:10026625-1776938400-1776974400@lavozdeibiza.com
SUMMARY:Sant Jordi 2026 en Ibiza: libros\, firmas\, talleres y actividades en Vara de Rey
DESCRIPTION:Ibiza celebra la Diada de Sant Jordi 2026 con una jornada llena de cultura en el paseo de s’Alamera\, donde no faltarán libros\, rosas y actividades para todos los públicos. \n\n\n\n\nDurante todo el día habrá venta de libros con descuento\, firmas de novedades editoriales y una biblioteca en la calle. Además\, por la mañana (de 10:00 a 14:00 h) se organizarán talleres infantiles y familiares. \n\nLa programación incluye un cuentacuentos a las 17:00 h\, seguido de baile payés con la Colla de Vila a las 19:00 h y la Colla de sa Bodega a las 20:00 h\, poniendo el broche final a una jornada festiva que combina literatura\, tradición y música en el corazón de la ciudad. \nUna cita imprescindible para disfrutar del ambiente de Sant Jordi en Ibiza entre libros\, cultura y actividades para toda la familia.
URL:https://lavozdeibiza.com/event/sant-jordi-2026-en-ibiza-libros-firmas-talleres-y-actividades-en-vara-de-rey/
LOCATION:Ibiza\, Ibiza\, Islas Baleares\, 07800\, Spain
CATEGORIES:CULTURA Y SOCIEDAD
ATTACH;FMTTYPE=image/jpeg:https://lavozdeibiza.com/wp-content/uploads/2026/04/dia-del-libro.jpg
END:VEVENT
BEGIN:VEVENT
DTSTART;TZID=Europe/Madrid:20260423T200000
DTEND;TZID=Europe/Madrid:20260423T230000
DTSTAMP:20260422T035526
CREATED:20260421T152605Z
LAST-MODIFIED:20260421T152605Z
UID:10026678-1776974400-1776985200@lavozdeibiza.com
SUMMARY:IMS Ibiza 2026: Flamenca con STBAN y Nicole Fiallo en Plaza del Parque
DESCRIPTION:El International Music Summit arranca su programación en la ciudad de Ibiza con un evento gratuito al aire libre que combina tradición y vanguardia musical. \n\n\n\n\n“Flamenca” propone una fusión de flamenco electrónico\, latin house y tech house\, acercando la cultura clubbing a un entorno urbano y accesible para todos los públicos. \n\nLa cita contará con las actuaciones de Nicole Fiallo y STBAN\, dos artistas que destacan por su capacidad de mezclar raíces musicales con sonidos contemporáneos\, creando una experiencia dinámica y bailable. \nEste evento se presenta como una de las propuestas más abiertas del IMS\, llevando la música electrónica fuera de los espacios habituales y conectando con residentes y visitantes en pleno corazón de Ibiza.
URL:https://lavozdeibiza.com/event/ims-ibiza-2026-flamenca-con-stban-y-nicole-fiallo-en-plaza-del-parque/
LOCATION:Ibiza\, Ibiza\, Islas Baleares\, 07800\, Spain
CATEGORIES:MÚSICA
ATTACH;FMTTYPE=image/jpeg:https://lavozdeibiza.com/wp-content/uploads/2026/04/Flamenca.jpg
END:VEVENT
BEGIN:VEVENT
DTSTART;VALUE=DATE:20260424
DTEND;VALUE=DATE:20260425
DTSTAMP:20260422T035526
CREATED:20260327T125733Z
LAST-MODIFIED:20260327T125733Z
UID:10023933-1776988800-1777075199@lavozdeibiza.com
SUMMARY:Talleres medioambientales sobre el uso responsable del agua en Can Casals
DESCRIPTION:El Ayuntamiento de Ibiza y Aqualia organizan el programa educativo “Descubrimos y cuidamos el agua”\, una iniciativa dirigida a alumnado de 1º y 2º de Primaria para fomentar la conciencia ambiental y el uso responsable de este recurso esencial. \n\n\n\n\nLos talleres combinan actividades prácticas y experimentales para acercar a los niños al ciclo del agua\, el consumo cotidiano y la prevención de la contaminación. \n\nLa actividad se enmarca en la campaña “Cuida cada gota\, Eivissa lo nota” y propone un aprendizaje dinámico y participativo alineado con los Objetivos de Desarrollo Sostenible. \nLugar: Espacio municipal de Can Casals (Eivissa)
URL:https://lavozdeibiza.com/event/talleres-medioambientales-sobre-el-uso-responsable-del-agua-en-can-casals/2026-04-24/
LOCATION:Ibiza\, Ibiza\, Islas Baleares\, 07800\, Spain
CATEGORIES:FORMACIÓN Y TALLERES
ATTACH;FMTTYPE=image/jpeg:https://lavozdeibiza.com/wp-content/uploads/2026/03/DiaMundialAigua.jpeg
END:VEVENT
BEGIN:VEVENT
DTSTART;TZID=Europe/Madrid:20260424T210000
DTEND;TZID=Europe/Madrid:20260424T210000
DTSTAMP:20260422T035526
CREATED:20260410T131512Z
LAST-MODIFIED:20260410T131512Z
UID:10026096-1777064400-1777064400@lavozdeibiza.com
SUMMARY:‘Tinder Sorpresa’ de Andreu Casanova en el Teatro Pereyra
DESCRIPTION:El cómico Andreu Casanova regresa al Teatro Pereyra con su exitoso monólogo Tinder Sorpresa\, un show que ya ha conquistado a miles de espectadores en toda España. \n\n\n\n\nCon un estilo directo\, irreverente y muy actual\, el humorista propone un recorrido por el mundo de las aplicaciones para ligar\, abordando con ironía temas como el ghosting\, los “matches” o las citas más surrealistas. \n\nUn espectáculo divertido\, desenfadado y sin filtros\, recomendado para mayores de 16 años\, ideal para reírse tanto si estás soltero como en pareja.
URL:https://lavozdeibiza.com/event/tinder-sorpresa-de-andreu-casanova-en-el-teatro-pereyra/
LOCATION:Ibiza\, Ibiza\, Islas Baleares\, 07800\, Spain
CATEGORIES:CIENCIA Y TECNOLOGÍA
ATTACH;FMTTYPE=image/jpeg:https://lavozdeibiza.com/wp-content/uploads/2026/04/ts.jpg
END:VEVENT
BEGIN:VEVENT
DTSTART;TZID=Europe/Madrid:20260425T090000
DTEND;TZID=Europe/Madrid:20260425T090000
DTSTAMP:20260422T035526
CREATED:20251117T164933Z
LAST-MODIFIED:20251117T165445Z
UID:10008127-1777107600-1777107600@lavozdeibiza.com
SUMMARY:Rutas de Cicloturismo Ibiza 2025–2026 Ibiza y Formentera
DESCRIPTION:Fechas: Ibiza: Del domingo 23 de noviembre de 2025 al domingo 12 de abril de 2026 \n\n\n\n\nFormentera: Sábado 25 y domingo 26 de abril de 2026 \n\nActividad gratuita con inscripción previa \nEl Ayuntamiento de Ibiza organiza el programa oficial Rutas de Cicloturismo 2025–2026\, un ciclo de nueve itinerarios pensados para descubrir la isla a través de recorridos guiados\, paisajes emblemáticos y niveles adaptados a ciclistas a partir de 12 años. La propuesta culmina con dos jornadas especiales en Formentera. \n\n\n\n\n\nCalendario de rutas\nRuta 1 – Ses Salines: 27 km\, dificultad fácil – Dom. 23 noviembre 2025 \n\n\n\n\nRuta 2 – Es Codolar: 28 km\, dificultad fácil – Dom. 7 diciembre 2025 \n\n\n\n\nRuta 3 – Santa Gertrudis: 26 km\, 300 m desnivel\, dificultad fácil – Dom. 11 enero 2026 \nRuta 4 – Sant Rafel: 22 km\, 473 m desnivel\, dificultad media en una subida – Dom. 25 enero 2026 \nRuta 5 – Es Broll de Buscastell: 50 km\, 600 m desnivel\, jornada completa\, dificultad media – Dom. 8 febrero 2026 \nRuta 6 – Sant Miquel: 45 km\, 600 m desnivel\, jornada completa\, dificultad media – Dom. 15 marzo 2026 \nRuta 7 – Infern (Sa Serra Grossa): 30 km\, 400 m desnivel\, dificultad media con tramos técnicos – Dom. 22 marzo 2026 \nRuta 8 – Sant Josep: 45 km\, 420 m desnivel\, jornada completa\, dificultad media – Dom. 12 abril 2026 \nRuta 9 – Formentera: Dos etapas – Sáb. 25 y dom. 26 abril 2026 \nHorarios\nLas rutas parten normalmente a las 09:00 h\, tanto las de media distancia como las de jornada completa. Las rutas largas se extienden hasta la tarde\, con paradas programadas. La ruta de Formentera ajusta su horario a los trayectos marítimos. \nSobre el programa\nEl objetivo es fomentar hábitos saludables\, impulsar el uso de la bicicleta y promover el patrimonio natural y cultural de la isla. Todos los recorridos están guiados por monitores especializados y combinan tramos urbanos y rurales con subidas moderadas y descensos controlados. \nLa inscripción es gratuita y debe realizarse a través del Patronato de Deportes del Ayuntamiento de Ibiza. \nUn plan ideal para disfrutar del deporte al aire libre y descubrir los rincones más auténticos de Ibiza y Formentera.
URL:https://lavozdeibiza.com/event/rutas-de-cicloturismo-ibiza-2025-2026-ibiza-y-formentera/2026-04-25/
LOCATION:Ibiza\, Ibiza\, Islas Baleares\, 07800\, Spain
CATEGORIES:BIENESTAR Y DEPORTE
ATTACH;FMTTYPE=image/jpeg:https://lavozdeibiza.com/wp-content/uploads/2025/11/cicloturismo.jpg
END:VEVENT
BEGIN:VEVENT
DTSTART;TZID=Europe/Madrid:20260425T180000
DTEND;TZID=Europe/Madrid:20260425T180000
DTSTAMP:20260422T035526
CREATED:20260417T121327Z
LAST-MODIFIED:20260417T122557Z
UID:10026370-1777140000-1777140000@lavozdeibiza.com
SUMMARY:VÉLOUR Rodeo Edition en The Standard Ibiza: cena\, música y glamour
DESCRIPTION:The Standard Ibiza acoge una nueva edición de VÉLOUR\, una experiencia que combina cena\, música en directo y ambiente sofisticado en una de las noches más glamurosas de la isla. \n\n\n\n\nBajo el concepto Rodeo Edition\, la velada arranca en el restaurante Jara con una selección musical a cargo de MS MTNEZ B2B Huvinbeat\, y continúa con la actuación en directo de Bruno Fonte junto a un invitado especial. \n\nLa experiencia incluye gastronomía\, moda\, sorpresas durante la noche y colaboraciones con marcas\, en un entorno cuidado al detalle. \nTras la cena\, la fiesta se traslada a The Green Room\, el club privado del hotel\, donde la DJ Sarah Rey pondrá el broche final hasta bien entrada la noche. \n\n\n\n\n\nUna cita mensual pensada para disfrutar de una noche elegante\, diferente y llena de estilo en Ibiza.
URL:https://lavozdeibiza.com/event/velour-rodeo-edition-en-the-standard-ibiza-cena-musica-y-glamour/
LOCATION:Ibiza\, Ibiza\, Islas Baleares\, 07800\, Spain
CATEGORIES:GASTRONOMÍA Y RESTAURACIÓN,MÚSICA
ATTACH;FMTTYPE=image/jpeg:https://lavozdeibiza.com/wp-content/uploads/2026/04/velour.jpg
END:VEVENT
BEGIN:VEVENT
DTSTART;TZID=Europe/Madrid:20260428T160000
DTEND;TZID=Europe/Madrid:20260428T173000
DTSTAMP:20260422T035526
CREATED:20260227T112042Z
LAST-MODIFIED:20260227T112042Z
UID:10019610-1777392000-1777397400@lavozdeibiza.com
SUMMARY:Club de lectura infantil en Ses Figueretes
DESCRIPTION:Fechas: Todos los martes hasta el 26 de mayo de 2026 \n\n\n\n\nHorario: De 16:00 a 17:30 horas \n\nLugar: Biblioteca de Ses Figueretes\, Ibiza \nPrecio: Gratuito \n\n\n\n\n\nLa Biblioteca de Ses Figueretes acoge un club de lectura infantil dirigido a niños y niñas a partir de 6 años\, una propuesta pensada para fomentar el hábito lector desde edades tempranas en un entorno dinámico y participativo. \n\n\n\n\nImpulsado por la asociación de vecinos y con dinamización a cargo de MaritzaTejecuentos\, el club ofrece un espacio accesible y educativo donde los más pequeños podrán compartir lecturas\, desarrollar la comprensión lectora y disfrutar de los libros en grupo.
URL:https://lavozdeibiza.com/event/club-de-lectura-infantil-en-ses-figueretes/2026-04-28/
LOCATION:Ibiza\, Ibiza\, Islas Baleares\, 07800\, Spain
CATEGORIES:CULTURA Y SOCIEDAD,EVENTOS FAMILIARES
ATTACH;FMTTYPE=image/jpeg:https://lavozdeibiza.com/wp-content/uploads/2026/02/lectura.jpg
END:VEVENT
BEGIN:VEVENT
DTSTART;TZID=Europe/Madrid:20260509T090000
DTEND;TZID=Europe/Madrid:20260509T150000
DTSTAMP:20260422T035526
CREATED:20260331T100448Z
LAST-MODIFIED:20260331T100448Z
UID:10024071-1778317200-1778338800@lavozdeibiza.com
SUMMARY:V Torneo Golf Contra el Cáncer
DESCRIPTION:La Asociación Ibiza y Formentera Contra el Cáncer (IFCC) celebra la quinta edición de su torneo solidario de golf\, una cita ya consolidada en el calendario de eventos benéficos de la isla. \n\n\n\n\nEl objetivo es recaudar fondos para apoyar a pacientes oncológicos de Ibiza y Formentera. \n\nEl evento reunirá a decenas de participantes en una jornada deportiva que culminará con la entrega de premios en distintas categorías y una rifa solidaria con regalos donados por empresas locales. Además\, contará con actividades complementarias como música en directo\, gastronomía y propuestas de ocio. \nDestaca el carácter solidario de la iniciativa\, que el año pasado logró recaudar 12.000 euros\, y el ambiente festivo que combina deporte\, compromiso social y entretenimiento en un entorno único. \n\n\n\n\n\n Lugar: Golf Ibiza
URL:https://lavozdeibiza.com/event/v-torneo-golf-contra-el-cancer/
LOCATION:Ibiza\, Ibiza\, Islas Baleares\, 07800\, Spain
CATEGORIES:BIENESTAR Y DEPORTE
ATTACH;FMTTYPE=image/jpeg:https://lavozdeibiza.com/wp-content/uploads/2026/03/torneo.jpg
END:VEVENT
END:VCALENDAR