BEGIN:VCALENDAR
VERSION:2.0
PRODID:-//La Voz De Ibiza - ECPv6.15.20//NONSGML v1.0//EN
CALSCALE:GREGORIAN
METHOD:PUBLISH
X-ORIGINAL-URL:https://lavozdeibiza.com
X-WR-CALDESC:Eventos para La Voz De Ibiza
REFRESH-INTERVAL;VALUE=DURATION:PT1H
X-Robots-Tag:noindex
X-PUBLISHED-TTL:PT1H
BEGIN:VTIMEZONE
TZID:Europe/Madrid
BEGIN:DAYLIGHT
TZOFFSETFROM:+0100
TZOFFSETTO:+0200
TZNAME:CEST
DTSTART:20250330T010000
END:DAYLIGHT
BEGIN:STANDARD
TZOFFSETFROM:+0200
TZOFFSETTO:+0100
TZNAME:CET
DTSTART:20251026T010000
END:STANDARD
BEGIN:DAYLIGHT
TZOFFSETFROM:+0100
TZOFFSETTO:+0200
TZNAME:CEST
DTSTART:20260329T010000
END:DAYLIGHT
BEGIN:STANDARD
TZOFFSETFROM:+0200
TZOFFSETTO:+0100
TZNAME:CET
DTSTART:20261025T010000
END:STANDARD
BEGIN:DAYLIGHT
TZOFFSETFROM:+0100
TZOFFSETTO:+0200
TZNAME:CEST
DTSTART:20270328T010000
END:DAYLIGHT
BEGIN:STANDARD
TZOFFSETFROM:+0200
TZOFFSETTO:+0100
TZNAME:CET
DTSTART:20271031T010000
END:STANDARD
END:VTIMEZONE
BEGIN:VEVENT
DTSTART;TZID=Europe/Madrid:20260503T183000
DTEND;TZID=Europe/Madrid:20260503T183000
DTSTAMP:20260422T075854
CREATED:20251029T153918Z
LAST-MODIFIED:20251029T153918Z
UID:10006129-1777833000-1777833000@lavozdeibiza.com
SUMMARY:Sueños\, espectáculo de tango y danza butoh de Armin Heinemann
DESCRIPTION:El creador escénico Armin Heinemann presenta “Sueños / Dreams / Träume”\, una fusión única de tango y danza butoh\, el domingo 2 de noviembre de 2025 a las 18:30 horas en el Palacio de Congresos de Ibiza\, en Santa Eulalia. \n\n\n\n\nLa obra reúne a la compañía Tango Amado\, liderada por Verónica Palacios y Omar Quiroga\, y a la bailarina Matilde Javier Ciria\, bajo la dirección de Heinemann. Con una sola función\, “Sueños” propone un viaje entre la pasión del tango y la introspección del butoh\, con un elenco que incluye a Nahuel Giacone\, Giovanni Corral y Florencia Hermida. \n\nLas entradas cuestan 25 euros y están casi agotadas. Una cita imprescindible para los amantes de la danza contemporánea y las artes escénicas de vanguardia. \nFecha: Domingo 2 de noviembre de 2025 \n\n\n\n\n\nHora: 18:30 \n\n\n\n\nLugar: Palacio de Congresos de Ibiza\, Santa Eulalia \n\n\n\n\nEntradas: 25 €
URL:https://lavozdeibiza.com/event/suenos-espectaculo-de-tango-y-danza-butoh-de-armin-heinemann/2026-05-03/
LOCATION:Palacio de Congresos de Ibiza\, Carrer Salvador Camacho\, 9-11\, Santa Eulalia del Río\, Islas Baleares\, Spain
CATEGORIES:ARTE,CULTURA Y SOCIEDAD
ATTACH;FMTTYPE=image/jpeg:https://lavozdeibiza.com/wp-content/uploads/2025/10/suenos.jpg
END:VEVENT
END:VCALENDAR