BEGIN:VCALENDAR
VERSION:2.0
PRODID:-//La Voz De Ibiza - ECPv6.15.20//NONSGML v1.0//EN
CALSCALE:GREGORIAN
METHOD:PUBLISH
X-ORIGINAL-URL:https://lavozdeibiza.com
X-WR-CALDESC:Eventos para La Voz De Ibiza
REFRESH-INTERVAL;VALUE=DURATION:PT1H
X-Robots-Tag:noindex
X-PUBLISHED-TTL:PT1H
BEGIN:VTIMEZONE
TZID:Europe/Madrid
BEGIN:DAYLIGHT
TZOFFSETFROM:+0100
TZOFFSETTO:+0200
TZNAME:CEST
DTSTART:20250330T010000
END:DAYLIGHT
BEGIN:STANDARD
TZOFFSETFROM:+0200
TZOFFSETTO:+0100
TZNAME:CET
DTSTART:20251026T010000
END:STANDARD
BEGIN:DAYLIGHT
TZOFFSETFROM:+0100
TZOFFSETTO:+0200
TZNAME:CEST
DTSTART:20260329T010000
END:DAYLIGHT
BEGIN:STANDARD
TZOFFSETFROM:+0200
TZOFFSETTO:+0100
TZNAME:CET
DTSTART:20261025T010000
END:STANDARD
BEGIN:DAYLIGHT
TZOFFSETFROM:+0100
TZOFFSETTO:+0200
TZNAME:CEST
DTSTART:20270328T010000
END:DAYLIGHT
BEGIN:STANDARD
TZOFFSETFROM:+0200
TZOFFSETTO:+0100
TZNAME:CET
DTSTART:20271031T010000
END:STANDARD
END:VTIMEZONE
BEGIN:VEVENT
DTSTART;TZID=Europe/Madrid:20260422T180000
DTEND;TZID=Europe/Madrid:20260422T180000
DTSTAMP:20260422T040332
CREATED:20260420T131231Z
LAST-MODIFIED:20260420T131231Z
UID:10026602-1776880800-1776880800@lavozdeibiza.com
SUMMARY:Sant Antoni celebra el Día del Libro con actividades\, firmas de autores y conciertos
DESCRIPTION:Sant Antoni de Portmany celebra el Día del Libro con una completa programación cultural para todos los públicos que se desarrollará durante tres días. \n\n\n\n\nEl miércoles 22 de abril\, las actividades comenzarán a las 18:00 h en la Biblioteca Municipal con el cuentacuentos “La rosa y el dragón”\, a cargo de Anakrónica\, con entrada libre hasta completar aforo. \n\nEl jueves 23 de abril\, Día de Sant Jordi\, la programación arrancará a las 17:30 h en la Biblioteca Municipal con una jornada dedicada a los libros y las rosas. Destaca un taller infantil de manualidades organizado por EducArte Ibiza\, dirigido a niños de 5 a 9 años\, que se prolongará hasta las 19:00 h y requiere inscripción previa. \nEl viernes 24 de abril será el día principal\, con actividades desde las 11:00 h en el Passeig de ses Fonts\, donde habrá puestos de venta de libros hasta las 20:00 h\, firmas de autores durante toda la jornada\, talleres para escolares por la mañana y actividades infantiles por la tarde. A las 17:30 h se entregarán los premios del VIII Concurso de Puntos de Libro y la jornada culminará con un concierto de Daniel Viloria a las 19:00 h. \n\n\n\n\n\nAdemás\, habrá actividades paralelas como el club de lectura con Toni Montserrat a las 18:00 h en el Centro Cultural Cervantes y visitas guiadas a la exposición del Archivo de la iglesia a las 11:00 h. \n\n\n\n\nUna programación variada que convierte Sant Antoni en un punto de referencia cultural en Ibiza con motivo del Día del Libro.
URL:https://lavozdeibiza.com/event/sant-antoni-celebra-el-dia-del-libro-con-actividades-firmas-de-autores-y-conciertos/2026-04-22/
LOCATION:Sant Antoni de Portmany\, Sant Antoni de Portmany\, Islas Baleares\, Spain
CATEGORIES:CULTURA Y SOCIEDAD
ATTACH;FMTTYPE=image/jpeg:https://lavozdeibiza.com/wp-content/uploads/2026/04/Libro-sant-jordi.jpg
END:VEVENT
BEGIN:VEVENT
DTSTART;TZID=Europe/Madrid:20260424T110000
DTEND;TZID=Europe/Madrid:20260424T130000
DTSTAMP:20260422T040332
CREATED:20260219T142434Z
LAST-MODIFIED:20260306T122120Z
UID:10021478-1777028400-1777035600@lavozdeibiza.com
SUMMARY:Curso ‘Connectats’ – Formación digital para personas mayores
DESCRIPTION:El Ayuntamiento de Sant Antoni de Portmany\, a través de la concejalía de Bienestar Social\, organiza una nueva edición del curso ‘Connectats’\, una iniciativa de formación digital dirigida a personas mayores que quieran aprender a utilizar su smartphone de forma práctica y segura. El curso\, impartido por la entidad Sueños de Ibiza\, tiene una duración total de 8 horas repartidas en cuatro sesiones. \n\n\n\n\nDurante las clases se trabajarán contenidos básicos como uso del móvil\, mensajería instantánea\, creación de correo electrónico\, aplicaciones móviles e introducción a Internet\, con un enfoque práctico para el día a día. \n\nFechas\, horarios y lugares:\nSant Antoni: viernes 27 de febrero\, 6\, 13 y 27 de marzo\, de 11:00 a 13:00 horas. \nSant Rafel: martes 24 de febrero\, 3\, 10 y 24 de marzo\, de 9:30 a 11:30 horas. \n\n\n\n\n\nSant Mateu: jueves 5\, 12\, 19 y 26 de marzo\, de 18:00 a 20:00 horas. \n\n\n\n\nLas plazas están limitadas a 15 participantes por grupo. Dirigido a mayores que dispongan de smartphone. \n\n\n\n\nInscripción previa en las asociaciones de personas mayores de cada localidad en las fechas indicadas por la organización.
URL:https://lavozdeibiza.com/event/curso-connectats-formacion-digital-para-personas-mayores/2026-04-24/
LOCATION:Sant Antoni de Portmany\, Sant Antoni de Portmany\, Islas Baleares\, Spain
CATEGORIES:FORMACIÓN Y TALLERES
ATTACH;FMTTYPE=image/jpeg:https://lavozdeibiza.com/wp-content/uploads/2026/02/foto.jpeg
END:VEVENT
BEGIN:VEVENT
DTSTART;TZID=Europe/Madrid:20260502T130000
DTEND;TZID=Europe/Madrid:20260503T010000
DTSTAMP:20260422T040332
CREATED:20260407T161638Z
LAST-MODIFIED:20260407T161638Z
UID:10024347-1777726800-1777770000@lavozdeibiza.com
SUMMARY:Sa Punta des Molí acoge Souvenir Ibiza: música\, cultura y gastronomía gratis
DESCRIPTION:Llega Souvenir Ibiza\, un nuevo evento al aire libre que combina música electrónica\, arte\, gastronomía y cultura en uno de los enclaves más emblemáticos de la isla. \n\n\n\n\nLa propuesta apuesta por crear comunidad en un formato abierto que conecta el ambiente diurno con la energía de la noche. \n\nEl evento reúne a numerosos artistas de la escena electrónica local e internacional\, con sesiones que acompañan toda la jornada\, desde la tarde hasta el atardecer y la madrugada. Además\, incluye mercado de vinilos\, charlas\, propuestas gastronómicas y talento local. \nUna experiencia diferente para disfrutar de Ibiza más allá del clubbing tradicional\, en un entorno único junto al mar. \n\n\n\n\n\nEntrada: gratuita \n\n\n\n\nLugar: Sa Punta des Molí\, Sant Antoni de Portmany
URL:https://lavozdeibiza.com/event/sa-punta-des-moli-acoge-souvenir-ibiza-musica-cultura-y-gastronomia-gratis/
LOCATION:Sant Antoni de Portmany\, Sant Antoni de Portmany\, Islas Baleares\, Spain
CATEGORIES:ARTE,GASTRONOMÍA Y RESTAURACIÓN,MÚSICA
ATTACH;FMTTYPE=image/png:https://lavozdeibiza.com/wp-content/uploads/2025/06/Sa-Punta-des-Moli-ibiza.-Archivo.png
END:VEVENT
BEGIN:VEVENT
DTSTART;TZID=Europe/Madrid:20260509T190000
DTEND;TZID=Europe/Madrid:20260509T190000
DTSTAMP:20260422T040332
CREATED:20260330T124634Z
LAST-MODIFIED:20260330T124634Z
UID:10023977-1778353200-1778353200@lavozdeibiza.com
SUMMARY:Gilby Clarke aterriza en Ibiza con Contrast 2026 en un evento único de rock y arte
DESCRIPTION:El festival Contrast Ibiza celebra su sexta edición con una cita destacada que reúne música y fotografía en un mismo evento. \n\n\n\n\nEl guitarrista Gilby Clarke\, conocido por su etapa en Guns N’ Roses\, ofrecerá un concierto único en España con clásicos del rock y temas de la banda. \n\nLa jornada contará también con la presencia del fotógrafo neoyorquino Allan Tannenbaum\, que expone por primera vez en España\, incluyendo imágenes icónicas como las últimas fotografías de John Lennon. \nEl cartel se completa con Kathy Valentine\, miembro de The Go Go’s\, que ofrecerá una sesión con clásicos del rock\, y el músico y actor Jimmy Barnatán. \n\n\n\n\n\nUna propuesta cultural al aire libre que combina música en directo y arte visual con entrada libre. \n\n\n\n\n Lugar: Sa Punta des Molí\, Sant Antoni
URL:https://lavozdeibiza.com/event/gilby-clarke-aterriza-en-ibiza-con-contrast-2026-en-un-evento-unico-de-rock-y-arte/
LOCATION:Sant Antoni de Portmany\, Sant Antoni de Portmany\, Islas Baleares\, Spain
CATEGORIES:ARTE,MÚSICA
ATTACH;FMTTYPE=image/jpeg:https://lavozdeibiza.com/wp-content/uploads/2026/03/contrast.jpg
END:VEVENT
BEGIN:VEVENT
DTSTART;TZID=Europe/Madrid:20260531T100000
DTEND;TZID=Europe/Madrid:20260531T100000
DTSTAMP:20260422T040332
CREATED:20260409T164646Z
LAST-MODIFIED:20260409T164646Z
UID:10024447-1780221600-1780221600@lavozdeibiza.com
SUMMARY:Milla de Ibiza 2026: 43ª edición de la histórica carrera en la isla
DESCRIPTION:La 43ª edición de la Milla Urbana Isla de Ibiza se celebrará en el puerto de Sant Antoni\, consolidándose como una de las pruebas más emblemáticas y veteranas del atletismo en España. \n\n\n\n\nEl evento incluye la tradicional carrera de una milla\, así como una prueba 5K en categoría masculina y femenina absoluta\, ampliando la participación a corredores de distintos niveles. \n\nLa competición rinde homenaje a grandes figuras del atletismo con los trofeos Mariano Haro y Carmen Valero\, y mantiene su esencia como cita deportiva de referencia en la isla. \nLas inscripciones son gratuitas durante todo el mes de abril y pueden realizarse a través de la web www.elitechip.net. \n\n\n\n\n\nTambién se ofrece información sobre paquetes de viaje y alojamiento para grupos. \n\n\n\n\nUna jornada deportiva que combina tradición\, participación popular y alto nivel competitivo en un entorno único como el paseo marítimo de Sant Antoni.
URL:https://lavozdeibiza.com/event/milla-de-ibiza-2026-43a-edicion-de-la-historica-carrera-en-la-isla/
LOCATION:Sant Antoni de Portmany\, Sant Antoni de Portmany\, Islas Baleares\, Spain
CATEGORIES:BIENESTAR Y DEPORTE
ATTACH;FMTTYPE=image/jpeg:https://lavozdeibiza.com/wp-content/uploads/2026/04/Poster-Milla-26-3.jpg
END:VEVENT
BEGIN:VEVENT
DTSTART;TZID=Europe/Madrid:20261002T170000
DTEND;TZID=Europe/Madrid:20261002T170000
DTSTAMP:20260422T040332
CREATED:20260316T153734Z
LAST-MODIFIED:20260316T153734Z
UID:10023176-1790960400-1790960400@lavozdeibiza.com
SUMMARY:Sonorama Ribera Goes to Ibiza 2026 regresa a Cala de Bou con música en vivo
DESCRIPTION:El festival Sonorama Ribera Goes to Ibiza regresa a Cala de Bou\, consolidándose como una de las citas musicales que despiden el verano en la isla. Esta edición reunirá conciertos en directo\, gastronomía y el ambiente festivo característico del festival nacido en Aranda de Duero\, trasladando su espíritu indie al Mediterráneo.  \n\n\n\n\nLa programación se repartirá entre el Auditori Caló de s’Oli y el recinto Venice Bay\, con un cartel que incluye artistas como Ginebras\, Marlena\, Tu Otra Bonita\, Anabel Lee\, Kitai o Comandante Twin\, entre otros nombres del panorama musical español.  \n\nAdemás de una post party\, el último día de festival\, ofreciendo un plan perfecto para disfrutar de música en directo junto al mar y cerrar la temporada festivalera en Ibiza.  \nMás información en Sonorama Ribera Goes to Ibiza vuelve con una nueva edición en Cala de Bou
URL:https://lavozdeibiza.com/event/sonorama-ribera-goes-to-ibiza-2026-regresa-a-cala-de-bou-con-musica-en-vivo/2026-10-02/
LOCATION:Sant Antoni de Portmany\, Sant Antoni de Portmany\, Islas Baleares\, Spain
CATEGORIES:OCIO
ATTACH;FMTTYPE=image/png:https://lavozdeibiza.com/wp-content/uploads/2025/05/Publico-Sonorama-Goes-to-Ibiza-Foto-Joan-F.-Ribas.png
END:VEVENT
END:VCALENDAR