BEGIN:VCALENDAR
VERSION:2.0
PRODID:-//La Voz De Ibiza - ECPv6.15.20//NONSGML v1.0//EN
CALSCALE:GREGORIAN
METHOD:PUBLISH
X-ORIGINAL-URL:https://lavozdeibiza.com
X-WR-CALDESC:Eventos para La Voz De Ibiza
REFRESH-INTERVAL;VALUE=DURATION:PT1H
X-Robots-Tag:noindex
X-PUBLISHED-TTL:PT1H
BEGIN:VTIMEZONE
TZID:Europe/Madrid
BEGIN:DAYLIGHT
TZOFFSETFROM:+0100
TZOFFSETTO:+0200
TZNAME:CEST
DTSTART:20250330T010000
END:DAYLIGHT
BEGIN:STANDARD
TZOFFSETFROM:+0200
TZOFFSETTO:+0100
TZNAME:CET
DTSTART:20251026T010000
END:STANDARD
BEGIN:DAYLIGHT
TZOFFSETFROM:+0100
TZOFFSETTO:+0200
TZNAME:CEST
DTSTART:20260329T010000
END:DAYLIGHT
BEGIN:STANDARD
TZOFFSETFROM:+0200
TZOFFSETTO:+0100
TZNAME:CET
DTSTART:20261025T010000
END:STANDARD
BEGIN:DAYLIGHT
TZOFFSETFROM:+0100
TZOFFSETTO:+0200
TZNAME:CEST
DTSTART:20270328T010000
END:DAYLIGHT
BEGIN:STANDARD
TZOFFSETFROM:+0200
TZOFFSETTO:+0100
TZNAME:CET
DTSTART:20271031T010000
END:STANDARD
END:VTIMEZONE
BEGIN:VEVENT
DTSTART;TZID=Europe/Madrid:20260425T120000
DTEND;TZID=Europe/Madrid:20260425T210000
DTSTAMP:20260422T040332
CREATED:20260416T113938Z
LAST-MODIFIED:20260416T113938Z
UID:10026272-1777118400-1777150800@lavozdeibiza.com
SUMMARY:Fira Rural de Fruitera 2026 en Santa Gertrudis: programa completo con actividades\, talleres y gastronomía
DESCRIPTION:La Fira Rural de Fruitera regresa a Santa Gertrudis con un completo programa dedicado a las tradiciones del campo ibicenco\, el producto local y las razas autóctonas. \n\n\n\n\nEsta segunda edición reunirá cerca de 70 puestos de artesanía\, productos de proximidad y maquinaria agrícola\, además de exposiciones y actividades culturales. \n\nEl sábado 25 de abril\, la feria se inaugura a las 12:00 horas\, seguida de una cercavila y ballada tradicional. Durante la jornada habrá campeonato de tirada de bitlles\, talleres infantiles\, un taller de elaboración de pan y una comida popular de paella a las 14:00 horas. La jornada culmina con el concierto de Arredefolk a las 21:00 horas. \nEl domingo 26 de abril\, la actividad comienza a las 11:00 horas con la segunda jornada de la feria y el campeonato de bitlles\, junto a juegos infantiles. A lo largo del día se celebrarán talleres de pan y orelletes\, actividades infantiles\, una ballada popular abierta a todas las colles de Ibiza a las 12:30 horas y una comida popular de frita de porc a las 14:00 horas. Por la tarde habrá xacota pagesa\, la final del campeonato y\, como cierre\, una representación teatral a las 17:30 horas. \n\n\n\n\n\nEntre los principales atractivos destacan las muestras de animales de razas autóctonas\, la exposición de maquinaria agrícola antigua\, las actividades tradicionales y las novedades como los talleres participativos y el teatro popular.
URL:https://lavozdeibiza.com/event/fira-rural-de-fruitera-2026-en-santa-gertrudis-programa-completo-con-actividades-talleres-y-gastronomia/2026-04-25/
LOCATION:Santa Eulària des Riu\, Santa Eulària des Riu\, Islas Baleares\, Spain
CATEGORIES:CULTURA Y SOCIEDAD
ATTACH;FMTTYPE=image/jpeg:https://lavozdeibiza.com/wp-content/uploads/2026/04/Fira-Rural.jpg
END:VEVENT
BEGIN:VEVENT
DTSTART;TZID=Europe/Madrid:20260502T163000
DTEND;TZID=Europe/Madrid:20260502T233000
DTSTAMP:20260422T040332
CREATED:20260416T121511Z
LAST-MODIFIED:20260416T121511Z
UID:10026276-1777739400-1777764600@lavozdeibiza.com
SUMMARY:Concierto de Funambulista y la Fira de Maig: el gran sábado de las fiestas
DESCRIPTION:Las Festes de Maig de Santa Eulària viven uno de sus días más intensos con la celebración de la Fira de Maig y el esperado concierto de Funambulista. \n\n\n\n\nUna jornada que combina tradición\, música en directo y ambiente festivo en el corazón del municipio. \n\nEl programa incluye la inauguración de exposiciones de coches y motos clásicas\, la apertura de la feria y actuaciones musicales. \nEl gran protagonista será el concierto de Funambulista a las 21:00 h en la plaza de España\, seguido de actividades festivas como DJ y correfoc. \n\n\n\n\n\nPrograma:\n16:30–20:00 h: Exposición de flores y plantas (Teatro España) \n\n\n\n\n17:00 h: Inauguración de exposiciones de motos y coches clásicos \n\n\n\n\n18:30 h: Inauguración de la Fira de Maig \n20:00 h: Concierto de Ibossim Flamenco \n21:00 h: Concierto de Funambulista (Plaza de España) \n23:00 h: Correpoble con DJ Vázquez \n00:00 h: Correfoc con Es Mals Esperits
URL:https://lavozdeibiza.com/event/concierto-de-funambulista-y-la-fira-de-maig-el-gran-sabado-de-las-fiestas/
LOCATION:Santa Eulària des Riu\, Santa Eulària des Riu\, Islas Baleares\, Spain
CATEGORIES:CULTURA Y SOCIEDAD,EVENTOS FAMILIARES
ATTACH;FMTTYPE=image/jpeg:https://lavozdeibiza.com/wp-content/uploads/2026/04/Fiestas-de-Mayo.jpg
END:VEVENT
BEGIN:VEVENT
DTSTART;TZID=Europe/Madrid:20260503T080000
DTEND;TZID=Europe/Madrid:20260503T200000
DTSTAMP:20260422T040332
CREATED:20260416T122017Z
LAST-MODIFIED:20260416T122017Z
UID:10026277-1777795200-1777838400@lavozdeibiza.com
SUMMARY:Primer Domingo de Mayo en Santa Eulària: tradición\, desfiles y cultura ibicenca
DESCRIPTION:El Primer Domingo de Mayo es el día más emblemático de las Festes de Maig de Santa Eulària\, declarado fiesta de interés cultural. Es la jornada clave para vivir la tradición ibicenca en su máxima expresión. \n\n\n\n\nEl día arranca con el repique de campanas y continúa con la misa solemne en el Puig de Missa. A las 12:00 h tiene lugar el gran desfile con carros\, caballos\, podencos ibicencos\, coches y motos antiguas\, acompañado de música tradicional. \n\nDurante toda la jornada se celebran exposiciones\, exhibiciones folclóricas y actividades populares. Un evento imprescindible que reúne tradición\, cultura y participación popular en un ambiente único. \nPrograma:\n08:00 h: Repique de campanas \n\n\n\n\n\n09:00 h: Exposición monográfica del podenco ibicenco (Plaza de España) \n\n\n\n\n10:00–20:00 h: Exposición de flores y plantas (Teatro España) \n\n\n\n\n10:00 h: Traslado de la imagen de la Virgen del Rosario al Puig de Missa \n11:00 h: Misa solemne y baile payés \n11:00–19:00 h: Muestra de coches personalizados \n12:00 h: Desfile de carros\, caballos\, podencos\, coches y motos antiguas \n13:30 h: Exhibición de bailes folclóricos y ball pagès \n17:30 h: Disco Summer Dream (Playa de Santa Eulària) \n20:00 h: Clausura de exposiciones y feria
URL:https://lavozdeibiza.com/event/primer-domingo-de-mayo-en-santa-eularia-tradicion-desfiles-y-cultura-ibicenca/
LOCATION:Santa Eulària des Riu\, Santa Eulària des Riu\, Islas Baleares\, Spain
CATEGORIES:CULTURA Y SOCIEDAD
ATTACH;FMTTYPE=image/jpeg:https://lavozdeibiza.com/wp-content/uploads/2026/04/Fiestas-de-Mayo.jpg
END:VEVENT
BEGIN:VEVENT
DTSTART;TZID=Europe/Madrid:20260505T170000
DTEND;TZID=Europe/Madrid:20260505T170000
DTSTAMP:20260422T040332
CREATED:20260416T151624Z
LAST-MODIFIED:20260416T151624Z
UID:10026343-1778000400-1778000400@lavozdeibiza.com
SUMMARY:Festes de Maig en Santa Eulària: agenda con teatro\, rutas y actividades familiares
DESCRIPTION: Las Festes de Maig continúan en Santa Eulària con una programación variada que combina cultura\, ocio y actividades para todas las edades. \n\n\n\n\nDurante estos días\, el municipio ofrece propuestas diarias que van desde teatro y música hasta rutas saludables y actividades infantiles. \n\nPrograma por días:\nMartes 5 de mayo \n17:00 h: Cuentacuentos “Tráete tus orejas” (Centro Cultural de Jesús) \n\n\n\n\n\n18:00 h: Exposición de obras de la colección municipal (Sala Sant Jaume 72\, hasta el 23 de mayo) \n\n\n\n\n20:00 h: Tertulia del club de lectura (Biblioteca municipal) \n\n\n\n\nMiércoles 6 de mayo \n09:00 h: Rutas saludables (Centro de Salud) \n20:30 h: Torneo de backgammon (Bar Can Poll) \nJueves 7 de mayo \n17:00 h: “Un mundo de cuentos” (Biblioteca municipal) \n19:00 h: Concierto del IES Xarc (Plaza de España) \n20:30 h: Final del torneo de backgammon (Can Poll) \nViernes 8 de mayo \n09:00 h: Rutas saludables (Centro de Salud) \n11:30 h: Actividad para mayores “Memoria floral” \n17:00 h: Romería a la Creu d’en Ribes (salida desde Plaza de España) \n18:30 h: Charla “Plan mayor seguridad” (Club de Majores) \nSábado 9 de mayo \n09:00–15:00 h: Pesca submarina (pesaje desde las 17:00 h) \n10:30 h: Ruta guiada en Can Planetes \n12:30 h: Concierto del conjunto de metales (Can Planetes) \n20:00 h: Teatro “Yo no he sido!!” (Teatro España) \nDomingo 10 de mayo \n10:30 h y 12:00 h: Teatro musical infantil “Tararea” (Teatro España) \n19:00 h: Romería con el Coro Rociero (desde capilla de Lourdes)
URL:https://lavozdeibiza.com/event/festes-de-maig-en-santa-eularia-agenda-con-teatro-rutas-y-actividades-familiares/2026-05-05/
LOCATION:Santa Eulària des Riu\, Santa Eulària des Riu\, Islas Baleares\, Spain
CATEGORIES:BIENESTAR Y DEPORTE,CULTURA Y SOCIEDAD,EVENTOS FAMILIARES,MÚSICA
ATTACH;FMTTYPE=image/jpeg:https://lavozdeibiza.com/wp-content/uploads/2026/04/Fiestas-de-Mayo.jpg
END:VEVENT
BEGIN:VEVENT
DTSTART;VALUE=DATE:20260522
DTEND;VALUE=DATE:20260523
DTSTAMP:20260422T040332
CREATED:20260416T124246Z
LAST-MODIFIED:20260416T124246Z
UID:10026278-1779408000-1779494399@lavozdeibiza.com
SUMMARY:Festival Barruguet en Santa Eulària: teatro familiar dentro de las Festes de Maig
DESCRIPTION:Las Festes de Maig de Santa Eulària acogen el Festival Barruguet\, una de las citas culturales más destacadas del mes. Durante varios días\, el municipio se convierte en un referente del teatro familiar con espectáculos dirigidos a todos los públicos. \n\n\n\n\nEl festival combina programación educativa y abierta al público general. Su propuesta apuesta por el teatro accesible\, creativo e inclusivo\, con compañías procedentes de diferentes comunidades. \n\nPrograma:\nDel 19 al 22 de mayo \nFunciones escolares dirigidas a alumnado de Infantil y Primaria \n\n\n\n\n\nEspacios: Santa Eulària\, es Puig d’en Valls y Jesús \n\n\n\n\nDel 22 al 24 de mayo \n\n\n\n\nEspectáculos de teatro familiar abiertos al público \nActividades paralelas \nJornadas y encuentros profesionales vinculados al sector escénico \nEl Festival Barruguet destaca por su combinación de funciones educativas y programación abierta\, ofreciendo varios pases diarios y convirtiéndose en una de las propuestas culturales más completas de las Festes de Maig.
URL:https://lavozdeibiza.com/event/festival-barruguet-en-santa-eularia-teatro-familiar-dentro-de-las-festes-de-maig/2026-05-22/
LOCATION:Santa Eulària des Riu\, Santa Eulària des Riu\, Islas Baleares\, Spain
CATEGORIES:CULTURA Y SOCIEDAD,EVENTOS FAMILIARES
ATTACH;FMTTYPE=image/jpeg:https://lavozdeibiza.com/wp-content/uploads/2025/05/0012_AA-CLOWNOMADAS_Adria-Corella-1-Dia-del-Circ-Breda-768x420-1.jpg
END:VEVENT
BEGIN:VEVENT
DTSTART;TZID=Europe/Madrid:20260529T190000
DTEND;TZID=Europe/Madrid:20260529T190000
DTSTAMP:20260422T040332
CREATED:20260416T131017Z
LAST-MODIFIED:20260416T131017Z
UID:10026281-1780081200-1780081200@lavozdeibiza.com
SUMMARY:Cierre de las Festes de Maig en Santa Eulària: moda\, flamenco y música
DESCRIPTION:Las Festes de Maig de Santa Eulària encaran su recta final con un fin de semana cargado de actividades culturales. El cierre del programa reúne moda\, espectáculos y música en directo. \n\n\n\n\nEl 29 de mayo destaca el desfile #Feimmoda en la plaza de España. El 30 de mayo\, el Teatro España acoge el espectáculo flamenco “Miradas”. El broche final llega el 31 de mayo con el concierto del Coro de Santa Eulària en el Palacio de Congresos a las 19:30 h. \n\nUn final de fiestas que mantiene el nivel cultural y festivo del programa. Una despedida a la altura de un mes lleno de actividades. \nPrograma:\n29 mayo: Desfile #Feimmoda (19:00 h\, Plaza de España) \n\n\n\n\n\n30 mayo: Espectáculo flamenco “Miradas” (20:00 h\, Teatro España) \n\n\n\n\n31 mayo: Concierto del Coro de Santa Eulària (19:30 h\, Palacio de Congresos)
URL:https://lavozdeibiza.com/event/cierre-de-las-festes-de-maig-en-santa-eularia-moda-flamenco-y-musica/2026-05-29/
LOCATION:Santa Eulària des Riu\, Santa Eulària des Riu\, Islas Baleares\, Spain
CATEGORIES:CULTURA Y SOCIEDAD,MÚSICA
ATTACH;FMTTYPE=image/jpeg:https://lavozdeibiza.com/wp-content/uploads/2026/04/Fiestas-de-Mayo.jpg
END:VEVENT
END:VCALENDAR